BEGIN:VCALENDAR
VERSION:2.0
PRODID:-//Living Hope Christian Church - ECPv6.15.17.1//NONSGML v1.0//EN
CALSCALE:GREGORIAN
METHOD:PUBLISH
X-ORIGINAL-URL:https://lhcc.info
X-WR-CALDESC:Events for Living Hope Christian Church
REFRESH-INTERVAL;VALUE=DURATION:PT1H
X-Robots-Tag:noindex
X-PUBLISHED-TTL:PT1H
BEGIN:VTIMEZONE
TZID:America/New_York
BEGIN:DAYLIGHT
TZOFFSETFROM:-0500
TZOFFSETTO:-0400
TZNAME:EDT
DTSTART:20240310T070000
END:DAYLIGHT
BEGIN:STANDARD
TZOFFSETFROM:-0400
TZOFFSETTO:-0500
TZNAME:EST
DTSTART:20241103T060000
END:STANDARD
BEGIN:DAYLIGHT
TZOFFSETFROM:-0500
TZOFFSETTO:-0400
TZNAME:EDT
DTSTART:20250309T070000
END:DAYLIGHT
BEGIN:STANDARD
TZOFFSETFROM:-0400
TZOFFSETTO:-0500
TZNAME:EST
DTSTART:20251102T060000
END:STANDARD
BEGIN:DAYLIGHT
TZOFFSETFROM:-0500
TZOFFSETTO:-0400
TZNAME:EDT
DTSTART:20260308T070000
END:DAYLIGHT
BEGIN:STANDARD
TZOFFSETFROM:-0400
TZOFFSETTO:-0500
TZNAME:EST
DTSTART:20261101T060000
END:STANDARD
END:VTIMEZONE
BEGIN:VEVENT
DTSTART;TZID=America/New_York:20250418T190000
DTEND;TZID=America/New_York:20250418T200000
DTSTAMP:20260424T002241
CREATED:20250318T200111Z
LAST-MODIFIED:20250318T200111Z
UID:10005986-1745002800-1745006400@lhcc.info
SUMMARY:EMF Good Friday Service
DESCRIPTION:Join the EMF Churches as we gather together to reflect on the ultimate sacrifice Christ made to save us from our sins during our Good Friday service. Friday\, April 18th @7pm. This year Stony Lane Church in Nortrh Kingstown will be our host church.
URL:https://lhcc.info/event/emf-good-friday-service-4/
LOCATION:Stony Lane Church\, 921 Old Baptist Road\, North Kingstown\, RI\, 02852\, United States
CATEGORIES:Church Events
ATTACH;FMTTYPE=image/png:https://lhcc.info/wp-content/uploads/2025/03/Good-Friday.png
GEO:41.5922923;-71.4916038
X-APPLE-STRUCTURED-LOCATION;VALUE=URI;X-ADDRESS=Stony Lane Church 921 Old Baptist Road North Kingstown RI 02852 United States;X-APPLE-RADIUS=500;X-TITLE=921 Old Baptist Road:geo:-71.4916038,41.5922923
END:VEVENT
END:VCALENDAR