BEGIN:VCALENDAR
VERSION:2.0
PRODID:-//Living Hope Christian Church - ECPv6.15.17.1//NONSGML v1.0//EN
CALSCALE:GREGORIAN
METHOD:PUBLISH
X-WR-CALNAME:Living Hope Christian Church
X-ORIGINAL-URL:https://lhcc.info
X-WR-CALDESC:Events for Living Hope Christian Church
REFRESH-INTERVAL;VALUE=DURATION:PT1H
X-Robots-Tag:noindex
X-PUBLISHED-TTL:PT1H
BEGIN:VTIMEZONE
TZID:America/New_York
BEGIN:DAYLIGHT
TZOFFSETFROM:-0500
TZOFFSETTO:-0400
TZNAME:EDT
DTSTART:20150308T070000
END:DAYLIGHT
BEGIN:STANDARD
TZOFFSETFROM:-0400
TZOFFSETTO:-0500
TZNAME:EST
DTSTART:20151101T060000
END:STANDARD
BEGIN:DAYLIGHT
TZOFFSETFROM:-0500
TZOFFSETTO:-0400
TZNAME:EDT
DTSTART:20160313T070000
END:DAYLIGHT
BEGIN:STANDARD
TZOFFSETFROM:-0400
TZOFFSETTO:-0500
TZNAME:EST
DTSTART:20161106T060000
END:STANDARD
BEGIN:DAYLIGHT
TZOFFSETFROM:-0500
TZOFFSETTO:-0400
TZNAME:EDT
DTSTART:20170312T070000
END:DAYLIGHT
BEGIN:STANDARD
TZOFFSETFROM:-0400
TZOFFSETTO:-0500
TZNAME:EST
DTSTART:20171105T060000
END:STANDARD
BEGIN:DAYLIGHT
TZOFFSETFROM:-0500
TZOFFSETTO:-0400
TZNAME:EDT
DTSTART:20180311T070000
END:DAYLIGHT
BEGIN:STANDARD
TZOFFSETFROM:-0400
TZOFFSETTO:-0500
TZNAME:EST
DTSTART:20181104T060000
END:STANDARD
END:VTIMEZONE
BEGIN:VEVENT
DTSTART;TZID=America/New_York:20171006T170000
DTEND;TZID=America/New_York:20171007T170000
DTSTAMP:20260423T150844
CREATED:20170918T131335Z
LAST-MODIFIED:20170918T131745Z
UID:10005344-1507309200-1507395600@lhcc.info
SUMMARY:Men's Retreat 2017
DESCRIPTION:Our annual Men’s Retreat will be Friday and Saturday\, October 6th and 7th\, at the beautiful Wonderland Conference Center in Sharon\, MA. The cost is $125 and includes all lodging and meals. Sign up at the church and see Alex MacLeod!
URL:https://lhcc.info/event/mens-retreat-2017/
LOCATION:Salvation Army Wonderland Conference Center\, 10 Capen Hill Road\, Sharon\, MA\, 02067\, United States
CATEGORIES:Men's Ministry
GEO:42.0966001;-71.1688816
X-APPLE-STRUCTURED-LOCATION;VALUE=URI;X-ADDRESS=Salvation Army Wonderland Conference Center 10 Capen Hill Road Sharon MA 02067 United States;X-APPLE-RADIUS=500;X-TITLE=10 Capen Hill Road:geo:-71.1688816,42.0966001
END:VEVENT
BEGIN:VEVENT
DTSTART;TZID=America/New_York:20161021T160000
DTEND;TZID=America/New_York:20161022T160000
DTSTAMP:20260423T150844
CREATED:20160830T200102Z
LAST-MODIFIED:20160910T024237Z
UID:10000107-1477065600-1477152000@lhcc.info
SUMMARY:Men's Retreat
DESCRIPTION:Our annual Men’s Retreat is a great opportunity to grow closer to God and to one another. The theme will focus on our passing on our faith to each other and to future generations. \nWe’ll once again enjoy the beautiful accommodations and setting of the Salvation Army Wonderland Conference Center in Sharon\, MA. The cost will be $125 and includes all meals and accommodations. Please don’t let finances stand in the way of your ability to go. \nPaul Radion will be organizing our games again!
URL:https://lhcc.info/event/mens-retreat/
LOCATION:Salvation Army Wonderland Conference Center\, 10 Capen Hill Road\, Sharon\, MA\, 02067\, United States
CATEGORIES:Men's Ministry
ATTACH;FMTTYPE=image/jpeg:https://lhcc.info/wp-content/uploads/2016/08/christian-mens-retreat-living-hope-ri-church.jpg
GEO:42.0966001;-71.1688816
X-APPLE-STRUCTURED-LOCATION;VALUE=URI;X-ADDRESS=Salvation Army Wonderland Conference Center 10 Capen Hill Road Sharon MA 02067 United States;X-APPLE-RADIUS=500;X-TITLE=10 Capen Hill Road:geo:-71.1688816,42.0966001
END:VEVENT
END:VCALENDAR