BEGIN:VCALENDAR
VERSION:2.0
PRODID:-//Living Hope Christian Church - ECPv6.15.17.1//NONSGML v1.0//EN
CALSCALE:GREGORIAN
METHOD:PUBLISH
X-ORIGINAL-URL:https://lhcc.info
X-WR-CALDESC:Events for Living Hope Christian Church
REFRESH-INTERVAL;VALUE=DURATION:PT1H
X-Robots-Tag:noindex
X-PUBLISHED-TTL:PT1H
BEGIN:VTIMEZONE
TZID:America/New_York
BEGIN:DAYLIGHT
TZOFFSETFROM:-0500
TZOFFSETTO:-0400
TZNAME:EDT
DTSTART:20160313T070000
END:DAYLIGHT
BEGIN:STANDARD
TZOFFSETFROM:-0400
TZOFFSETTO:-0500
TZNAME:EST
DTSTART:20161106T060000
END:STANDARD
BEGIN:DAYLIGHT
TZOFFSETFROM:-0500
TZOFFSETTO:-0400
TZNAME:EDT
DTSTART:20170312T070000
END:DAYLIGHT
BEGIN:STANDARD
TZOFFSETFROM:-0400
TZOFFSETTO:-0500
TZNAME:EST
DTSTART:20171105T060000
END:STANDARD
BEGIN:DAYLIGHT
TZOFFSETFROM:-0500
TZOFFSETTO:-0400
TZNAME:EDT
DTSTART:20180311T070000
END:DAYLIGHT
BEGIN:STANDARD
TZOFFSETFROM:-0400
TZOFFSETTO:-0500
TZNAME:EST
DTSTART:20181104T060000
END:STANDARD
END:VTIMEZONE
BEGIN:VEVENT
DTSTART;VALUE=DATE:20171117
DTEND;VALUE=DATE:20171119
DTSTAMP:20260423T232532
CREATED:20171111T154712Z
LAST-MODIFIED:20171111T154712Z
UID:10005431-1510876800-1511049599@lhcc.info
SUMMARY:Perryville Conference with Tim Challies
DESCRIPTION:Perryville Conference\nNovember 17-18\, 2017\n2017 Speaker: Tim Challies \nPlease see flyer on the table at Living Hope Christian Church for details about registering for the conference.  \nThe 2017 “Perryville Conference”  will take place on Friday & Saturday\,  November 17-18\,  with Tim Challies\, elder at Grace Fellowship Church in Toronto\, Ontario. Tim is a book reviewer\, co-founder of Cruciform Press\, and author of five books: The Discipline of Spiritual Discernment  (Crossway\, 2007);  Sexual Detox: A Guide For Guys Who Are Sick of Porn  (Cruciform Press\, 2010); The Next Story: Life and Faith After the Digital Explosion  (Zondervan\, 2011); Do More Better: A Practical Guide to Productivity (Cruciform Press\, 2015); Visual Theology: Seeing and Understanding the Truth About God  (Zondervan\, 2016). Since 2002 Tim has blogged at “Informing the Reformed\,”  http://www.challies.com/
URL:https://lhcc.info/event/perryville-conference-tim-challies/
LOCATION:Perryville Bible Church\, 220 Moonstone Beach Road\, Wakefield\, RI\, 02879\, United States
CATEGORIES:Community Events
GEO:41.3865102;-71.5758803
X-APPLE-STRUCTURED-LOCATION;VALUE=URI;X-ADDRESS=Perryville Bible Church 220 Moonstone Beach Road Wakefield RI 02879 United States;X-APPLE-RADIUS=500;X-TITLE=220 Moonstone Beach Road:geo:-71.5758803,41.3865102
END:VEVENT
END:VCALENDAR