BEGIN:VCALENDAR
VERSION:2.0
PRODID:-//Living Hope Christian Church - ECPv6.15.17.1//NONSGML v1.0//EN
CALSCALE:GREGORIAN
METHOD:PUBLISH
X-ORIGINAL-URL:https://lhcc.info
X-WR-CALDESC:Events for Living Hope Christian Church
REFRESH-INTERVAL;VALUE=DURATION:PT1H
X-Robots-Tag:noindex
X-PUBLISHED-TTL:PT1H
BEGIN:VTIMEZONE
TZID:America/New_York
BEGIN:DAYLIGHT
TZOFFSETFROM:-0500
TZOFFSETTO:-0400
TZNAME:EDT
DTSTART:20200308T070000
END:DAYLIGHT
BEGIN:STANDARD
TZOFFSETFROM:-0400
TZOFFSETTO:-0500
TZNAME:EST
DTSTART:20201101T060000
END:STANDARD
BEGIN:DAYLIGHT
TZOFFSETFROM:-0500
TZOFFSETTO:-0400
TZNAME:EDT
DTSTART:20210314T070000
END:DAYLIGHT
BEGIN:STANDARD
TZOFFSETFROM:-0400
TZOFFSETTO:-0500
TZNAME:EST
DTSTART:20211107T060000
END:STANDARD
BEGIN:DAYLIGHT
TZOFFSETFROM:-0500
TZOFFSETTO:-0400
TZNAME:EDT
DTSTART:20220313T070000
END:DAYLIGHT
BEGIN:STANDARD
TZOFFSETFROM:-0400
TZOFFSETTO:-0500
TZNAME:EST
DTSTART:20221106T060000
END:STANDARD
END:VTIMEZONE
BEGIN:VEVENT
DTSTART;TZID=America/New_York:20210601T191500
DTEND;TZID=America/New_York:20210601T203000
DTSTAMP:20260423T184440
CREATED:20170222T172809Z
LAST-MODIFIED:20210601T165221Z
UID:10004695-1622574900-1622579400@lhcc.info
SUMMARY:Women's Bible Study
DESCRIPTION:The Tuesday night Women’s Bible Study meets virtually each week at 7:15pm through this ZOOM LINK or by following the below invitation.  Our LHCC Women of Hope Facebook group\, a private group for women who call Living Hope their home\, contains the appropriate study questions for each week under the “files” section. Not a member of that private group? Contact Amy Brock! \nLiving Hope Christian Church is inviting you to a scheduled Zoom meeting. \nJoin Zoom Meeting\nhttps://us02web.zoom.us/j/84559330489?pwd=VVJIUjd1MmxWT0lFSnhYTVRLSnlkUT09 \nMeeting ID: 845 5933 0489\nPasscode: 546245\nOne tap mobile\n+19292056099\,\,84559330489#\,\,\,\,*546245# US (New York)\n+13017158592\,\,84559330489#\,\,\,\,*546245# US (Washington D.C) \nDial by your location\n+1 929 205 6099 US (New York)\n+1 301 715 8592 US (Washington D.C)\n+1 312 626 6799 US (Chicago)\n+1 669 900 6833 US (San Jose)\n+1 253 215 8782 US (Tacoma)\n+1 346 248 7799 US (Houston)\nMeeting ID: 845 5933 0489\nPasscode: 546245\nFind your local number: https://us02web.zoom.us/u/kqC4nKBE3
URL:https://lhcc.info/event/womens-bible-study-2-2019-01-08-2021-01-19-2021-02-16-2021-05-11/2021-06-01/
LOCATION:Online Event\, RI\, United States
CATEGORIES:Bible Studies,Women's Ministry
ATTACH;FMTTYPE=image/jpeg:https://lhcc.info/wp-content/uploads/2015/01/Womens-North-Kingstown-Bible-Study.jpg
GEO:41.5800945;-71.4774291
END:VEVENT
BEGIN:VEVENT
DTSTART;TZID=America/New_York:20210511T191500
DTEND;TZID=America/New_York:20210511T203000
DTSTAMP:20260423T184440
CREATED:20170222T172809Z
LAST-MODIFIED:20210601T165221Z
UID:10004694-1620760500-1620765000@lhcc.info
SUMMARY:Women's Bible Study
DESCRIPTION:The Tuesday night Women’s Bible Study meets virtually each week at 7:15pm through this ZOOM LINK or by following the below invitation.  Our LHCC Women of Hope Facebook group\, a private group for women who call Living Hope their home\, contains the appropriate study questions for each week under the “files” section. Not a member of that private group? Contact Amy Brock! \nLiving Hope Christian Church is inviting you to a scheduled Zoom meeting. \nJoin Zoom Meeting\nhttps://us02web.zoom.us/j/84559330489?pwd=VVJIUjd1MmxWT0lFSnhYTVRLSnlkUT09 \nMeeting ID: 845 5933 0489\nPasscode: 546245\nOne tap mobile\n+19292056099\,\,84559330489#\,\,\,\,*546245# US (New York)\n+13017158592\,\,84559330489#\,\,\,\,*546245# US (Washington D.C) \nDial by your location\n+1 929 205 6099 US (New York)\n+1 301 715 8592 US (Washington D.C)\n+1 312 626 6799 US (Chicago)\n+1 669 900 6833 US (San Jose)\n+1 253 215 8782 US (Tacoma)\n+1 346 248 7799 US (Houston)\nMeeting ID: 845 5933 0489\nPasscode: 546245\nFind your local number: https://us02web.zoom.us/u/kqC4nKBE3
URL:https://lhcc.info/event/womens-bible-study-2-2019-01-08-2021-01-19-2021-02-16-2021-05-11/2021-05-11/
LOCATION:Online Event\, RI\, United States
CATEGORIES:Bible Studies,Women's Ministry
ATTACH;FMTTYPE=image/jpeg:https://lhcc.info/wp-content/uploads/2015/01/Womens-North-Kingstown-Bible-Study.jpg
GEO:41.5800945;-71.4774291
END:VEVENT
BEGIN:VEVENT
DTSTART;TZID=America/New_York:20210223T191500
DTEND;TZID=America/New_York:20210223T203000
DTSTAMP:20260423T184440
CREATED:20170222T172809Z
LAST-MODIFIED:20210216T164200Z
UID:10004692-1614107700-1614112200@lhcc.info
SUMMARY:Women's Bible Study
DESCRIPTION:The Tuesday night Women’s Bible Study meets virtually each week at 7:15pm through this ZOOM LINK or by following the below invitation.  Our LHCC Women of Hope Facebook group\, a private group for women who call Living Hope their home\, contains the appropriate study questions for each week under the “files” section. Not a member of that private group? Contact Amy Brock! \nLiving Hope Christian Church is inviting you to a scheduled Zoom meeting. \nJoin Zoom Meeting\nhttps://us02web.zoom.us/j/84559330489?pwd=VVJIUjd1MmxWT0lFSnhYTVRLSnlkUT09 \nMeeting ID: 845 5933 0489\nPasscode: 546245\nOne tap mobile\n+19292056099\,\,84559330489#\,\,\,\,*546245# US (New York)\n+13017158592\,\,84559330489#\,\,\,\,*546245# US (Washington D.C) \nDial by your location\n+1 929 205 6099 US (New York)\n+1 301 715 8592 US (Washington D.C)\n+1 312 626 6799 US (Chicago)\n+1 669 900 6833 US (San Jose)\n+1 253 215 8782 US (Tacoma)\n+1 346 248 7799 US (Houston)\nMeeting ID: 845 5933 0489\nPasscode: 546245\nFind your local number: https://us02web.zoom.us/u/kqC4nKBE3
URL:https://lhcc.info/event/womens-bible-study-2-2019-01-08-2021-01-19-2021-02-16-2021-02-23/
LOCATION:Online Event\, RI\, United States
CATEGORIES:Bible Studies,Women's Ministry
ATTACH;FMTTYPE=image/jpeg:https://lhcc.info/wp-content/uploads/2015/01/Womens-North-Kingstown-Bible-Study.jpg
GEO:41.5800945;-71.4774291
END:VEVENT
END:VCALENDAR