BEGIN:VCALENDAR
VERSION:2.0
PRODID:-//Living Hope Christian Church - ECPv6.15.17.1//NONSGML v1.0//EN
CALSCALE:GREGORIAN
METHOD:PUBLISH
X-WR-CALNAME:Living Hope Christian Church
X-ORIGINAL-URL:https://lhcc.info
X-WR-CALDESC:Events for Living Hope Christian Church
REFRESH-INTERVAL;VALUE=DURATION:PT1H
X-Robots-Tag:noindex
X-PUBLISHED-TTL:PT1H
BEGIN:VTIMEZONE
TZID:America/New_York
BEGIN:DAYLIGHT
TZOFFSETFROM:-0500
TZOFFSETTO:-0400
TZNAME:EDT
DTSTART:20250309T070000
END:DAYLIGHT
BEGIN:STANDARD
TZOFFSETFROM:-0400
TZOFFSETTO:-0500
TZNAME:EST
DTSTART:20251102T060000
END:STANDARD
BEGIN:DAYLIGHT
TZOFFSETFROM:-0500
TZOFFSETTO:-0400
TZNAME:EDT
DTSTART:20260308T070000
END:DAYLIGHT
BEGIN:STANDARD
TZOFFSETFROM:-0400
TZOFFSETTO:-0500
TZNAME:EST
DTSTART:20261101T060000
END:STANDARD
BEGIN:DAYLIGHT
TZOFFSETFROM:-0500
TZOFFSETTO:-0400
TZNAME:EDT
DTSTART:20270314T070000
END:DAYLIGHT
BEGIN:STANDARD
TZOFFSETFROM:-0400
TZOFFSETTO:-0500
TZNAME:EST
DTSTART:20271107T060000
END:STANDARD
END:VTIMEZONE
BEGIN:VEVENT
DTSTART;TZID=America/New_York:20260628T100000
DTEND;TZID=America/New_York:20260628T150000
DTSTAMP:20260423T191034
CREATED:20260423T174516Z
LAST-MODIFIED:20260423T175932Z
UID:10011650-1782640800-1782658800@lhcc.info
SUMMARY:2026 Summer Celebration
DESCRIPTION:Join us for a joyful day of community\, worship\, and summer fun! We’re having our 10am church service outside at the North Kingstown Bandstand. Stay after service for a FREE summer picnic packed with fun for all ages! We will have delicious food\, a bounce house for the kids\, crafts\, games\, music\, face painting\, and a even a corn hole tournament with cash prizes! This year we will be celebrating our country’s 250th anniversary as part of our event! It’s a perfect opportunity to connect with others\, relax\, and celebrate together! \nRemember everything is FREE so bring your family\, invite your friends\, and come be a part of a welcoming and uplifting day—we can’t wait to see you there! \n  \n*For church family members looking to help that day please Sign Up here.
URL:https://lhcc.info/event/2026-summer-celebration/
LOCATION:North Kingstown Town Beach\, 10 Beach Street\, North Kingstown\, RI\, 02852\, United States
CATEGORIES:Community Events
ATTACH;FMTTYPE=image/png:https://lhcc.info/wp-content/uploads/2026/04/2026-Summer-Celebration-1.png
GEO:41.565885;-71.443897
X-APPLE-STRUCTURED-LOCATION;VALUE=URI;X-ADDRESS=North Kingstown Town Beach 10 Beach Street North Kingstown RI 02852 United States;X-APPLE-RADIUS=500;X-TITLE=10 Beach Street:geo:-71.443897,41.565885
END:VEVENT
END:VCALENDAR