BEGIN:VCALENDAR
VERSION:2.0
PRODID:-//Living Hope Christian Church - ECPv6.15.17.1//NONSGML v1.0//EN
CALSCALE:GREGORIAN
METHOD:PUBLISH
X-ORIGINAL-URL:https://lhcc.info
X-WR-CALDESC:Events for Living Hope Christian Church
REFRESH-INTERVAL;VALUE=DURATION:PT1H
X-Robots-Tag:noindex
X-PUBLISHED-TTL:PT1H
BEGIN:VTIMEZONE
TZID:America/New_York
BEGIN:DAYLIGHT
TZOFFSETFROM:-0500
TZOFFSETTO:-0400
TZNAME:EDT
DTSTART:20160313T070000
END:DAYLIGHT
BEGIN:STANDARD
TZOFFSETFROM:-0400
TZOFFSETTO:-0500
TZNAME:EST
DTSTART:20161106T060000
END:STANDARD
BEGIN:DAYLIGHT
TZOFFSETFROM:-0500
TZOFFSETTO:-0400
TZNAME:EDT
DTSTART:20170312T070000
END:DAYLIGHT
BEGIN:STANDARD
TZOFFSETFROM:-0400
TZOFFSETTO:-0500
TZNAME:EST
DTSTART:20171105T060000
END:STANDARD
BEGIN:DAYLIGHT
TZOFFSETFROM:-0500
TZOFFSETTO:-0400
TZNAME:EDT
DTSTART:20180311T070000
END:DAYLIGHT
BEGIN:STANDARD
TZOFFSETFROM:-0400
TZOFFSETTO:-0500
TZNAME:EST
DTSTART:20181104T060000
END:STANDARD
END:VTIMEZONE
BEGIN:VEVENT
DTSTART;TZID=America/New_York:20170507T123000
DTEND;TZID=America/New_York:20170507T143000
DTSTAMP:20260423T234058
CREATED:20170501T055245Z
LAST-MODIFIED:20170501T055245Z
UID:10001254-1494160200-1494167400@lhcc.info
SUMMARY:July-Aug Missions Trip Meeting
DESCRIPTION:The 1st mandatory information/training meeting for our missions trip to West Virginia will be Sunday\, May 7th at 12:30 pm at New Hope Christian Church\, 1435 GAR Highway\, Swansea\, MA. Pastor Peter promises to end the worship service at 11:25 am to allow plenty of time to get there. If you’re sure you’ll be joining us\, please bring a $150 deposit/family. Not sure but want more info? You’re welcome to attend!
URL:https://lhcc.info/event/july-aug-missions-trip-meeting/
LOCATION:New Hope Christian Church\, 1435 GAR Highway\, Swansea\, MA\, United States
CATEGORIES:Missions Ministry
GEO:41.7540642;-71.2372503
X-APPLE-STRUCTURED-LOCATION;VALUE=URI;X-ADDRESS=New Hope Christian Church 1435 GAR Highway Swansea MA United States;X-APPLE-RADIUS=500;X-TITLE=1435 GAR Highway:geo:-71.2372503,41.7540642
END:VEVENT
END:VCALENDAR