BEGIN:VCALENDAR
VERSION:2.0
PRODID:-//Living Hope Christian Church - ECPv6.15.17.1//NONSGML v1.0//EN
CALSCALE:GREGORIAN
METHOD:PUBLISH
X-ORIGINAL-URL:https://lhcc.info
X-WR-CALDESC:Events for Living Hope Christian Church
REFRESH-INTERVAL;VALUE=DURATION:PT1H
X-Robots-Tag:noindex
X-PUBLISHED-TTL:PT1H
BEGIN:VTIMEZONE
TZID:America/New_York
BEGIN:DAYLIGHT
TZOFFSETFROM:-0500
TZOFFSETTO:-0400
TZNAME:EDT
DTSTART:20180311T070000
END:DAYLIGHT
BEGIN:STANDARD
TZOFFSETFROM:-0400
TZOFFSETTO:-0500
TZNAME:EST
DTSTART:20181104T060000
END:STANDARD
BEGIN:DAYLIGHT
TZOFFSETFROM:-0500
TZOFFSETTO:-0400
TZNAME:EDT
DTSTART:20190310T070000
END:DAYLIGHT
BEGIN:STANDARD
TZOFFSETFROM:-0400
TZOFFSETTO:-0500
TZNAME:EST
DTSTART:20191103T060000
END:STANDARD
BEGIN:DAYLIGHT
TZOFFSETFROM:-0500
TZOFFSETTO:-0400
TZNAME:EDT
DTSTART:20200308T070000
END:DAYLIGHT
BEGIN:STANDARD
TZOFFSETFROM:-0400
TZOFFSETTO:-0500
TZNAME:EST
DTSTART:20201101T060000
END:STANDARD
BEGIN:DAYLIGHT
TZOFFSETFROM:-0500
TZOFFSETTO:-0400
TZNAME:EDT
DTSTART:20210314T070000
END:DAYLIGHT
BEGIN:STANDARD
TZOFFSETFROM:-0400
TZOFFSETTO:-0500
TZNAME:EST
DTSTART:20211107T060000
END:STANDARD
BEGIN:DAYLIGHT
TZOFFSETFROM:-0500
TZOFFSETTO:-0400
TZNAME:EDT
DTSTART:20220313T070000
END:DAYLIGHT
BEGIN:STANDARD
TZOFFSETFROM:-0400
TZOFFSETTO:-0500
TZNAME:EST
DTSTART:20221106T060000
END:STANDARD
BEGIN:DAYLIGHT
TZOFFSETFROM:-0500
TZOFFSETTO:-0400
TZNAME:EDT
DTSTART:20230312T070000
END:DAYLIGHT
BEGIN:STANDARD
TZOFFSETFROM:-0400
TZOFFSETTO:-0500
TZNAME:EST
DTSTART:20231105T060000
END:STANDARD
BEGIN:DAYLIGHT
TZOFFSETFROM:-0500
TZOFFSETTO:-0400
TZNAME:EDT
DTSTART:20240310T070000
END:DAYLIGHT
BEGIN:STANDARD
TZOFFSETFROM:-0400
TZOFFSETTO:-0500
TZNAME:EST
DTSTART:20241103T060000
END:STANDARD
BEGIN:DAYLIGHT
TZOFFSETFROM:-0500
TZOFFSETTO:-0400
TZNAME:EDT
DTSTART:20250309T070000
END:DAYLIGHT
BEGIN:STANDARD
TZOFFSETFROM:-0400
TZOFFSETTO:-0500
TZNAME:EST
DTSTART:20251102T060000
END:STANDARD
BEGIN:DAYLIGHT
TZOFFSETFROM:-0500
TZOFFSETTO:-0400
TZNAME:EDT
DTSTART:20260308T070000
END:DAYLIGHT
BEGIN:STANDARD
TZOFFSETFROM:-0400
TZOFFSETTO:-0500
TZNAME:EST
DTSTART:20261101T060000
END:STANDARD
BEGIN:DAYLIGHT
TZOFFSETFROM:-0500
TZOFFSETTO:-0400
TZNAME:EDT
DTSTART:20270314T070000
END:DAYLIGHT
BEGIN:STANDARD
TZOFFSETFROM:-0400
TZOFFSETTO:-0500
TZNAME:EST
DTSTART:20271107T060000
END:STANDARD
END:VTIMEZONE
BEGIN:VEVENT
DTSTART;TZID=America/New_York:20260403T190000
DTEND;TZID=America/New_York:20260403T200000
DTSTAMP:20260423T161247
CREATED:20260320T141902Z
LAST-MODIFIED:20260320T141902Z
UID:10011627-1775242800-1775246400@lhcc.info
SUMMARY:EMF Good Friday Service
DESCRIPTION:Join the EMF churches this Good Friday as we gather to remember the ultimate sacrifice of Jesus Christ on the cross. This service will be a time of reflection\, worship\, and gratitude as we pause to consider His love\, His suffering\, and the Hope we have because of Him!
URL:https://lhcc.info/event/emf-good-friday-service-5/
LOCATION:Exeter Chapel\, 765 Ten Rod Rd\, Exeter\, RI\, 02822\, United States
CATEGORIES:Church Events,Community Events
ATTACH;FMTTYPE=image/png:https://lhcc.info/wp-content/uploads/2026/03/Good-Friday.png
GEO:41.580559;-71.585392
X-APPLE-STRUCTURED-LOCATION;VALUE=URI;X-ADDRESS=Exeter Chapel 765 Ten Rod Rd Exeter RI 02822 United States;X-APPLE-RADIUS=500;X-TITLE=765 Ten Rod Rd:geo:-71.585392,41.580559
END:VEVENT
BEGIN:VEVENT
DTSTART;TZID=America/New_York:20190419T190000
DTEND;TZID=America/New_York:20190419T203000
DTSTAMP:20260423T161247
CREATED:20190406T153554Z
LAST-MODIFIED:20190406T155711Z
UID:10006021-1555700400-1555705800@lhcc.info
SUMMARY:Good Friday Service - EMF Service
DESCRIPTION:Join us April 19th at 7:00 pm for “Rejoicing in the Cross” at Exeter Chapel\, 765 Ten Rod Road in Exeter\, RI. The guest speaker is Caleb Morgan\, Ass’t. Pastor of the First Baptist Church of Narragansett.  \nThis is one of several EMF services we take part in each year with other churches in the Evangelical Ministers’ Fellowship.
URL:https://lhcc.info/event/good-friday-service-emf-service/
LOCATION:Exeter Chapel\, 765 Ten Rod Rd\, Exeter\, RI\, 02822\, United States
CATEGORIES:Church Events,Community Events
GEO:41.580559;-71.585392
X-APPLE-STRUCTURED-LOCATION;VALUE=URI;X-ADDRESS=Exeter Chapel 765 Ten Rod Rd Exeter RI 02822 United States;X-APPLE-RADIUS=500;X-TITLE=765 Ten Rod Rd:geo:-71.585392,41.580559
END:VEVENT
END:VCALENDAR