BEGIN:VCALENDAR
VERSION:2.0
PRODID:-//Living Hope Christian Church - ECPv6.15.17.1//NONSGML v1.0//EN
CALSCALE:GREGORIAN
METHOD:PUBLISH
X-WR-CALNAME:Living Hope Christian Church
X-ORIGINAL-URL:https://lhcc.info
X-WR-CALDESC:Events for Living Hope Christian Church
REFRESH-INTERVAL;VALUE=DURATION:PT1H
X-Robots-Tag:noindex
X-PUBLISHED-TTL:PT1H
BEGIN:VTIMEZONE
TZID:America/New_York
BEGIN:DAYLIGHT
TZOFFSETFROM:-0500
TZOFFSETTO:-0400
TZNAME:EDT
DTSTART:20160313T070000
END:DAYLIGHT
BEGIN:STANDARD
TZOFFSETFROM:-0400
TZOFFSETTO:-0500
TZNAME:EST
DTSTART:20161106T060000
END:STANDARD
BEGIN:DAYLIGHT
TZOFFSETFROM:-0500
TZOFFSETTO:-0400
TZNAME:EDT
DTSTART:20170312T070000
END:DAYLIGHT
BEGIN:STANDARD
TZOFFSETFROM:-0400
TZOFFSETTO:-0500
TZNAME:EST
DTSTART:20171105T060000
END:STANDARD
BEGIN:DAYLIGHT
TZOFFSETFROM:-0500
TZOFFSETTO:-0400
TZNAME:EDT
DTSTART:20180311T070000
END:DAYLIGHT
BEGIN:STANDARD
TZOFFSETFROM:-0400
TZOFFSETTO:-0500
TZNAME:EST
DTSTART:20181104T060000
END:STANDARD
END:VTIMEZONE
BEGIN:VEVENT
DTSTART;TZID=America/New_York:20170907T160000
DTEND;TZID=America/New_York:20170907T180000
DTSTAMP:20260424T005644
CREATED:20170905T202753Z
LAST-MODIFIED:20170905T234206Z
UID:10002385-1504800000-1504807200@lhcc.info
SUMMARY:Celebration of Life for Jerry Silvia
DESCRIPTION:Mike and Beth Silvia have invited their Living Hope family to a celebration of life and reception for Mike’s father\, Jerry\, who recently passed away after a courageous battle with cancer. Both will be held at The Episcopal Conference Center\, 872 Reservoir Road in Pascoag\, RI on September 7th at 4:00 pm.  \n \nJerry Silvia & Family – August 5\, 2017 from Breaking Branches Pictures on Vimeo.
URL:https://lhcc.info/event/celebration-life-jerry-silvia/
LOCATION:Episcopal Conference Center\, 872 Reservoir Road\, Pascoag\, RI\, 02859\, United States
CATEGORIES:Community Events
GEO:41.9315303;-71.6999202
X-APPLE-STRUCTURED-LOCATION;VALUE=URI;X-ADDRESS=Episcopal Conference Center 872 Reservoir Road Pascoag RI 02859 United States;X-APPLE-RADIUS=500;X-TITLE=872 Reservoir Road:geo:-71.6999202,41.9315303
END:VEVENT
END:VCALENDAR