BEGIN:VCALENDAR
VERSION:2.0
PRODID:-//Living Hope Christian Church - ECPv6.15.17.1//NONSGML v1.0//EN
CALSCALE:GREGORIAN
METHOD:PUBLISH
X-ORIGINAL-URL:https://lhcc.info
X-WR-CALDESC:Events for Living Hope Christian Church
REFRESH-INTERVAL;VALUE=DURATION:PT1H
X-Robots-Tag:noindex
X-PUBLISHED-TTL:PT1H
BEGIN:VTIMEZONE
TZID:America/New_York
BEGIN:DAYLIGHT
TZOFFSETFROM:-0500
TZOFFSETTO:-0400
TZNAME:EDT
DTSTART:20160313T070000
END:DAYLIGHT
BEGIN:STANDARD
TZOFFSETFROM:-0400
TZOFFSETTO:-0500
TZNAME:EST
DTSTART:20161106T060000
END:STANDARD
BEGIN:DAYLIGHT
TZOFFSETFROM:-0500
TZOFFSETTO:-0400
TZNAME:EDT
DTSTART:20170312T070000
END:DAYLIGHT
BEGIN:STANDARD
TZOFFSETFROM:-0400
TZOFFSETTO:-0500
TZNAME:EST
DTSTART:20171105T060000
END:STANDARD
BEGIN:DAYLIGHT
TZOFFSETFROM:-0500
TZOFFSETTO:-0400
TZNAME:EDT
DTSTART:20180311T070000
END:DAYLIGHT
BEGIN:STANDARD
TZOFFSETFROM:-0400
TZOFFSETTO:-0500
TZNAME:EST
DTSTART:20181104T060000
END:STANDARD
END:VTIMEZONE
BEGIN:VEVENT
DTSTART;TZID=America/New_York:20170506T070000
DTEND;TZID=America/New_York:20170506T100000
DTSTAMP:20260424T005440
CREATED:20170505T190237Z
LAST-MODIFIED:20170505T190316Z
UID:10004805-1494054000-1494064800@lhcc.info
SUMMARY:Men's Hike at Arcadia
DESCRIPTION:Rain OR shine! Guys\, meet up with Paul Radion at 7:00 am at the Dunkin’ Donuts at 260 Nooseneck Hill Road in Exeter\, RI. That’s Route 3\, near the Middle of Nowhere Diner. From there\, you’ll travel together to Arcadia Park for a hike and fellowship lasting about 1-1/2 to 2 hours.  \nPlease dress for rain and wear appropriate shoes for a hike! (Sneakers are slippery on wet ground; hiking shoes or boots are best\, with tread.) If you have any questions\, call or text Paul at 774-644-9602.
URL:https://lhcc.info/event/mens-hike-arcadia/
LOCATION:Dunkin’ Donuts\, 260 Nooseneck Hill Road\, Exeter\, RI\, United States
CATEGORIES:Men's Ministry
ATTACH;FMTTYPE=image/jpeg:https://lhcc.info/wp-content/uploads/2017/05/hiking-arcadia-ri-e1494010914769.jpg
GEO:41.5844053;-71.6516975
X-APPLE-STRUCTURED-LOCATION;VALUE=URI;X-ADDRESS=Dunkin’ Donuts 260 Nooseneck Hill Road Exeter RI United States;X-APPLE-RADIUS=500;X-TITLE=260 Nooseneck Hill Road:geo:-71.6516975,41.5844053
END:VEVENT
END:VCALENDAR