BEGIN:VCALENDAR
VERSION:2.0
PRODID:-//Living Hope Christian Church - ECPv6.15.17.1//NONSGML v1.0//EN
CALSCALE:GREGORIAN
METHOD:PUBLISH
X-WR-CALNAME:Living Hope Christian Church
X-ORIGINAL-URL:https://lhcc.info
X-WR-CALDESC:Events for Living Hope Christian Church
REFRESH-INTERVAL;VALUE=DURATION:PT1H
X-Robots-Tag:noindex
X-PUBLISHED-TTL:PT1H
BEGIN:VTIMEZONE
TZID:America/New_York
BEGIN:DAYLIGHT
TZOFFSETFROM:-0500
TZOFFSETTO:-0400
TZNAME:EDT
DTSTART:20160313T070000
END:DAYLIGHT
BEGIN:STANDARD
TZOFFSETFROM:-0400
TZOFFSETTO:-0500
TZNAME:EST
DTSTART:20161106T060000
END:STANDARD
BEGIN:DAYLIGHT
TZOFFSETFROM:-0500
TZOFFSETTO:-0400
TZNAME:EDT
DTSTART:20170312T070000
END:DAYLIGHT
BEGIN:STANDARD
TZOFFSETFROM:-0400
TZOFFSETTO:-0500
TZNAME:EST
DTSTART:20171105T060000
END:STANDARD
BEGIN:DAYLIGHT
TZOFFSETFROM:-0500
TZOFFSETTO:-0400
TZNAME:EDT
DTSTART:20180311T070000
END:DAYLIGHT
BEGIN:STANDARD
TZOFFSETFROM:-0400
TZOFFSETTO:-0500
TZNAME:EST
DTSTART:20181104T060000
END:STANDARD
END:VTIMEZONE
BEGIN:VEVENT
DTSTART;TZID=America/New_York:20170305T150000
DTEND;TZID=America/New_York:20170305T150000
DTSTAMP:20260423T193109
CREATED:20170227T025235Z
LAST-MODIFIED:20170227T025235Z
UID:10004804-1488726000-1488726000@lhcc.info
SUMMARY:P-Bruins Game
DESCRIPTION:Email Gary Blanchette or see him at LHCC if you’d like to join us for the Providence Bruins hockey game. Sign up available at the church!
URL:https://lhcc.info/event/p-bruins-game/
LOCATION:Dunkin’ Donuts Center\, 1 La Salle Square\, \, Providence\, RI\, 02903\, United States
CATEGORIES:Church Events
GEO:41.8236772;-71.4181856
X-APPLE-STRUCTURED-LOCATION;VALUE=URI;X-ADDRESS=Dunkin’ Donuts Center 1 La Salle Square  Providence RI 02903 United States;X-APPLE-RADIUS=500;X-TITLE=1 La Salle Square:geo:-71.4181856,41.8236772
END:VEVENT
END:VCALENDAR