BEGIN:VCALENDAR
VERSION:2.0
PRODID:-//Living Hope Christian Church - ECPv6.15.17.1//NONSGML v1.0//EN
CALSCALE:GREGORIAN
METHOD:PUBLISH
X-ORIGINAL-URL:https://lhcc.info
X-WR-CALDESC:Events for Living Hope Christian Church
REFRESH-INTERVAL;VALUE=DURATION:PT1H
X-Robots-Tag:noindex
X-PUBLISHED-TTL:PT1H
BEGIN:VTIMEZONE
TZID:America/New_York
BEGIN:DAYLIGHT
TZOFFSETFROM:-0500
TZOFFSETTO:-0400
TZNAME:EDT
DTSTART:20170312T070000
END:DAYLIGHT
BEGIN:STANDARD
TZOFFSETFROM:-0400
TZOFFSETTO:-0500
TZNAME:EST
DTSTART:20171105T060000
END:STANDARD
BEGIN:DAYLIGHT
TZOFFSETFROM:-0500
TZOFFSETTO:-0400
TZNAME:EDT
DTSTART:20180311T070000
END:DAYLIGHT
BEGIN:STANDARD
TZOFFSETFROM:-0400
TZOFFSETTO:-0500
TZNAME:EST
DTSTART:20181104T060000
END:STANDARD
BEGIN:DAYLIGHT
TZOFFSETFROM:-0500
TZOFFSETTO:-0400
TZNAME:EDT
DTSTART:20190310T070000
END:DAYLIGHT
BEGIN:STANDARD
TZOFFSETFROM:-0400
TZOFFSETTO:-0500
TZNAME:EST
DTSTART:20191103T060000
END:STANDARD
END:VTIMEZONE
BEGIN:VEVENT
DTSTART;TZID=America/New_York:20181102T150000
DTEND;TZID=America/New_York:20181104T170000
DTSTAMP:20260423T191107
CREATED:20181008T222445Z
LAST-MODIFIED:20181008T222445Z
UID:10004089-1541170800-1541350800@lhcc.info
SUMMARY:Men's Retreat at Camp Berea
DESCRIPTION:We will be going to a men’s retreat hosted by Camp Berea on the weekend of Nov 2nd-4th.  We will leave some time after 3 on Friday and then return Sunday afternoon\, which is a little different than what we have done in the past.    It will be $180 for the weekend.  You can go to berea.org/mancamp/ and register yourself or sign up on the info table and we will take care of it.  Be sure to mention you are from Living Hope.  There is also a one day option you can explore there.  Certainly financial assistance will be available.   See Alex Macleod or Pastor Peter for more info.
URL:https://lhcc.info/event/mens-retreat-at-camp-berea/
LOCATION:Camp Berea\, 68 Berea Rd\, Hebron\, NH\, 03241\, United States
CATEGORIES:Men's Ministry
GEO:43.671188;-71.789087
X-APPLE-STRUCTURED-LOCATION;VALUE=URI;X-ADDRESS=Camp Berea 68 Berea Rd Hebron NH 03241 United States;X-APPLE-RADIUS=500;X-TITLE=68 Berea Rd:geo:-71.789087,43.671188
END:VEVENT
END:VCALENDAR