BEGIN:VCALENDAR
VERSION:2.0
PRODID:-//Living Hope Christian Church - ECPv6.15.17.1//NONSGML v1.0//EN
CALSCALE:GREGORIAN
METHOD:PUBLISH
X-ORIGINAL-URL:https://lhcc.info
X-WR-CALDESC:Events for Living Hope Christian Church
REFRESH-INTERVAL;VALUE=DURATION:PT1H
X-Robots-Tag:noindex
X-PUBLISHED-TTL:PT1H
BEGIN:VTIMEZONE
TZID:America/New_York
BEGIN:DAYLIGHT
TZOFFSETFROM:-0500
TZOFFSETTO:-0400
TZNAME:EDT
DTSTART:20160313T070000
END:DAYLIGHT
BEGIN:STANDARD
TZOFFSETFROM:-0400
TZOFFSETTO:-0500
TZNAME:EST
DTSTART:20161106T060000
END:STANDARD
BEGIN:DAYLIGHT
TZOFFSETFROM:-0500
TZOFFSETTO:-0400
TZNAME:EDT
DTSTART:20170312T070000
END:DAYLIGHT
BEGIN:STANDARD
TZOFFSETFROM:-0400
TZOFFSETTO:-0500
TZNAME:EST
DTSTART:20171105T060000
END:STANDARD
BEGIN:DAYLIGHT
TZOFFSETFROM:-0500
TZOFFSETTO:-0400
TZNAME:EDT
DTSTART:20180311T070000
END:DAYLIGHT
BEGIN:STANDARD
TZOFFSETFROM:-0400
TZOFFSETTO:-0500
TZNAME:EST
DTSTART:20181104T060000
END:STANDARD
END:VTIMEZONE
BEGIN:VEVENT
DTSTART;TZID=America/New_York:20170414T190000
DTEND;TZID=America/New_York:20170414T200000
DTSTAMP:20260423T221229
CREATED:20170411T020337Z
LAST-MODIFIED:20170411T021414Z
UID:10001248-1492196400-1492200000@lhcc.info
SUMMARY:EMF Good Friday Service
DESCRIPTION:Join us for our Good Friday worship service at Beacon Free Will Baptist Church\, 100 Exeter Road in Exeter\, RI.
URL:https://lhcc.info/event/emf-good-friday-service/
LOCATION:Beacon Free Will Baptist Church\, 100 Exeter Road\, Exeter\, RI\, 02822\, United States
CATEGORIES:Church Events
GEO:41.545972;-71.5275759
X-APPLE-STRUCTURED-LOCATION;VALUE=URI;X-ADDRESS=Beacon Free Will Baptist Church 100 Exeter Road Exeter RI 02822 United States;X-APPLE-RADIUS=500;X-TITLE=100 Exeter Road:geo:-71.5275759,41.545972
END:VEVENT
END:VCALENDAR