BEGIN:VCALENDAR
VERSION:2.0
PRODID:-//Living Hope Christian Church - ECPv6.15.17.1//NONSGML v1.0//EN
CALSCALE:GREGORIAN
METHOD:PUBLISH
X-WR-CALNAME:Living Hope Christian Church
X-ORIGINAL-URL:https://lhcc.info
X-WR-CALDESC:Events for Living Hope Christian Church
REFRESH-INTERVAL;VALUE=DURATION:PT1H
X-Robots-Tag:noindex
X-PUBLISHED-TTL:PT1H
BEGIN:VTIMEZONE
TZID:America/New_York
BEGIN:DAYLIGHT
TZOFFSETFROM:-0500
TZOFFSETTO:-0400
TZNAME:EDT
DTSTART:20220313T070000
END:DAYLIGHT
BEGIN:STANDARD
TZOFFSETFROM:-0400
TZOFFSETTO:-0500
TZNAME:EST
DTSTART:20221106T060000
END:STANDARD
BEGIN:DAYLIGHT
TZOFFSETFROM:-0500
TZOFFSETTO:-0400
TZNAME:EDT
DTSTART:20230312T070000
END:DAYLIGHT
BEGIN:STANDARD
TZOFFSETFROM:-0400
TZOFFSETTO:-0500
TZNAME:EST
DTSTART:20231105T060000
END:STANDARD
BEGIN:DAYLIGHT
TZOFFSETFROM:-0500
TZOFFSETTO:-0400
TZNAME:EDT
DTSTART:20240310T070000
END:DAYLIGHT
BEGIN:STANDARD
TZOFFSETFROM:-0400
TZOFFSETTO:-0500
TZNAME:EST
DTSTART:20241103T060000
END:STANDARD
END:VTIMEZONE
BEGIN:VEVENT
DTSTART;TZID=America/New_York:20230520T130000
DTEND;TZID=America/New_York:20230520T150000
DTSTAMP:20260423T225653
CREATED:20230426T193838Z
LAST-MODIFIED:20230426T193838Z
UID:10006710-1684587600-1684594800@lhcc.info
SUMMARY:Women of Hope Picnic Lunch
DESCRIPTION:Pack your picnic lunch and head over to Amy Brock’s house (550 Oak Hill Road\, North Kingstown) on Saturday\, May 20th at 1pm for some fellowship together in the beautiful outdoors…maybe even pet a goat!
URL:https://lhcc.info/event/women-of-hope-picnic-lunch/
LOCATION:550 Oak Hill Road North Kingstown\, RI 02852\, 550 Oak Hill Road\, North Kingstown\, RI\, 02852\, United States
CATEGORIES:Women's Ministry
ATTACH;FMTTYPE=image/jpeg:https://lhcc.info/wp-content/uploads/2020/07/picnic.jpg
GEO:41.5582613;-71.4852898
X-APPLE-STRUCTURED-LOCATION;VALUE=URI;X-ADDRESS=550 Oak Hill Road North Kingstown RI 02852 550 Oak Hill Road North Kingstown RI 02852 United States;X-APPLE-RADIUS=500;X-TITLE=550 Oak Hill Road:geo:-71.4852898,41.5582613
END:VEVENT
END:VCALENDAR