BEGIN:VCALENDAR
VERSION:2.0
PRODID:-//Living Hope Christian Church - ECPv6.15.17.1//NONSGML v1.0//EN
CALSCALE:GREGORIAN
METHOD:PUBLISH
X-WR-CALNAME:Living Hope Christian Church
X-ORIGINAL-URL:https://lhcc.info
X-WR-CALDESC:Events for Living Hope Christian Church
REFRESH-INTERVAL;VALUE=DURATION:PT1H
X-Robots-Tag:noindex
X-PUBLISHED-TTL:PT1H
BEGIN:VTIMEZONE
TZID:America/New_York
BEGIN:DAYLIGHT
TZOFFSETFROM:-0500
TZOFFSETTO:-0400
TZNAME:EDT
DTSTART:20230312T070000
END:DAYLIGHT
BEGIN:STANDARD
TZOFFSETFROM:-0400
TZOFFSETTO:-0500
TZNAME:EST
DTSTART:20231105T060000
END:STANDARD
BEGIN:DAYLIGHT
TZOFFSETFROM:-0500
TZOFFSETTO:-0400
TZNAME:EDT
DTSTART:20240310T070000
END:DAYLIGHT
BEGIN:STANDARD
TZOFFSETFROM:-0400
TZOFFSETTO:-0500
TZNAME:EST
DTSTART:20241103T060000
END:STANDARD
BEGIN:DAYLIGHT
TZOFFSETFROM:-0500
TZOFFSETTO:-0400
TZNAME:EDT
DTSTART:20250309T070000
END:DAYLIGHT
BEGIN:STANDARD
TZOFFSETFROM:-0400
TZOFFSETTO:-0500
TZNAME:EST
DTSTART:20251102T060000
END:STANDARD
END:VTIMEZONE
BEGIN:VEVENT
DTSTART;TZID=America/New_York:20241111T090000
DTEND;TZID=America/New_York:20241111T110000
DTSTAMP:20260423T191402
CREATED:20241029T185108Z
LAST-MODIFIED:20241029T185108Z
UID:10006890-1731315600-1731322800@lhcc.info
SUMMARY:NK Veterans Day Parade
DESCRIPTION:Come march with us as we share the good news of Christ in our community! The NK Veterans Day Parade has invited us to bring our float\, AHG\, and Trail Life to march on Monday\, November 11th from 10-11am from Wilson Park to NK High School.\nIf you are able to walk with us ann hand out prizes please Sign Up Here and let us know!
URL:https://lhcc.info/event/nk-veterans-day-parade/
LOCATION:Wilson Park\, Roosevelt Avenue\, North Kingstown\, RI\, 02852\, United States
CATEGORIES:Community Events
GEO:41.5748164;-71.4577
X-APPLE-STRUCTURED-LOCATION;VALUE=URI;X-ADDRESS=Wilson Park Roosevelt Avenue North Kingstown RI 02852 United States;X-APPLE-RADIUS=500;X-TITLE=Roosevelt Avenue:geo:-71.4577,41.5748164
END:VEVENT
END:VCALENDAR