BEGIN:VCALENDAR
VERSION:2.0
PRODID:-//Living Hope Christian Church - ECPv6.15.17.1//NONSGML v1.0//EN
CALSCALE:GREGORIAN
METHOD:PUBLISH
X-WR-CALNAME:Living Hope Christian Church
X-ORIGINAL-URL:https://lhcc.info
X-WR-CALDESC:Events for Living Hope Christian Church
REFRESH-INTERVAL;VALUE=DURATION:PT1H
X-Robots-Tag:noindex
X-PUBLISHED-TTL:PT1H
BEGIN:VTIMEZONE
TZID:America/New_York
BEGIN:DAYLIGHT
TZOFFSETFROM:-0500
TZOFFSETTO:-0400
TZNAME:EDT
DTSTART:20160313T070000
END:DAYLIGHT
BEGIN:STANDARD
TZOFFSETFROM:-0400
TZOFFSETTO:-0500
TZNAME:EST
DTSTART:20161106T060000
END:STANDARD
BEGIN:DAYLIGHT
TZOFFSETFROM:-0500
TZOFFSETTO:-0400
TZNAME:EDT
DTSTART:20170312T070000
END:DAYLIGHT
BEGIN:STANDARD
TZOFFSETFROM:-0400
TZOFFSETTO:-0500
TZNAME:EST
DTSTART:20171105T060000
END:STANDARD
BEGIN:DAYLIGHT
TZOFFSETFROM:-0500
TZOFFSETTO:-0400
TZNAME:EDT
DTSTART:20180311T070000
END:DAYLIGHT
BEGIN:STANDARD
TZOFFSETFROM:-0400
TZOFFSETTO:-0500
TZNAME:EST
DTSTART:20181104T060000
END:STANDARD
END:VTIMEZONE
BEGIN:VEVENT
DTSTART;VALUE=DATE:20170318
DTEND;VALUE=DATE:20170319
DTSTAMP:20260423T204205
CREATED:20170227T030857Z
LAST-MODIFIED:20170310T173502Z
UID:10001239-1489795200-1489881599@lhcc.info
SUMMARY:Iron Sharpens Iron Conference
DESCRIPTION:Join the men of Living Hope Christian Church for this one-day equipping conference designed for men (age 13 and older). Keynote speakers at the Hartford\, CT regional conference will be Dwayne Pickett (Senior Pastor of New Jerusalem Church in Jackson\, MS and team member of the Christian Men’s Network) and Darryl Strawberry.  \nCheck out the Iron Sharpens Iron website for the full seminar schedule for the day! \nInterested in going? The cost is $55\, but don’t let that prevent you from joining us! Fill out our Registration Form and Alex MacLeod will be in touch with you. \nError: Contact form not found.
URL:https://lhcc.info/event/iron-sharpens-iron-conference/
LOCATION:The First Cathedral\, 1151 Blue Hills Ave\, Bloomfield\, CT\, 06002\, United States
CATEGORIES:Men's Ministry
GEO:41.8338074;-72.6989862
X-APPLE-STRUCTURED-LOCATION;VALUE=URI;X-ADDRESS=The First Cathedral 1151 Blue Hills Ave Bloomfield CT 06002 United States;X-APPLE-RADIUS=500;X-TITLE=1151 Blue Hills Ave:geo:-72.6989862,41.8338074
END:VEVENT
END:VCALENDAR