BEGIN:VCALENDAR
VERSION:2.0
PRODID:-//Living Hope Christian Church - ECPv6.15.17.1//NONSGML v1.0//EN
CALSCALE:GREGORIAN
METHOD:PUBLISH
X-WR-CALNAME:Living Hope Christian Church
X-ORIGINAL-URL:https://lhcc.info
X-WR-CALDESC:Events for Living Hope Christian Church
REFRESH-INTERVAL;VALUE=DURATION:PT1H
X-Robots-Tag:noindex
X-PUBLISHED-TTL:PT1H
BEGIN:VTIMEZONE
TZID:America/New_York
BEGIN:DAYLIGHT
TZOFFSETFROM:-0500
TZOFFSETTO:-0400
TZNAME:EDT
DTSTART:20200308T070000
END:DAYLIGHT
BEGIN:STANDARD
TZOFFSETFROM:-0400
TZOFFSETTO:-0500
TZNAME:EST
DTSTART:20201101T060000
END:STANDARD
BEGIN:DAYLIGHT
TZOFFSETFROM:-0500
TZOFFSETTO:-0400
TZNAME:EDT
DTSTART:20210314T070000
END:DAYLIGHT
BEGIN:STANDARD
TZOFFSETFROM:-0400
TZOFFSETTO:-0500
TZNAME:EST
DTSTART:20211107T060000
END:STANDARD
BEGIN:DAYLIGHT
TZOFFSETFROM:-0500
TZOFFSETTO:-0400
TZNAME:EDT
DTSTART:20220313T070000
END:DAYLIGHT
BEGIN:STANDARD
TZOFFSETFROM:-0400
TZOFFSETTO:-0500
TZNAME:EST
DTSTART:20221106T060000
END:STANDARD
BEGIN:DAYLIGHT
TZOFFSETFROM:-0500
TZOFFSETTO:-0400
TZNAME:EDT
DTSTART:20230312T070000
END:DAYLIGHT
BEGIN:STANDARD
TZOFFSETFROM:-0400
TZOFFSETTO:-0500
TZNAME:EST
DTSTART:20231105T060000
END:STANDARD
BEGIN:DAYLIGHT
TZOFFSETFROM:-0500
TZOFFSETTO:-0400
TZNAME:EDT
DTSTART:20240310T070000
END:DAYLIGHT
BEGIN:STANDARD
TZOFFSETFROM:-0400
TZOFFSETTO:-0500
TZNAME:EST
DTSTART:20241103T060000
END:STANDARD
END:VTIMEZONE
BEGIN:VEVENT
DTSTART;TZID=America/New_York:20231021T083000
DTEND;TZID=America/New_York:20231021T170000
DTSTAMP:20260423T195057
CREATED:20230912T195456Z
LAST-MODIFIED:20230912T195456Z
UID:10005827-1697877000-1697907600@lhcc.info
SUMMARY:Men's Retreat Day
DESCRIPTION:Join us for a multi-church Men’s Retreat Day titled “Being a Godly Man in an Ungodly World” \nIt will be held at Shaub Lodge in Camp Canonicus from 8:30am – 4:30pm on Saturday\, October 21\, 2023. \nEnjoy good food\, fun fellowship\, and great speakers! We look forward to seeing how God will move in the lives of men through this day! \nCost is $50 and includes breakfast and lunch. Please Sign Up Here.
URL:https://lhcc.info/event/mens-retreat-day/
LOCATION:Canonicus Camp and Conference Center\, 54 Exeter Road\, Exeter\, RI\, 02822\, United States
CATEGORIES:Men's Ministry
ATTACH;FMTTYPE=image/jpeg:https://lhcc.info/wp-content/uploads/2023/09/LHCC-Slideshow.jpg
GEO:41.5436175;-71.5232229
X-APPLE-STRUCTURED-LOCATION;VALUE=URI;X-ADDRESS=Canonicus Camp and Conference Center 54 Exeter Road Exeter RI 02822 United States;X-APPLE-RADIUS=500;X-TITLE=54 Exeter Road:geo:-71.5232229,41.5436175
END:VEVENT
BEGIN:VEVENT
DTSTART;TZID=America/New_York:20230910T160000
DTEND;TZID=America/New_York:20230910T190000
DTSTAMP:20260423T195057
CREATED:20230829T185150Z
LAST-MODIFIED:20230829T185150Z
UID:10005807-1694361600-1694372400@lhcc.info
SUMMARY:Multi-Church Picnic
DESCRIPTION:Join other EMF Churches in south County at a “pot-blessing” style picnic lunch. \nSunday\, September 10th from 4-7pm at Camp Canonicus in Exeter. Bring a dish to share and fellowship together!
URL:https://lhcc.info/event/multi-church-picnic/
LOCATION:Canonicus Camp and Conference Center\, 54 Exeter Road\, Exeter\, RI\, 02822\, United States
CATEGORIES:Church Events
ATTACH;FMTTYPE=image/jpeg:https://lhcc.info/wp-content/uploads/2023/08/LHCC-Slideshow.jpg
GEO:41.5436175;-71.5232229
X-APPLE-STRUCTURED-LOCATION;VALUE=URI;X-ADDRESS=Canonicus Camp and Conference Center 54 Exeter Road Exeter RI 02822 United States;X-APPLE-RADIUS=500;X-TITLE=54 Exeter Road:geo:-71.5232229,41.5436175
END:VEVENT
BEGIN:VEVENT
DTSTART;TZID=America/New_York:20230407T190000
DTEND;TZID=America/New_York:20230407T203000
DTSTAMP:20260423T195057
CREATED:20230310T154330Z
LAST-MODIFIED:20230310T154643Z
UID:10006704-1680894000-1680899400@lhcc.info
SUMMARY:EMF Good Friday Service
DESCRIPTION:Join EMF churches as we come together to worship and reflect on the sacrifice and suffering Christ endured to pay the penalty for our sine and give us new life in Him! \n 
URL:https://lhcc.info/event/emf-good-friday-service-2/
LOCATION:Living Hope Christian Church\, 730 South County Trail\, North Kingstown\, RI\, 02852\, United States
CATEGORIES:Church Events,Community Events
ATTACH;FMTTYPE=image/jpeg:https://lhcc.info/wp-content/uploads/2023/03/Good-Friday.jpg
GEO:41.5556183;-71.5189401
X-APPLE-STRUCTURED-LOCATION;VALUE=URI;X-ADDRESS=Living Hope Christian Church 730 South County Trail North Kingstown RI 02852 United States;X-APPLE-RADIUS=500;X-TITLE=730 South County Trail:geo:-71.5189401,41.5556183
END:VEVENT
BEGIN:VEVENT
DTSTART;TZID=America/New_York:20221022T090000
DTEND;TZID=America/New_York:20221022T170000
DTSTAMP:20260423T195057
CREATED:20220906T175423Z
LAST-MODIFIED:20220906T175423Z
UID:10006559-1666429200-1666458000@lhcc.info
SUMMARY:Regional Men's Retreat Day
DESCRIPTION:Join us at Camp Canonicus from 9am to 5pm with men from other EMF churches in South County for a day of fellowship\, food\, fun\, and growth in Christ!
URL:https://lhcc.info/event/regional-mens-retreat-day/
LOCATION:Canonicus Camp and Conference Center\, 54 Exeter Road\, Exeter\, RI\, 02822\, United States
CATEGORIES:Men's Ministry
ATTACH;FMTTYPE=image/jpeg:https://lhcc.info/wp-content/uploads/2022/09/LHCC-Slideshow-1.jpg
GEO:41.5436175;-71.5232229
X-APPLE-STRUCTURED-LOCATION;VALUE=URI;X-ADDRESS=Canonicus Camp and Conference Center 54 Exeter Road Exeter RI 02822 United States;X-APPLE-RADIUS=500;X-TITLE=54 Exeter Road:geo:-71.5232229,41.5436175
END:VEVENT
BEGIN:VEVENT
DTSTART;TZID=America/New_York:20210402T190000
DTEND;TZID=America/New_York:20210402T200000
DTSTAMP:20260423T195057
CREATED:20210316T153617Z
LAST-MODIFIED:20210316T153617Z
UID:10006222-1617390000-1617393600@lhcc.info
SUMMARY:Good Friday Service
DESCRIPTION:Join us for a multi-church livestream event. We will have a service here as well as a livestream feed that takes us to different South County churches joining in the service as well.
URL:https://lhcc.info/event/good-friday-service/
LOCATION:Living Hope Christian Church\, 730 South County Trail\, North Kingstown\, RI\, 02852\, United States
ATTACH;FMTTYPE=image/jpeg:https://lhcc.info/wp-content/uploads/2015/01/he-is-risen-easter-sunday-south-county-churches.jpg
GEO:41.5556183;-71.5189401
X-APPLE-STRUCTURED-LOCATION;VALUE=URI;X-ADDRESS=Living Hope Christian Church 730 South County Trail North Kingstown RI 02852 United States;X-APPLE-RADIUS=500;X-TITLE=730 South County Trail:geo:-71.5189401,41.5556183
END:VEVENT
END:VCALENDAR