BEGIN:VCALENDAR
VERSION:2.0
PRODID:-//Living Hope Christian Church - ECPv6.15.17.1//NONSGML v1.0//EN
CALSCALE:GREGORIAN
METHOD:PUBLISH
X-WR-CALNAME:Living Hope Christian Church
X-ORIGINAL-URL:https://lhcc.info
X-WR-CALDESC:Events for Living Hope Christian Church
REFRESH-INTERVAL;VALUE=DURATION:PT1H
X-Robots-Tag:noindex
X-PUBLISHED-TTL:PT1H
BEGIN:VTIMEZONE
TZID:America/New_York
BEGIN:DAYLIGHT
TZOFFSETFROM:-0500
TZOFFSETTO:-0400
TZNAME:EDT
DTSTART:20250309T070000
END:DAYLIGHT
BEGIN:STANDARD
TZOFFSETFROM:-0400
TZOFFSETTO:-0500
TZNAME:EST
DTSTART:20251102T060000
END:STANDARD
BEGIN:DAYLIGHT
TZOFFSETFROM:-0500
TZOFFSETTO:-0400
TZNAME:EDT
DTSTART:20260308T070000
END:DAYLIGHT
BEGIN:STANDARD
TZOFFSETFROM:-0400
TZOFFSETTO:-0500
TZNAME:EST
DTSTART:20261101T060000
END:STANDARD
BEGIN:DAYLIGHT
TZOFFSETFROM:-0500
TZOFFSETTO:-0400
TZNAME:EDT
DTSTART:20270314T070000
END:DAYLIGHT
BEGIN:STANDARD
TZOFFSETFROM:-0400
TZOFFSETTO:-0500
TZNAME:EST
DTSTART:20271107T060000
END:STANDARD
END:VTIMEZONE
BEGIN:VEVENT
DTSTART;TZID=America/New_York:20260429T183000
DTEND;TZID=America/New_York:20260429T193000
DTSTAMP:20260423T114437
CREATED:20250605T213559Z
LAST-MODIFIED:20250606T152752Z
UID:10011036-1777487400-1777491000@lhcc.info
SUMMARY:Church Prayer Time
DESCRIPTION:Join us for a time of weekly\, corporate prayer on Wednesday evenings at 6:30pm before our Wednesday night Bible study. \nWe meet at the church or you can join from home through this ZOOM LINK.
URL:https://lhcc.info/event/church-prayer-time-3/2026-04-29/
LOCATION:Living Hope Christian Church\, 730 South County Trail\, North Kingstown\, RI\, 02852\, United States
CATEGORIES:Prayer
ATTACH;FMTTYPE=image/png:https://lhcc.info/wp-content/uploads/2024/12/Prayer-Times.png
GEO:41.5556183;-71.5189401
X-APPLE-STRUCTURED-LOCATION;VALUE=URI;X-ADDRESS=Living Hope Christian Church 730 South County Trail North Kingstown RI 02852 United States;X-APPLE-RADIUS=500;X-TITLE=730 South County Trail:geo:-71.5189401,41.5556183
END:VEVENT
BEGIN:VEVENT
DTSTART;TZID=America/New_York:20260506T183000
DTEND;TZID=America/New_York:20260506T193000
DTSTAMP:20260423T114437
CREATED:20250605T213559Z
LAST-MODIFIED:20250606T152752Z
UID:10011037-1778092200-1778095800@lhcc.info
SUMMARY:Church Prayer Time
DESCRIPTION:Join us for a time of weekly\, corporate prayer on Wednesday evenings at 6:30pm before our Wednesday night Bible study. \nWe meet at the church or you can join from home through this ZOOM LINK.
URL:https://lhcc.info/event/church-prayer-time-3/2026-05-06/
LOCATION:Living Hope Christian Church\, 730 South County Trail\, North Kingstown\, RI\, 02852\, United States
CATEGORIES:Prayer
ATTACH;FMTTYPE=image/png:https://lhcc.info/wp-content/uploads/2024/12/Prayer-Times.png
GEO:41.5556183;-71.5189401
X-APPLE-STRUCTURED-LOCATION;VALUE=URI;X-ADDRESS=Living Hope Christian Church 730 South County Trail North Kingstown RI 02852 United States;X-APPLE-RADIUS=500;X-TITLE=730 South County Trail:geo:-71.5189401,41.5556183
END:VEVENT
BEGIN:VEVENT
DTSTART;TZID=America/New_York:20260513T183000
DTEND;TZID=America/New_York:20260513T193000
DTSTAMP:20260423T114437
CREATED:20250605T213559Z
LAST-MODIFIED:20250606T152752Z
UID:10011038-1778697000-1778700600@lhcc.info
SUMMARY:Church Prayer Time
DESCRIPTION:Join us for a time of weekly\, corporate prayer on Wednesday evenings at 6:30pm before our Wednesday night Bible study. \nWe meet at the church or you can join from home through this ZOOM LINK.
URL:https://lhcc.info/event/church-prayer-time-3/2026-05-13/
LOCATION:Living Hope Christian Church\, 730 South County Trail\, North Kingstown\, RI\, 02852\, United States
CATEGORIES:Prayer
ATTACH;FMTTYPE=image/png:https://lhcc.info/wp-content/uploads/2024/12/Prayer-Times.png
GEO:41.5556183;-71.5189401
X-APPLE-STRUCTURED-LOCATION;VALUE=URI;X-ADDRESS=Living Hope Christian Church 730 South County Trail North Kingstown RI 02852 United States;X-APPLE-RADIUS=500;X-TITLE=730 South County Trail:geo:-71.5189401,41.5556183
END:VEVENT
BEGIN:VEVENT
DTSTART;TZID=America/New_York:20260520T183000
DTEND;TZID=America/New_York:20260520T193000
DTSTAMP:20260423T114437
CREATED:20250605T213559Z
LAST-MODIFIED:20250606T152752Z
UID:10011039-1779301800-1779305400@lhcc.info
SUMMARY:Church Prayer Time
DESCRIPTION:Join us for a time of weekly\, corporate prayer on Wednesday evenings at 6:30pm before our Wednesday night Bible study. \nWe meet at the church or you can join from home through this ZOOM LINK.
URL:https://lhcc.info/event/church-prayer-time-3/2026-05-20/
LOCATION:Living Hope Christian Church\, 730 South County Trail\, North Kingstown\, RI\, 02852\, United States
CATEGORIES:Prayer
ATTACH;FMTTYPE=image/png:https://lhcc.info/wp-content/uploads/2024/12/Prayer-Times.png
GEO:41.5556183;-71.5189401
X-APPLE-STRUCTURED-LOCATION;VALUE=URI;X-ADDRESS=Living Hope Christian Church 730 South County Trail North Kingstown RI 02852 United States;X-APPLE-RADIUS=500;X-TITLE=730 South County Trail:geo:-71.5189401,41.5556183
END:VEVENT
BEGIN:VEVENT
DTSTART;TZID=America/New_York:20260527T183000
DTEND;TZID=America/New_York:20260527T193000
DTSTAMP:20260423T114437
CREATED:20250605T213559Z
LAST-MODIFIED:20250606T152752Z
UID:10011040-1779906600-1779910200@lhcc.info
SUMMARY:Church Prayer Time
DESCRIPTION:Join us for a time of weekly\, corporate prayer on Wednesday evenings at 6:30pm before our Wednesday night Bible study. \nWe meet at the church or you can join from home through this ZOOM LINK.
URL:https://lhcc.info/event/church-prayer-time-3/2026-05-27/
LOCATION:Living Hope Christian Church\, 730 South County Trail\, North Kingstown\, RI\, 02852\, United States
CATEGORIES:Prayer
ATTACH;FMTTYPE=image/png:https://lhcc.info/wp-content/uploads/2024/12/Prayer-Times.png
GEO:41.5556183;-71.5189401
X-APPLE-STRUCTURED-LOCATION;VALUE=URI;X-ADDRESS=Living Hope Christian Church 730 South County Trail North Kingstown RI 02852 United States;X-APPLE-RADIUS=500;X-TITLE=730 South County Trail:geo:-71.5189401,41.5556183
END:VEVENT
BEGIN:VEVENT
DTSTART;TZID=America/New_York:20260603T183000
DTEND;TZID=America/New_York:20260603T193000
DTSTAMP:20260423T114437
CREATED:20250605T213559Z
LAST-MODIFIED:20250606T152752Z
UID:10011041-1780511400-1780515000@lhcc.info
SUMMARY:Church Prayer Time
DESCRIPTION:Join us for a time of weekly\, corporate prayer on Wednesday evenings at 6:30pm before our Wednesday night Bible study. \nWe meet at the church or you can join from home through this ZOOM LINK.
URL:https://lhcc.info/event/church-prayer-time-3/2026-06-03/
LOCATION:Living Hope Christian Church\, 730 South County Trail\, North Kingstown\, RI\, 02852\, United States
CATEGORIES:Prayer
ATTACH;FMTTYPE=image/png:https://lhcc.info/wp-content/uploads/2024/12/Prayer-Times.png
GEO:41.5556183;-71.5189401
X-APPLE-STRUCTURED-LOCATION;VALUE=URI;X-ADDRESS=Living Hope Christian Church 730 South County Trail North Kingstown RI 02852 United States;X-APPLE-RADIUS=500;X-TITLE=730 South County Trail:geo:-71.5189401,41.5556183
END:VEVENT
BEGIN:VEVENT
DTSTART;TZID=America/New_York:20260610T183000
DTEND;TZID=America/New_York:20260610T193000
DTSTAMP:20260423T114437
CREATED:20250605T213559Z
LAST-MODIFIED:20250606T152752Z
UID:10011042-1781116200-1781119800@lhcc.info
SUMMARY:Church Prayer Time
DESCRIPTION:Join us for a time of weekly\, corporate prayer on Wednesday evenings at 6:30pm before our Wednesday night Bible study. \nWe meet at the church or you can join from home through this ZOOM LINK.
URL:https://lhcc.info/event/church-prayer-time-3/2026-06-10/
LOCATION:Living Hope Christian Church\, 730 South County Trail\, North Kingstown\, RI\, 02852\, United States
CATEGORIES:Prayer
ATTACH;FMTTYPE=image/png:https://lhcc.info/wp-content/uploads/2024/12/Prayer-Times.png
GEO:41.5556183;-71.5189401
X-APPLE-STRUCTURED-LOCATION;VALUE=URI;X-ADDRESS=Living Hope Christian Church 730 South County Trail North Kingstown RI 02852 United States;X-APPLE-RADIUS=500;X-TITLE=730 South County Trail:geo:-71.5189401,41.5556183
END:VEVENT
BEGIN:VEVENT
DTSTART;TZID=America/New_York:20260617T183000
DTEND;TZID=America/New_York:20260617T193000
DTSTAMP:20260423T114437
CREATED:20250605T213559Z
LAST-MODIFIED:20250606T152752Z
UID:10011043-1781721000-1781724600@lhcc.info
SUMMARY:Church Prayer Time
DESCRIPTION:Join us for a time of weekly\, corporate prayer on Wednesday evenings at 6:30pm before our Wednesday night Bible study. \nWe meet at the church or you can join from home through this ZOOM LINK.
URL:https://lhcc.info/event/church-prayer-time-3/2026-06-17/
LOCATION:Living Hope Christian Church\, 730 South County Trail\, North Kingstown\, RI\, 02852\, United States
CATEGORIES:Prayer
ATTACH;FMTTYPE=image/png:https://lhcc.info/wp-content/uploads/2024/12/Prayer-Times.png
GEO:41.5556183;-71.5189401
X-APPLE-STRUCTURED-LOCATION;VALUE=URI;X-ADDRESS=Living Hope Christian Church 730 South County Trail North Kingstown RI 02852 United States;X-APPLE-RADIUS=500;X-TITLE=730 South County Trail:geo:-71.5189401,41.5556183
END:VEVENT
BEGIN:VEVENT
DTSTART;TZID=America/New_York:20260624T183000
DTEND;TZID=America/New_York:20260624T193000
DTSTAMP:20260423T114437
CREATED:20250605T213559Z
LAST-MODIFIED:20250606T152752Z
UID:10011044-1782325800-1782329400@lhcc.info
SUMMARY:Church Prayer Time
DESCRIPTION:Join us for a time of weekly\, corporate prayer on Wednesday evenings at 6:30pm before our Wednesday night Bible study. \nWe meet at the church or you can join from home through this ZOOM LINK.
URL:https://lhcc.info/event/church-prayer-time-3/2026-06-24/
LOCATION:Living Hope Christian Church\, 730 South County Trail\, North Kingstown\, RI\, 02852\, United States
CATEGORIES:Prayer
ATTACH;FMTTYPE=image/png:https://lhcc.info/wp-content/uploads/2024/12/Prayer-Times.png
GEO:41.5556183;-71.5189401
X-APPLE-STRUCTURED-LOCATION;VALUE=URI;X-ADDRESS=Living Hope Christian Church 730 South County Trail North Kingstown RI 02852 United States;X-APPLE-RADIUS=500;X-TITLE=730 South County Trail:geo:-71.5189401,41.5556183
END:VEVENT
BEGIN:VEVENT
DTSTART;TZID=America/New_York:20260701T183000
DTEND;TZID=America/New_York:20260701T193000
DTSTAMP:20260423T114437
CREATED:20250605T213559Z
LAST-MODIFIED:20250606T152752Z
UID:10011045-1782930600-1782934200@lhcc.info
SUMMARY:Church Prayer Time
DESCRIPTION:Join us for a time of weekly\, corporate prayer on Wednesday evenings at 6:30pm before our Wednesday night Bible study. \nWe meet at the church or you can join from home through this ZOOM LINK.
URL:https://lhcc.info/event/church-prayer-time-3/2026-07-01/
LOCATION:Living Hope Christian Church\, 730 South County Trail\, North Kingstown\, RI\, 02852\, United States
CATEGORIES:Prayer
ATTACH;FMTTYPE=image/png:https://lhcc.info/wp-content/uploads/2024/12/Prayer-Times.png
GEO:41.5556183;-71.5189401
X-APPLE-STRUCTURED-LOCATION;VALUE=URI;X-ADDRESS=Living Hope Christian Church 730 South County Trail North Kingstown RI 02852 United States;X-APPLE-RADIUS=500;X-TITLE=730 South County Trail:geo:-71.5189401,41.5556183
END:VEVENT
BEGIN:VEVENT
DTSTART;TZID=America/New_York:20260708T183000
DTEND;TZID=America/New_York:20260708T193000
DTSTAMP:20260423T114437
CREATED:20250605T213559Z
LAST-MODIFIED:20250606T152752Z
UID:10011046-1783535400-1783539000@lhcc.info
SUMMARY:Church Prayer Time
DESCRIPTION:Join us for a time of weekly\, corporate prayer on Wednesday evenings at 6:30pm before our Wednesday night Bible study. \nWe meet at the church or you can join from home through this ZOOM LINK.
URL:https://lhcc.info/event/church-prayer-time-3/2026-07-08/
LOCATION:Living Hope Christian Church\, 730 South County Trail\, North Kingstown\, RI\, 02852\, United States
CATEGORIES:Prayer
ATTACH;FMTTYPE=image/png:https://lhcc.info/wp-content/uploads/2024/12/Prayer-Times.png
GEO:41.5556183;-71.5189401
X-APPLE-STRUCTURED-LOCATION;VALUE=URI;X-ADDRESS=Living Hope Christian Church 730 South County Trail North Kingstown RI 02852 United States;X-APPLE-RADIUS=500;X-TITLE=730 South County Trail:geo:-71.5189401,41.5556183
END:VEVENT
BEGIN:VEVENT
DTSTART;TZID=America/New_York:20260715T183000
DTEND;TZID=America/New_York:20260715T193000
DTSTAMP:20260423T114437
CREATED:20250605T213559Z
LAST-MODIFIED:20250606T152752Z
UID:10011047-1784140200-1784143800@lhcc.info
SUMMARY:Church Prayer Time
DESCRIPTION:Join us for a time of weekly\, corporate prayer on Wednesday evenings at 6:30pm before our Wednesday night Bible study. \nWe meet at the church or you can join from home through this ZOOM LINK.
URL:https://lhcc.info/event/church-prayer-time-3/2026-07-15/
LOCATION:Living Hope Christian Church\, 730 South County Trail\, North Kingstown\, RI\, 02852\, United States
CATEGORIES:Prayer
ATTACH;FMTTYPE=image/png:https://lhcc.info/wp-content/uploads/2024/12/Prayer-Times.png
GEO:41.5556183;-71.5189401
X-APPLE-STRUCTURED-LOCATION;VALUE=URI;X-ADDRESS=Living Hope Christian Church 730 South County Trail North Kingstown RI 02852 United States;X-APPLE-RADIUS=500;X-TITLE=730 South County Trail:geo:-71.5189401,41.5556183
END:VEVENT
BEGIN:VEVENT
DTSTART;TZID=America/New_York:20260722T183000
DTEND;TZID=America/New_York:20260722T193000
DTSTAMP:20260423T114437
CREATED:20250605T213559Z
LAST-MODIFIED:20250606T152752Z
UID:10011048-1784745000-1784748600@lhcc.info
SUMMARY:Church Prayer Time
DESCRIPTION:Join us for a time of weekly\, corporate prayer on Wednesday evenings at 6:30pm before our Wednesday night Bible study. \nWe meet at the church or you can join from home through this ZOOM LINK.
URL:https://lhcc.info/event/church-prayer-time-3/2026-07-22/
LOCATION:Living Hope Christian Church\, 730 South County Trail\, North Kingstown\, RI\, 02852\, United States
CATEGORIES:Prayer
ATTACH;FMTTYPE=image/png:https://lhcc.info/wp-content/uploads/2024/12/Prayer-Times.png
GEO:41.5556183;-71.5189401
X-APPLE-STRUCTURED-LOCATION;VALUE=URI;X-ADDRESS=Living Hope Christian Church 730 South County Trail North Kingstown RI 02852 United States;X-APPLE-RADIUS=500;X-TITLE=730 South County Trail:geo:-71.5189401,41.5556183
END:VEVENT
BEGIN:VEVENT
DTSTART;TZID=America/New_York:20260729T183000
DTEND;TZID=America/New_York:20260729T193000
DTSTAMP:20260423T114437
CREATED:20250605T213559Z
LAST-MODIFIED:20250606T152752Z
UID:10011049-1785349800-1785353400@lhcc.info
SUMMARY:Church Prayer Time
DESCRIPTION:Join us for a time of weekly\, corporate prayer on Wednesday evenings at 6:30pm before our Wednesday night Bible study. \nWe meet at the church or you can join from home through this ZOOM LINK.
URL:https://lhcc.info/event/church-prayer-time-3/2026-07-29/
LOCATION:Living Hope Christian Church\, 730 South County Trail\, North Kingstown\, RI\, 02852\, United States
CATEGORIES:Prayer
ATTACH;FMTTYPE=image/png:https://lhcc.info/wp-content/uploads/2024/12/Prayer-Times.png
GEO:41.5556183;-71.5189401
X-APPLE-STRUCTURED-LOCATION;VALUE=URI;X-ADDRESS=Living Hope Christian Church 730 South County Trail North Kingstown RI 02852 United States;X-APPLE-RADIUS=500;X-TITLE=730 South County Trail:geo:-71.5189401,41.5556183
END:VEVENT
BEGIN:VEVENT
DTSTART;TZID=America/New_York:20260805T183000
DTEND;TZID=America/New_York:20260805T193000
DTSTAMP:20260423T114437
CREATED:20250605T213559Z
LAST-MODIFIED:20250606T152752Z
UID:10011050-1785954600-1785958200@lhcc.info
SUMMARY:Church Prayer Time
DESCRIPTION:Join us for a time of weekly\, corporate prayer on Wednesday evenings at 6:30pm before our Wednesday night Bible study. \nWe meet at the church or you can join from home through this ZOOM LINK.
URL:https://lhcc.info/event/church-prayer-time-3/2026-08-05/
LOCATION:Living Hope Christian Church\, 730 South County Trail\, North Kingstown\, RI\, 02852\, United States
CATEGORIES:Prayer
ATTACH;FMTTYPE=image/png:https://lhcc.info/wp-content/uploads/2024/12/Prayer-Times.png
GEO:41.5556183;-71.5189401
X-APPLE-STRUCTURED-LOCATION;VALUE=URI;X-ADDRESS=Living Hope Christian Church 730 South County Trail North Kingstown RI 02852 United States;X-APPLE-RADIUS=500;X-TITLE=730 South County Trail:geo:-71.5189401,41.5556183
END:VEVENT
BEGIN:VEVENT
DTSTART;TZID=America/New_York:20260812T183000
DTEND;TZID=America/New_York:20260812T193000
DTSTAMP:20260423T114437
CREATED:20250605T213559Z
LAST-MODIFIED:20250606T152752Z
UID:10011051-1786559400-1786563000@lhcc.info
SUMMARY:Church Prayer Time
DESCRIPTION:Join us for a time of weekly\, corporate prayer on Wednesday evenings at 6:30pm before our Wednesday night Bible study. \nWe meet at the church or you can join from home through this ZOOM LINK.
URL:https://lhcc.info/event/church-prayer-time-3/2026-08-12/
LOCATION:Living Hope Christian Church\, 730 South County Trail\, North Kingstown\, RI\, 02852\, United States
CATEGORIES:Prayer
ATTACH;FMTTYPE=image/png:https://lhcc.info/wp-content/uploads/2024/12/Prayer-Times.png
GEO:41.5556183;-71.5189401
X-APPLE-STRUCTURED-LOCATION;VALUE=URI;X-ADDRESS=Living Hope Christian Church 730 South County Trail North Kingstown RI 02852 United States;X-APPLE-RADIUS=500;X-TITLE=730 South County Trail:geo:-71.5189401,41.5556183
END:VEVENT
BEGIN:VEVENT
DTSTART;TZID=America/New_York:20260819T183000
DTEND;TZID=America/New_York:20260819T193000
DTSTAMP:20260423T114437
CREATED:20250605T213559Z
LAST-MODIFIED:20250606T152752Z
UID:10011052-1787164200-1787167800@lhcc.info
SUMMARY:Church Prayer Time
DESCRIPTION:Join us for a time of weekly\, corporate prayer on Wednesday evenings at 6:30pm before our Wednesday night Bible study. \nWe meet at the church or you can join from home through this ZOOM LINK.
URL:https://lhcc.info/event/church-prayer-time-3/2026-08-19/
LOCATION:Living Hope Christian Church\, 730 South County Trail\, North Kingstown\, RI\, 02852\, United States
CATEGORIES:Prayer
ATTACH;FMTTYPE=image/png:https://lhcc.info/wp-content/uploads/2024/12/Prayer-Times.png
GEO:41.5556183;-71.5189401
X-APPLE-STRUCTURED-LOCATION;VALUE=URI;X-ADDRESS=Living Hope Christian Church 730 South County Trail North Kingstown RI 02852 United States;X-APPLE-RADIUS=500;X-TITLE=730 South County Trail:geo:-71.5189401,41.5556183
END:VEVENT
BEGIN:VEVENT
DTSTART;TZID=America/New_York:20260826T183000
DTEND;TZID=America/New_York:20260826T193000
DTSTAMP:20260423T114437
CREATED:20250605T213559Z
LAST-MODIFIED:20250606T152752Z
UID:10011053-1787769000-1787772600@lhcc.info
SUMMARY:Church Prayer Time
DESCRIPTION:Join us for a time of weekly\, corporate prayer on Wednesday evenings at 6:30pm before our Wednesday night Bible study. \nWe meet at the church or you can join from home through this ZOOM LINK.
URL:https://lhcc.info/event/church-prayer-time-3/2026-08-26/
LOCATION:Living Hope Christian Church\, 730 South County Trail\, North Kingstown\, RI\, 02852\, United States
CATEGORIES:Prayer
ATTACH;FMTTYPE=image/png:https://lhcc.info/wp-content/uploads/2024/12/Prayer-Times.png
GEO:41.5556183;-71.5189401
X-APPLE-STRUCTURED-LOCATION;VALUE=URI;X-ADDRESS=Living Hope Christian Church 730 South County Trail North Kingstown RI 02852 United States;X-APPLE-RADIUS=500;X-TITLE=730 South County Trail:geo:-71.5189401,41.5556183
END:VEVENT
BEGIN:VEVENT
DTSTART;TZID=America/New_York:20260902T183000
DTEND;TZID=America/New_York:20260902T193000
DTSTAMP:20260423T114437
CREATED:20250605T213559Z
LAST-MODIFIED:20250606T152752Z
UID:10011054-1788373800-1788377400@lhcc.info
SUMMARY:Church Prayer Time
DESCRIPTION:Join us for a time of weekly\, corporate prayer on Wednesday evenings at 6:30pm before our Wednesday night Bible study. \nWe meet at the church or you can join from home through this ZOOM LINK.
URL:https://lhcc.info/event/church-prayer-time-3/2026-09-02/
LOCATION:Living Hope Christian Church\, 730 South County Trail\, North Kingstown\, RI\, 02852\, United States
CATEGORIES:Prayer
ATTACH;FMTTYPE=image/png:https://lhcc.info/wp-content/uploads/2024/12/Prayer-Times.png
GEO:41.5556183;-71.5189401
X-APPLE-STRUCTURED-LOCATION;VALUE=URI;X-ADDRESS=Living Hope Christian Church 730 South County Trail North Kingstown RI 02852 United States;X-APPLE-RADIUS=500;X-TITLE=730 South County Trail:geo:-71.5189401,41.5556183
END:VEVENT
BEGIN:VEVENT
DTSTART;TZID=America/New_York:20260909T183000
DTEND;TZID=America/New_York:20260909T193000
DTSTAMP:20260423T114437
CREATED:20250605T213559Z
LAST-MODIFIED:20250606T152752Z
UID:10011055-1788978600-1788982200@lhcc.info
SUMMARY:Church Prayer Time
DESCRIPTION:Join us for a time of weekly\, corporate prayer on Wednesday evenings at 6:30pm before our Wednesday night Bible study. \nWe meet at the church or you can join from home through this ZOOM LINK.
URL:https://lhcc.info/event/church-prayer-time-3/2026-09-09/
LOCATION:Living Hope Christian Church\, 730 South County Trail\, North Kingstown\, RI\, 02852\, United States
CATEGORIES:Prayer
ATTACH;FMTTYPE=image/png:https://lhcc.info/wp-content/uploads/2024/12/Prayer-Times.png
GEO:41.5556183;-71.5189401
X-APPLE-STRUCTURED-LOCATION;VALUE=URI;X-ADDRESS=Living Hope Christian Church 730 South County Trail North Kingstown RI 02852 United States;X-APPLE-RADIUS=500;X-TITLE=730 South County Trail:geo:-71.5189401,41.5556183
END:VEVENT
BEGIN:VEVENT
DTSTART;TZID=America/New_York:20260916T183000
DTEND;TZID=America/New_York:20260916T193000
DTSTAMP:20260423T114437
CREATED:20250605T213559Z
LAST-MODIFIED:20250606T152752Z
UID:10011056-1789583400-1789587000@lhcc.info
SUMMARY:Church Prayer Time
DESCRIPTION:Join us for a time of weekly\, corporate prayer on Wednesday evenings at 6:30pm before our Wednesday night Bible study. \nWe meet at the church or you can join from home through this ZOOM LINK.
URL:https://lhcc.info/event/church-prayer-time-3/2026-09-16/
LOCATION:Living Hope Christian Church\, 730 South County Trail\, North Kingstown\, RI\, 02852\, United States
CATEGORIES:Prayer
ATTACH;FMTTYPE=image/png:https://lhcc.info/wp-content/uploads/2024/12/Prayer-Times.png
GEO:41.5556183;-71.5189401
X-APPLE-STRUCTURED-LOCATION;VALUE=URI;X-ADDRESS=Living Hope Christian Church 730 South County Trail North Kingstown RI 02852 United States;X-APPLE-RADIUS=500;X-TITLE=730 South County Trail:geo:-71.5189401,41.5556183
END:VEVENT
BEGIN:VEVENT
DTSTART;TZID=America/New_York:20260923T183000
DTEND;TZID=America/New_York:20260923T193000
DTSTAMP:20260423T114437
CREATED:20250605T213559Z
LAST-MODIFIED:20250606T152752Z
UID:10011057-1790188200-1790191800@lhcc.info
SUMMARY:Church Prayer Time
DESCRIPTION:Join us for a time of weekly\, corporate prayer on Wednesday evenings at 6:30pm before our Wednesday night Bible study. \nWe meet at the church or you can join from home through this ZOOM LINK.
URL:https://lhcc.info/event/church-prayer-time-3/2026-09-23/
LOCATION:Living Hope Christian Church\, 730 South County Trail\, North Kingstown\, RI\, 02852\, United States
CATEGORIES:Prayer
ATTACH;FMTTYPE=image/png:https://lhcc.info/wp-content/uploads/2024/12/Prayer-Times.png
GEO:41.5556183;-71.5189401
X-APPLE-STRUCTURED-LOCATION;VALUE=URI;X-ADDRESS=Living Hope Christian Church 730 South County Trail North Kingstown RI 02852 United States;X-APPLE-RADIUS=500;X-TITLE=730 South County Trail:geo:-71.5189401,41.5556183
END:VEVENT
BEGIN:VEVENT
DTSTART;TZID=America/New_York:20260930T183000
DTEND;TZID=America/New_York:20260930T193000
DTSTAMP:20260423T114437
CREATED:20250605T213559Z
LAST-MODIFIED:20250606T152752Z
UID:10011058-1790793000-1790796600@lhcc.info
SUMMARY:Church Prayer Time
DESCRIPTION:Join us for a time of weekly\, corporate prayer on Wednesday evenings at 6:30pm before our Wednesday night Bible study. \nWe meet at the church or you can join from home through this ZOOM LINK.
URL:https://lhcc.info/event/church-prayer-time-3/2026-09-30/
LOCATION:Living Hope Christian Church\, 730 South County Trail\, North Kingstown\, RI\, 02852\, United States
CATEGORIES:Prayer
ATTACH;FMTTYPE=image/png:https://lhcc.info/wp-content/uploads/2024/12/Prayer-Times.png
GEO:41.5556183;-71.5189401
X-APPLE-STRUCTURED-LOCATION;VALUE=URI;X-ADDRESS=Living Hope Christian Church 730 South County Trail North Kingstown RI 02852 United States;X-APPLE-RADIUS=500;X-TITLE=730 South County Trail:geo:-71.5189401,41.5556183
END:VEVENT
END:VCALENDAR