BEGIN:VCALENDAR
VERSION:2.0
PRODID:-//Living Hope Christian Church - ECPv6.15.17.1//NONSGML v1.0//EN
CALSCALE:GREGORIAN
METHOD:PUBLISH
X-WR-CALNAME:Living Hope Christian Church
X-ORIGINAL-URL:https://lhcc.info
X-WR-CALDESC:Events for Living Hope Christian Church
REFRESH-INTERVAL;VALUE=DURATION:PT1H
X-Robots-Tag:noindex
X-PUBLISHED-TTL:PT1H
BEGIN:VTIMEZONE
TZID:America/New_York
BEGIN:DAYLIGHT
TZOFFSETFROM:-0500
TZOFFSETTO:-0400
TZNAME:EDT
DTSTART:20250309T070000
END:DAYLIGHT
BEGIN:STANDARD
TZOFFSETFROM:-0400
TZOFFSETTO:-0500
TZNAME:EST
DTSTART:20251102T060000
END:STANDARD
BEGIN:DAYLIGHT
TZOFFSETFROM:-0500
TZOFFSETTO:-0400
TZNAME:EDT
DTSTART:20260308T070000
END:DAYLIGHT
BEGIN:STANDARD
TZOFFSETFROM:-0400
TZOFFSETTO:-0500
TZNAME:EST
DTSTART:20261101T060000
END:STANDARD
BEGIN:DAYLIGHT
TZOFFSETFROM:-0500
TZOFFSETTO:-0400
TZNAME:EDT
DTSTART:20270314T070000
END:DAYLIGHT
BEGIN:STANDARD
TZOFFSETFROM:-0400
TZOFFSETTO:-0500
TZNAME:EST
DTSTART:20271107T060000
END:STANDARD
END:VTIMEZONE
BEGIN:VEVENT
DTSTART;TZID=America/New_York:20260426T091500
DTEND;TZID=America/New_York:20260426T100000
DTSTAMP:20260423T144225
CREATED:20250612T192708Z
LAST-MODIFIED:20250612T192904Z
UID:10011231-1777194900-1777197600@lhcc.info
SUMMARY:Church Prayer Time
DESCRIPTION:Join us for a time of weekly\, corporate prayer on Sunday mornings at 9:15am before our Sunday church service. \nWe meet in person at the church only for this prayer gathering\, there is no Zoom option.
URL:https://lhcc.info/event/church-prayer-time-2-2/2026-04-26/
LOCATION:Living Hope Christian Church\, 730 South County Trail\, North Kingstown\, RI\, 02852\, United States
CATEGORIES:Prayer
ATTACH;FMTTYPE=image/png:https://lhcc.info/wp-content/uploads/2024/12/Prayer-Times.png
GEO:41.5556183;-71.5189401
X-APPLE-STRUCTURED-LOCATION;VALUE=URI;X-ADDRESS=Living Hope Christian Church 730 South County Trail North Kingstown RI 02852 United States;X-APPLE-RADIUS=500;X-TITLE=730 South County Trail:geo:-71.5189401,41.5556183
END:VEVENT
BEGIN:VEVENT
DTSTART;TZID=America/New_York:20260503T091500
DTEND;TZID=America/New_York:20260503T100000
DTSTAMP:20260423T144225
CREATED:20250612T192708Z
LAST-MODIFIED:20250612T192904Z
UID:10011232-1777799700-1777802400@lhcc.info
SUMMARY:Church Prayer Time
DESCRIPTION:Join us for a time of weekly\, corporate prayer on Sunday mornings at 9:15am before our Sunday church service. \nWe meet in person at the church only for this prayer gathering\, there is no Zoom option.
URL:https://lhcc.info/event/church-prayer-time-2-2/2026-05-03/
LOCATION:Living Hope Christian Church\, 730 South County Trail\, North Kingstown\, RI\, 02852\, United States
CATEGORIES:Prayer
ATTACH;FMTTYPE=image/png:https://lhcc.info/wp-content/uploads/2024/12/Prayer-Times.png
GEO:41.5556183;-71.5189401
X-APPLE-STRUCTURED-LOCATION;VALUE=URI;X-ADDRESS=Living Hope Christian Church 730 South County Trail North Kingstown RI 02852 United States;X-APPLE-RADIUS=500;X-TITLE=730 South County Trail:geo:-71.5189401,41.5556183
END:VEVENT
BEGIN:VEVENT
DTSTART;TZID=America/New_York:20260510T091500
DTEND;TZID=America/New_York:20260510T100000
DTSTAMP:20260423T144225
CREATED:20250612T192708Z
LAST-MODIFIED:20250612T192904Z
UID:10011233-1778404500-1778407200@lhcc.info
SUMMARY:Church Prayer Time
DESCRIPTION:Join us for a time of weekly\, corporate prayer on Sunday mornings at 9:15am before our Sunday church service. \nWe meet in person at the church only for this prayer gathering\, there is no Zoom option.
URL:https://lhcc.info/event/church-prayer-time-2-2/2026-05-10/
LOCATION:Living Hope Christian Church\, 730 South County Trail\, North Kingstown\, RI\, 02852\, United States
CATEGORIES:Prayer
ATTACH;FMTTYPE=image/png:https://lhcc.info/wp-content/uploads/2024/12/Prayer-Times.png
GEO:41.5556183;-71.5189401
X-APPLE-STRUCTURED-LOCATION;VALUE=URI;X-ADDRESS=Living Hope Christian Church 730 South County Trail North Kingstown RI 02852 United States;X-APPLE-RADIUS=500;X-TITLE=730 South County Trail:geo:-71.5189401,41.5556183
END:VEVENT
BEGIN:VEVENT
DTSTART;TZID=America/New_York:20260517T091500
DTEND;TZID=America/New_York:20260517T100000
DTSTAMP:20260423T144225
CREATED:20250612T192708Z
LAST-MODIFIED:20250612T192904Z
UID:10011234-1779009300-1779012000@lhcc.info
SUMMARY:Church Prayer Time
DESCRIPTION:Join us for a time of weekly\, corporate prayer on Sunday mornings at 9:15am before our Sunday church service. \nWe meet in person at the church only for this prayer gathering\, there is no Zoom option.
URL:https://lhcc.info/event/church-prayer-time-2-2/2026-05-17/
LOCATION:Living Hope Christian Church\, 730 South County Trail\, North Kingstown\, RI\, 02852\, United States
CATEGORIES:Prayer
ATTACH;FMTTYPE=image/png:https://lhcc.info/wp-content/uploads/2024/12/Prayer-Times.png
GEO:41.5556183;-71.5189401
X-APPLE-STRUCTURED-LOCATION;VALUE=URI;X-ADDRESS=Living Hope Christian Church 730 South County Trail North Kingstown RI 02852 United States;X-APPLE-RADIUS=500;X-TITLE=730 South County Trail:geo:-71.5189401,41.5556183
END:VEVENT
BEGIN:VEVENT
DTSTART;TZID=America/New_York:20260524T091500
DTEND;TZID=America/New_York:20260524T100000
DTSTAMP:20260423T144225
CREATED:20250612T192708Z
LAST-MODIFIED:20250612T192904Z
UID:10011235-1779614100-1779616800@lhcc.info
SUMMARY:Church Prayer Time
DESCRIPTION:Join us for a time of weekly\, corporate prayer on Sunday mornings at 9:15am before our Sunday church service. \nWe meet in person at the church only for this prayer gathering\, there is no Zoom option.
URL:https://lhcc.info/event/church-prayer-time-2-2/2026-05-24/
LOCATION:Living Hope Christian Church\, 730 South County Trail\, North Kingstown\, RI\, 02852\, United States
CATEGORIES:Prayer
ATTACH;FMTTYPE=image/png:https://lhcc.info/wp-content/uploads/2024/12/Prayer-Times.png
GEO:41.5556183;-71.5189401
X-APPLE-STRUCTURED-LOCATION;VALUE=URI;X-ADDRESS=Living Hope Christian Church 730 South County Trail North Kingstown RI 02852 United States;X-APPLE-RADIUS=500;X-TITLE=730 South County Trail:geo:-71.5189401,41.5556183
END:VEVENT
BEGIN:VEVENT
DTSTART;TZID=America/New_York:20260531T091500
DTEND;TZID=America/New_York:20260531T100000
DTSTAMP:20260423T144225
CREATED:20250612T192708Z
LAST-MODIFIED:20250612T192904Z
UID:10011236-1780218900-1780221600@lhcc.info
SUMMARY:Church Prayer Time
DESCRIPTION:Join us for a time of weekly\, corporate prayer on Sunday mornings at 9:15am before our Sunday church service. \nWe meet in person at the church only for this prayer gathering\, there is no Zoom option.
URL:https://lhcc.info/event/church-prayer-time-2-2/2026-05-31/
LOCATION:Living Hope Christian Church\, 730 South County Trail\, North Kingstown\, RI\, 02852\, United States
CATEGORIES:Prayer
ATTACH;FMTTYPE=image/png:https://lhcc.info/wp-content/uploads/2024/12/Prayer-Times.png
GEO:41.5556183;-71.5189401
X-APPLE-STRUCTURED-LOCATION;VALUE=URI;X-ADDRESS=Living Hope Christian Church 730 South County Trail North Kingstown RI 02852 United States;X-APPLE-RADIUS=500;X-TITLE=730 South County Trail:geo:-71.5189401,41.5556183
END:VEVENT
BEGIN:VEVENT
DTSTART;TZID=America/New_York:20260607T091500
DTEND;TZID=America/New_York:20260607T100000
DTSTAMP:20260423T144225
CREATED:20250612T192708Z
LAST-MODIFIED:20250612T192904Z
UID:10011237-1780823700-1780826400@lhcc.info
SUMMARY:Church Prayer Time
DESCRIPTION:Join us for a time of weekly\, corporate prayer on Sunday mornings at 9:15am before our Sunday church service. \nWe meet in person at the church only for this prayer gathering\, there is no Zoom option.
URL:https://lhcc.info/event/church-prayer-time-2-2/2026-06-07/
LOCATION:Living Hope Christian Church\, 730 South County Trail\, North Kingstown\, RI\, 02852\, United States
CATEGORIES:Prayer
ATTACH;FMTTYPE=image/png:https://lhcc.info/wp-content/uploads/2024/12/Prayer-Times.png
GEO:41.5556183;-71.5189401
X-APPLE-STRUCTURED-LOCATION;VALUE=URI;X-ADDRESS=Living Hope Christian Church 730 South County Trail North Kingstown RI 02852 United States;X-APPLE-RADIUS=500;X-TITLE=730 South County Trail:geo:-71.5189401,41.5556183
END:VEVENT
BEGIN:VEVENT
DTSTART;TZID=America/New_York:20260614T091500
DTEND;TZID=America/New_York:20260614T100000
DTSTAMP:20260423T144225
CREATED:20250612T192708Z
LAST-MODIFIED:20250612T192904Z
UID:10011238-1781428500-1781431200@lhcc.info
SUMMARY:Church Prayer Time
DESCRIPTION:Join us for a time of weekly\, corporate prayer on Sunday mornings at 9:15am before our Sunday church service. \nWe meet in person at the church only for this prayer gathering\, there is no Zoom option.
URL:https://lhcc.info/event/church-prayer-time-2-2/2026-06-14/
LOCATION:Living Hope Christian Church\, 730 South County Trail\, North Kingstown\, RI\, 02852\, United States
CATEGORIES:Prayer
ATTACH;FMTTYPE=image/png:https://lhcc.info/wp-content/uploads/2024/12/Prayer-Times.png
GEO:41.5556183;-71.5189401
X-APPLE-STRUCTURED-LOCATION;VALUE=URI;X-ADDRESS=Living Hope Christian Church 730 South County Trail North Kingstown RI 02852 United States;X-APPLE-RADIUS=500;X-TITLE=730 South County Trail:geo:-71.5189401,41.5556183
END:VEVENT
BEGIN:VEVENT
DTSTART;TZID=America/New_York:20260621T091500
DTEND;TZID=America/New_York:20260621T100000
DTSTAMP:20260423T144225
CREATED:20250612T192708Z
LAST-MODIFIED:20250612T192904Z
UID:10011239-1782033300-1782036000@lhcc.info
SUMMARY:Church Prayer Time
DESCRIPTION:Join us for a time of weekly\, corporate prayer on Sunday mornings at 9:15am before our Sunday church service. \nWe meet in person at the church only for this prayer gathering\, there is no Zoom option.
URL:https://lhcc.info/event/church-prayer-time-2-2/2026-06-21/
LOCATION:Living Hope Christian Church\, 730 South County Trail\, North Kingstown\, RI\, 02852\, United States
CATEGORIES:Prayer
ATTACH;FMTTYPE=image/png:https://lhcc.info/wp-content/uploads/2024/12/Prayer-Times.png
GEO:41.5556183;-71.5189401
X-APPLE-STRUCTURED-LOCATION;VALUE=URI;X-ADDRESS=Living Hope Christian Church 730 South County Trail North Kingstown RI 02852 United States;X-APPLE-RADIUS=500;X-TITLE=730 South County Trail:geo:-71.5189401,41.5556183
END:VEVENT
BEGIN:VEVENT
DTSTART;TZID=America/New_York:20260628T091500
DTEND;TZID=America/New_York:20260628T100000
DTSTAMP:20260423T144225
CREATED:20250612T192708Z
LAST-MODIFIED:20250612T192904Z
UID:10011240-1782638100-1782640800@lhcc.info
SUMMARY:Church Prayer Time
DESCRIPTION:Join us for a time of weekly\, corporate prayer on Sunday mornings at 9:15am before our Sunday church service. \nWe meet in person at the church only for this prayer gathering\, there is no Zoom option.
URL:https://lhcc.info/event/church-prayer-time-2-2/2026-06-28/
LOCATION:Living Hope Christian Church\, 730 South County Trail\, North Kingstown\, RI\, 02852\, United States
CATEGORIES:Prayer
ATTACH;FMTTYPE=image/png:https://lhcc.info/wp-content/uploads/2024/12/Prayer-Times.png
GEO:41.5556183;-71.5189401
X-APPLE-STRUCTURED-LOCATION;VALUE=URI;X-ADDRESS=Living Hope Christian Church 730 South County Trail North Kingstown RI 02852 United States;X-APPLE-RADIUS=500;X-TITLE=730 South County Trail:geo:-71.5189401,41.5556183
END:VEVENT
BEGIN:VEVENT
DTSTART;TZID=America/New_York:20260705T091500
DTEND;TZID=America/New_York:20260705T100000
DTSTAMP:20260423T144225
CREATED:20250612T192708Z
LAST-MODIFIED:20250612T192904Z
UID:10011241-1783242900-1783245600@lhcc.info
SUMMARY:Church Prayer Time
DESCRIPTION:Join us for a time of weekly\, corporate prayer on Sunday mornings at 9:15am before our Sunday church service. \nWe meet in person at the church only for this prayer gathering\, there is no Zoom option.
URL:https://lhcc.info/event/church-prayer-time-2-2/2026-07-05/
LOCATION:Living Hope Christian Church\, 730 South County Trail\, North Kingstown\, RI\, 02852\, United States
CATEGORIES:Prayer
ATTACH;FMTTYPE=image/png:https://lhcc.info/wp-content/uploads/2024/12/Prayer-Times.png
GEO:41.5556183;-71.5189401
X-APPLE-STRUCTURED-LOCATION;VALUE=URI;X-ADDRESS=Living Hope Christian Church 730 South County Trail North Kingstown RI 02852 United States;X-APPLE-RADIUS=500;X-TITLE=730 South County Trail:geo:-71.5189401,41.5556183
END:VEVENT
BEGIN:VEVENT
DTSTART;TZID=America/New_York:20260712T091500
DTEND;TZID=America/New_York:20260712T100000
DTSTAMP:20260423T144225
CREATED:20250612T192708Z
LAST-MODIFIED:20250612T192904Z
UID:10011242-1783847700-1783850400@lhcc.info
SUMMARY:Church Prayer Time
DESCRIPTION:Join us for a time of weekly\, corporate prayer on Sunday mornings at 9:15am before our Sunday church service. \nWe meet in person at the church only for this prayer gathering\, there is no Zoom option.
URL:https://lhcc.info/event/church-prayer-time-2-2/2026-07-12/
LOCATION:Living Hope Christian Church\, 730 South County Trail\, North Kingstown\, RI\, 02852\, United States
CATEGORIES:Prayer
ATTACH;FMTTYPE=image/png:https://lhcc.info/wp-content/uploads/2024/12/Prayer-Times.png
GEO:41.5556183;-71.5189401
X-APPLE-STRUCTURED-LOCATION;VALUE=URI;X-ADDRESS=Living Hope Christian Church 730 South County Trail North Kingstown RI 02852 United States;X-APPLE-RADIUS=500;X-TITLE=730 South County Trail:geo:-71.5189401,41.5556183
END:VEVENT
BEGIN:VEVENT
DTSTART;TZID=America/New_York:20260719T091500
DTEND;TZID=America/New_York:20260719T100000
DTSTAMP:20260423T144225
CREATED:20250612T192708Z
LAST-MODIFIED:20250612T192904Z
UID:10011243-1784452500-1784455200@lhcc.info
SUMMARY:Church Prayer Time
DESCRIPTION:Join us for a time of weekly\, corporate prayer on Sunday mornings at 9:15am before our Sunday church service. \nWe meet in person at the church only for this prayer gathering\, there is no Zoom option.
URL:https://lhcc.info/event/church-prayer-time-2-2/2026-07-19/
LOCATION:Living Hope Christian Church\, 730 South County Trail\, North Kingstown\, RI\, 02852\, United States
CATEGORIES:Prayer
ATTACH;FMTTYPE=image/png:https://lhcc.info/wp-content/uploads/2024/12/Prayer-Times.png
GEO:41.5556183;-71.5189401
X-APPLE-STRUCTURED-LOCATION;VALUE=URI;X-ADDRESS=Living Hope Christian Church 730 South County Trail North Kingstown RI 02852 United States;X-APPLE-RADIUS=500;X-TITLE=730 South County Trail:geo:-71.5189401,41.5556183
END:VEVENT
BEGIN:VEVENT
DTSTART;TZID=America/New_York:20260726T091500
DTEND;TZID=America/New_York:20260726T100000
DTSTAMP:20260423T144225
CREATED:20250612T192708Z
LAST-MODIFIED:20250612T192904Z
UID:10011244-1785057300-1785060000@lhcc.info
SUMMARY:Church Prayer Time
DESCRIPTION:Join us for a time of weekly\, corporate prayer on Sunday mornings at 9:15am before our Sunday church service. \nWe meet in person at the church only for this prayer gathering\, there is no Zoom option.
URL:https://lhcc.info/event/church-prayer-time-2-2/2026-07-26/
LOCATION:Living Hope Christian Church\, 730 South County Trail\, North Kingstown\, RI\, 02852\, United States
CATEGORIES:Prayer
ATTACH;FMTTYPE=image/png:https://lhcc.info/wp-content/uploads/2024/12/Prayer-Times.png
GEO:41.5556183;-71.5189401
X-APPLE-STRUCTURED-LOCATION;VALUE=URI;X-ADDRESS=Living Hope Christian Church 730 South County Trail North Kingstown RI 02852 United States;X-APPLE-RADIUS=500;X-TITLE=730 South County Trail:geo:-71.5189401,41.5556183
END:VEVENT
BEGIN:VEVENT
DTSTART;TZID=America/New_York:20260802T091500
DTEND;TZID=America/New_York:20260802T100000
DTSTAMP:20260423T144225
CREATED:20250612T192708Z
LAST-MODIFIED:20250612T192904Z
UID:10011245-1785662100-1785664800@lhcc.info
SUMMARY:Church Prayer Time
DESCRIPTION:Join us for a time of weekly\, corporate prayer on Sunday mornings at 9:15am before our Sunday church service. \nWe meet in person at the church only for this prayer gathering\, there is no Zoom option.
URL:https://lhcc.info/event/church-prayer-time-2-2/2026-08-02/
LOCATION:Living Hope Christian Church\, 730 South County Trail\, North Kingstown\, RI\, 02852\, United States
CATEGORIES:Prayer
ATTACH;FMTTYPE=image/png:https://lhcc.info/wp-content/uploads/2024/12/Prayer-Times.png
GEO:41.5556183;-71.5189401
X-APPLE-STRUCTURED-LOCATION;VALUE=URI;X-ADDRESS=Living Hope Christian Church 730 South County Trail North Kingstown RI 02852 United States;X-APPLE-RADIUS=500;X-TITLE=730 South County Trail:geo:-71.5189401,41.5556183
END:VEVENT
BEGIN:VEVENT
DTSTART;TZID=America/New_York:20260809T091500
DTEND;TZID=America/New_York:20260809T100000
DTSTAMP:20260423T144225
CREATED:20250612T192708Z
LAST-MODIFIED:20250612T192904Z
UID:10011246-1786266900-1786269600@lhcc.info
SUMMARY:Church Prayer Time
DESCRIPTION:Join us for a time of weekly\, corporate prayer on Sunday mornings at 9:15am before our Sunday church service. \nWe meet in person at the church only for this prayer gathering\, there is no Zoom option.
URL:https://lhcc.info/event/church-prayer-time-2-2/2026-08-09/
LOCATION:Living Hope Christian Church\, 730 South County Trail\, North Kingstown\, RI\, 02852\, United States
CATEGORIES:Prayer
ATTACH;FMTTYPE=image/png:https://lhcc.info/wp-content/uploads/2024/12/Prayer-Times.png
GEO:41.5556183;-71.5189401
X-APPLE-STRUCTURED-LOCATION;VALUE=URI;X-ADDRESS=Living Hope Christian Church 730 South County Trail North Kingstown RI 02852 United States;X-APPLE-RADIUS=500;X-TITLE=730 South County Trail:geo:-71.5189401,41.5556183
END:VEVENT
BEGIN:VEVENT
DTSTART;TZID=America/New_York:20260816T091500
DTEND;TZID=America/New_York:20260816T100000
DTSTAMP:20260423T144225
CREATED:20250612T192708Z
LAST-MODIFIED:20250612T192904Z
UID:10011247-1786871700-1786874400@lhcc.info
SUMMARY:Church Prayer Time
DESCRIPTION:Join us for a time of weekly\, corporate prayer on Sunday mornings at 9:15am before our Sunday church service. \nWe meet in person at the church only for this prayer gathering\, there is no Zoom option.
URL:https://lhcc.info/event/church-prayer-time-2-2/2026-08-16/
LOCATION:Living Hope Christian Church\, 730 South County Trail\, North Kingstown\, RI\, 02852\, United States
CATEGORIES:Prayer
ATTACH;FMTTYPE=image/png:https://lhcc.info/wp-content/uploads/2024/12/Prayer-Times.png
GEO:41.5556183;-71.5189401
X-APPLE-STRUCTURED-LOCATION;VALUE=URI;X-ADDRESS=Living Hope Christian Church 730 South County Trail North Kingstown RI 02852 United States;X-APPLE-RADIUS=500;X-TITLE=730 South County Trail:geo:-71.5189401,41.5556183
END:VEVENT
BEGIN:VEVENT
DTSTART;TZID=America/New_York:20260823T091500
DTEND;TZID=America/New_York:20260823T100000
DTSTAMP:20260423T144225
CREATED:20250612T192708Z
LAST-MODIFIED:20250612T192904Z
UID:10011248-1787476500-1787479200@lhcc.info
SUMMARY:Church Prayer Time
DESCRIPTION:Join us for a time of weekly\, corporate prayer on Sunday mornings at 9:15am before our Sunday church service. \nWe meet in person at the church only for this prayer gathering\, there is no Zoom option.
URL:https://lhcc.info/event/church-prayer-time-2-2/2026-08-23/
LOCATION:Living Hope Christian Church\, 730 South County Trail\, North Kingstown\, RI\, 02852\, United States
CATEGORIES:Prayer
ATTACH;FMTTYPE=image/png:https://lhcc.info/wp-content/uploads/2024/12/Prayer-Times.png
GEO:41.5556183;-71.5189401
X-APPLE-STRUCTURED-LOCATION;VALUE=URI;X-ADDRESS=Living Hope Christian Church 730 South County Trail North Kingstown RI 02852 United States;X-APPLE-RADIUS=500;X-TITLE=730 South County Trail:geo:-71.5189401,41.5556183
END:VEVENT
BEGIN:VEVENT
DTSTART;TZID=America/New_York:20260830T091500
DTEND;TZID=America/New_York:20260830T100000
DTSTAMP:20260423T144225
CREATED:20250612T192708Z
LAST-MODIFIED:20250612T192904Z
UID:10011249-1788081300-1788084000@lhcc.info
SUMMARY:Church Prayer Time
DESCRIPTION:Join us for a time of weekly\, corporate prayer on Sunday mornings at 9:15am before our Sunday church service. \nWe meet in person at the church only for this prayer gathering\, there is no Zoom option.
URL:https://lhcc.info/event/church-prayer-time-2-2/2026-08-30/
LOCATION:Living Hope Christian Church\, 730 South County Trail\, North Kingstown\, RI\, 02852\, United States
CATEGORIES:Prayer
ATTACH;FMTTYPE=image/png:https://lhcc.info/wp-content/uploads/2024/12/Prayer-Times.png
GEO:41.5556183;-71.5189401
X-APPLE-STRUCTURED-LOCATION;VALUE=URI;X-ADDRESS=Living Hope Christian Church 730 South County Trail North Kingstown RI 02852 United States;X-APPLE-RADIUS=500;X-TITLE=730 South County Trail:geo:-71.5189401,41.5556183
END:VEVENT
BEGIN:VEVENT
DTSTART;TZID=America/New_York:20260906T091500
DTEND;TZID=America/New_York:20260906T100000
DTSTAMP:20260423T144225
CREATED:20250612T192708Z
LAST-MODIFIED:20250612T192904Z
UID:10011250-1788686100-1788688800@lhcc.info
SUMMARY:Church Prayer Time
DESCRIPTION:Join us for a time of weekly\, corporate prayer on Sunday mornings at 9:15am before our Sunday church service. \nWe meet in person at the church only for this prayer gathering\, there is no Zoom option.
URL:https://lhcc.info/event/church-prayer-time-2-2/2026-09-06/
LOCATION:Living Hope Christian Church\, 730 South County Trail\, North Kingstown\, RI\, 02852\, United States
CATEGORIES:Prayer
ATTACH;FMTTYPE=image/png:https://lhcc.info/wp-content/uploads/2024/12/Prayer-Times.png
GEO:41.5556183;-71.5189401
X-APPLE-STRUCTURED-LOCATION;VALUE=URI;X-ADDRESS=Living Hope Christian Church 730 South County Trail North Kingstown RI 02852 United States;X-APPLE-RADIUS=500;X-TITLE=730 South County Trail:geo:-71.5189401,41.5556183
END:VEVENT
BEGIN:VEVENT
DTSTART;TZID=America/New_York:20260913T091500
DTEND;TZID=America/New_York:20260913T100000
DTSTAMP:20260423T144225
CREATED:20250612T192708Z
LAST-MODIFIED:20250612T192904Z
UID:10011251-1789290900-1789293600@lhcc.info
SUMMARY:Church Prayer Time
DESCRIPTION:Join us for a time of weekly\, corporate prayer on Sunday mornings at 9:15am before our Sunday church service. \nWe meet in person at the church only for this prayer gathering\, there is no Zoom option.
URL:https://lhcc.info/event/church-prayer-time-2-2/2026-09-13/
LOCATION:Living Hope Christian Church\, 730 South County Trail\, North Kingstown\, RI\, 02852\, United States
CATEGORIES:Prayer
ATTACH;FMTTYPE=image/png:https://lhcc.info/wp-content/uploads/2024/12/Prayer-Times.png
GEO:41.5556183;-71.5189401
X-APPLE-STRUCTURED-LOCATION;VALUE=URI;X-ADDRESS=Living Hope Christian Church 730 South County Trail North Kingstown RI 02852 United States;X-APPLE-RADIUS=500;X-TITLE=730 South County Trail:geo:-71.5189401,41.5556183
END:VEVENT
BEGIN:VEVENT
DTSTART;TZID=America/New_York:20260920T091500
DTEND;TZID=America/New_York:20260920T100000
DTSTAMP:20260423T144225
CREATED:20250612T192708Z
LAST-MODIFIED:20250612T192904Z
UID:10011252-1789895700-1789898400@lhcc.info
SUMMARY:Church Prayer Time
DESCRIPTION:Join us for a time of weekly\, corporate prayer on Sunday mornings at 9:15am before our Sunday church service. \nWe meet in person at the church only for this prayer gathering\, there is no Zoom option.
URL:https://lhcc.info/event/church-prayer-time-2-2/2026-09-20/
LOCATION:Living Hope Christian Church\, 730 South County Trail\, North Kingstown\, RI\, 02852\, United States
CATEGORIES:Prayer
ATTACH;FMTTYPE=image/png:https://lhcc.info/wp-content/uploads/2024/12/Prayer-Times.png
GEO:41.5556183;-71.5189401
X-APPLE-STRUCTURED-LOCATION;VALUE=URI;X-ADDRESS=Living Hope Christian Church 730 South County Trail North Kingstown RI 02852 United States;X-APPLE-RADIUS=500;X-TITLE=730 South County Trail:geo:-71.5189401,41.5556183
END:VEVENT
BEGIN:VEVENT
DTSTART;TZID=America/New_York:20260927T091500
DTEND;TZID=America/New_York:20260927T100000
DTSTAMP:20260423T144225
CREATED:20250612T192708Z
LAST-MODIFIED:20250612T192904Z
UID:10011253-1790500500-1790503200@lhcc.info
SUMMARY:Church Prayer Time
DESCRIPTION:Join us for a time of weekly\, corporate prayer on Sunday mornings at 9:15am before our Sunday church service. \nWe meet in person at the church only for this prayer gathering\, there is no Zoom option.
URL:https://lhcc.info/event/church-prayer-time-2-2/2026-09-27/
LOCATION:Living Hope Christian Church\, 730 South County Trail\, North Kingstown\, RI\, 02852\, United States
CATEGORIES:Prayer
ATTACH;FMTTYPE=image/png:https://lhcc.info/wp-content/uploads/2024/12/Prayer-Times.png
GEO:41.5556183;-71.5189401
X-APPLE-STRUCTURED-LOCATION;VALUE=URI;X-ADDRESS=Living Hope Christian Church 730 South County Trail North Kingstown RI 02852 United States;X-APPLE-RADIUS=500;X-TITLE=730 South County Trail:geo:-71.5189401,41.5556183
END:VEVENT
END:VCALENDAR