BEGIN:VCALENDAR
VERSION:2.0
PRODID:-//Living Hope Christian Church - ECPv6.15.17.1//NONSGML v1.0//EN
CALSCALE:GREGORIAN
METHOD:PUBLISH
X-WR-CALNAME:Living Hope Christian Church
X-ORIGINAL-URL:https://lhcc.info
X-WR-CALDESC:Events for Living Hope Christian Church
REFRESH-INTERVAL;VALUE=DURATION:PT1H
X-Robots-Tag:noindex
X-PUBLISHED-TTL:PT1H
BEGIN:VTIMEZONE
TZID:America/New_York
BEGIN:DAYLIGHT
TZOFFSETFROM:-0500
TZOFFSETTO:-0400
TZNAME:EDT
DTSTART:20250309T070000
END:DAYLIGHT
BEGIN:STANDARD
TZOFFSETFROM:-0400
TZOFFSETTO:-0500
TZNAME:EST
DTSTART:20251102T060000
END:STANDARD
BEGIN:DAYLIGHT
TZOFFSETFROM:-0500
TZOFFSETTO:-0400
TZNAME:EDT
DTSTART:20260308T070000
END:DAYLIGHT
BEGIN:STANDARD
TZOFFSETFROM:-0400
TZOFFSETTO:-0500
TZNAME:EST
DTSTART:20261101T060000
END:STANDARD
BEGIN:DAYLIGHT
TZOFFSETFROM:-0500
TZOFFSETTO:-0400
TZNAME:EDT
DTSTART:20270314T070000
END:DAYLIGHT
BEGIN:STANDARD
TZOFFSETFROM:-0400
TZOFFSETTO:-0500
TZNAME:EST
DTSTART:20271107T060000
END:STANDARD
BEGIN:DAYLIGHT
TZOFFSETFROM:-0500
TZOFFSETTO:-0400
TZNAME:EDT
DTSTART:20280312T070000
END:DAYLIGHT
BEGIN:STANDARD
TZOFFSETFROM:-0400
TZOFFSETTO:-0500
TZNAME:EST
DTSTART:20281105T060000
END:STANDARD
END:VTIMEZONE
BEGIN:VEVENT
DTSTART;VALUE=DATE:20260518
DTEND;VALUE=DATE:20260519
DTSTAMP:20260423T130933
CREATED:20200717T163202Z
LAST-MODIFIED:20230829T185556Z
UID:10004773-1779062400-1779148799@lhcc.info
SUMMARY:24/7 Day of Prayer
DESCRIPTION:The third Monday of each month we have committed to praying as a church for all 24 hours of that day! We come along side Together We Pray who’s mission is to have someone praying every minute\, of every hour\, of every day…what an powerful thing to be a part of! \nSo please remember to pray at your scheduled time or take an hour or any amount of time you can to join us in prayer today!
URL:https://lhcc.info/event/24-7-day-of-prayer/2026-05-18/
LOCATION:Living Hope Christian Church\, 730 South County Trail\, North Kingstown\, RI\, 02852\, United States
CATEGORIES:Prayer
ATTACH;FMTTYPE=image/jpeg:https://lhcc.info/wp-content/uploads/2020/07/24-7-Day-of-Prayer.jpg
GEO:41.5556183;-71.5189401
X-APPLE-STRUCTURED-LOCATION;VALUE=URI;X-ADDRESS=Living Hope Christian Church 730 South County Trail North Kingstown RI 02852 United States;X-APPLE-RADIUS=500;X-TITLE=730 South County Trail:geo:-71.5189401,41.5556183
END:VEVENT
BEGIN:VEVENT
DTSTART;VALUE=DATE:20260615
DTEND;VALUE=DATE:20260616
DTSTAMP:20260423T130933
CREATED:20200717T163202Z
LAST-MODIFIED:20230829T185556Z
UID:10004774-1781481600-1781567999@lhcc.info
SUMMARY:24/7 Day of Prayer
DESCRIPTION:The third Monday of each month we have committed to praying as a church for all 24 hours of that day! We come along side Together We Pray who’s mission is to have someone praying every minute\, of every hour\, of every day…what an powerful thing to be a part of! \nSo please remember to pray at your scheduled time or take an hour or any amount of time you can to join us in prayer today!
URL:https://lhcc.info/event/24-7-day-of-prayer/2026-06-15/
LOCATION:Living Hope Christian Church\, 730 South County Trail\, North Kingstown\, RI\, 02852\, United States
CATEGORIES:Prayer
ATTACH;FMTTYPE=image/jpeg:https://lhcc.info/wp-content/uploads/2020/07/24-7-Day-of-Prayer.jpg
GEO:41.5556183;-71.5189401
X-APPLE-STRUCTURED-LOCATION;VALUE=URI;X-ADDRESS=Living Hope Christian Church 730 South County Trail North Kingstown RI 02852 United States;X-APPLE-RADIUS=500;X-TITLE=730 South County Trail:geo:-71.5189401,41.5556183
END:VEVENT
BEGIN:VEVENT
DTSTART;VALUE=DATE:20260720
DTEND;VALUE=DATE:20260721
DTSTAMP:20260423T130933
CREATED:20200717T163202Z
LAST-MODIFIED:20230829T185556Z
UID:10004775-1784505600-1784591999@lhcc.info
SUMMARY:24/7 Day of Prayer
DESCRIPTION:The third Monday of each month we have committed to praying as a church for all 24 hours of that day! We come along side Together We Pray who’s mission is to have someone praying every minute\, of every hour\, of every day…what an powerful thing to be a part of! \nSo please remember to pray at your scheduled time or take an hour or any amount of time you can to join us in prayer today!
URL:https://lhcc.info/event/24-7-day-of-prayer/2026-07-20/
LOCATION:Living Hope Christian Church\, 730 South County Trail\, North Kingstown\, RI\, 02852\, United States
CATEGORIES:Prayer
ATTACH;FMTTYPE=image/jpeg:https://lhcc.info/wp-content/uploads/2020/07/24-7-Day-of-Prayer.jpg
GEO:41.5556183;-71.5189401
X-APPLE-STRUCTURED-LOCATION;VALUE=URI;X-ADDRESS=Living Hope Christian Church 730 South County Trail North Kingstown RI 02852 United States;X-APPLE-RADIUS=500;X-TITLE=730 South County Trail:geo:-71.5189401,41.5556183
END:VEVENT
BEGIN:VEVENT
DTSTART;VALUE=DATE:20260817
DTEND;VALUE=DATE:20260818
DTSTAMP:20260423T130933
CREATED:20200717T163202Z
LAST-MODIFIED:20230829T185556Z
UID:10004776-1786924800-1787011199@lhcc.info
SUMMARY:24/7 Day of Prayer
DESCRIPTION:The third Monday of each month we have committed to praying as a church for all 24 hours of that day! We come along side Together We Pray who’s mission is to have someone praying every minute\, of every hour\, of every day…what an powerful thing to be a part of! \nSo please remember to pray at your scheduled time or take an hour or any amount of time you can to join us in prayer today!
URL:https://lhcc.info/event/24-7-day-of-prayer/2026-08-17/
LOCATION:Living Hope Christian Church\, 730 South County Trail\, North Kingstown\, RI\, 02852\, United States
CATEGORIES:Prayer
ATTACH;FMTTYPE=image/jpeg:https://lhcc.info/wp-content/uploads/2020/07/24-7-Day-of-Prayer.jpg
GEO:41.5556183;-71.5189401
X-APPLE-STRUCTURED-LOCATION;VALUE=URI;X-ADDRESS=Living Hope Christian Church 730 South County Trail North Kingstown RI 02852 United States;X-APPLE-RADIUS=500;X-TITLE=730 South County Trail:geo:-71.5189401,41.5556183
END:VEVENT
BEGIN:VEVENT
DTSTART;VALUE=DATE:20260921
DTEND;VALUE=DATE:20260922
DTSTAMP:20260423T130933
CREATED:20200717T163202Z
LAST-MODIFIED:20230829T185556Z
UID:10004777-1789948800-1790035199@lhcc.info
SUMMARY:24/7 Day of Prayer
DESCRIPTION:The third Monday of each month we have committed to praying as a church for all 24 hours of that day! We come along side Together We Pray who’s mission is to have someone praying every minute\, of every hour\, of every day…what an powerful thing to be a part of! \nSo please remember to pray at your scheduled time or take an hour or any amount of time you can to join us in prayer today!
URL:https://lhcc.info/event/24-7-day-of-prayer/2026-09-21/
LOCATION:Living Hope Christian Church\, 730 South County Trail\, North Kingstown\, RI\, 02852\, United States
CATEGORIES:Prayer
ATTACH;FMTTYPE=image/jpeg:https://lhcc.info/wp-content/uploads/2020/07/24-7-Day-of-Prayer.jpg
GEO:41.5556183;-71.5189401
X-APPLE-STRUCTURED-LOCATION;VALUE=URI;X-ADDRESS=Living Hope Christian Church 730 South County Trail North Kingstown RI 02852 United States;X-APPLE-RADIUS=500;X-TITLE=730 South County Trail:geo:-71.5189401,41.5556183
END:VEVENT
BEGIN:VEVENT
DTSTART;VALUE=DATE:20261019
DTEND;VALUE=DATE:20261020
DTSTAMP:20260423T130933
CREATED:20200717T163202Z
LAST-MODIFIED:20230829T185556Z
UID:10004778-1792368000-1792454399@lhcc.info
SUMMARY:24/7 Day of Prayer
DESCRIPTION:The third Monday of each month we have committed to praying as a church for all 24 hours of that day! We come along side Together We Pray who’s mission is to have someone praying every minute\, of every hour\, of every day…what an powerful thing to be a part of! \nSo please remember to pray at your scheduled time or take an hour or any amount of time you can to join us in prayer today!
URL:https://lhcc.info/event/24-7-day-of-prayer/2026-10-19/
LOCATION:Living Hope Christian Church\, 730 South County Trail\, North Kingstown\, RI\, 02852\, United States
CATEGORIES:Prayer
ATTACH;FMTTYPE=image/jpeg:https://lhcc.info/wp-content/uploads/2020/07/24-7-Day-of-Prayer.jpg
GEO:41.5556183;-71.5189401
X-APPLE-STRUCTURED-LOCATION;VALUE=URI;X-ADDRESS=Living Hope Christian Church 730 South County Trail North Kingstown RI 02852 United States;X-APPLE-RADIUS=500;X-TITLE=730 South County Trail:geo:-71.5189401,41.5556183
END:VEVENT
BEGIN:VEVENT
DTSTART;VALUE=DATE:20261116
DTEND;VALUE=DATE:20261117
DTSTAMP:20260423T130933
CREATED:20200717T163202Z
LAST-MODIFIED:20230829T185556Z
UID:10004779-1794787200-1794873599@lhcc.info
SUMMARY:24/7 Day of Prayer
DESCRIPTION:The third Monday of each month we have committed to praying as a church for all 24 hours of that day! We come along side Together We Pray who’s mission is to have someone praying every minute\, of every hour\, of every day…what an powerful thing to be a part of! \nSo please remember to pray at your scheduled time or take an hour or any amount of time you can to join us in prayer today!
URL:https://lhcc.info/event/24-7-day-of-prayer/2026-11-16/
LOCATION:Living Hope Christian Church\, 730 South County Trail\, North Kingstown\, RI\, 02852\, United States
CATEGORIES:Prayer
ATTACH;FMTTYPE=image/jpeg:https://lhcc.info/wp-content/uploads/2020/07/24-7-Day-of-Prayer.jpg
GEO:41.5556183;-71.5189401
X-APPLE-STRUCTURED-LOCATION;VALUE=URI;X-ADDRESS=Living Hope Christian Church 730 South County Trail North Kingstown RI 02852 United States;X-APPLE-RADIUS=500;X-TITLE=730 South County Trail:geo:-71.5189401,41.5556183
END:VEVENT
BEGIN:VEVENT
DTSTART;VALUE=DATE:20261221
DTEND;VALUE=DATE:20261222
DTSTAMP:20260423T130933
CREATED:20200717T163202Z
LAST-MODIFIED:20230829T185556Z
UID:10004780-1797811200-1797897599@lhcc.info
SUMMARY:24/7 Day of Prayer
DESCRIPTION:The third Monday of each month we have committed to praying as a church for all 24 hours of that day! We come along side Together We Pray who’s mission is to have someone praying every minute\, of every hour\, of every day…what an powerful thing to be a part of! \nSo please remember to pray at your scheduled time or take an hour or any amount of time you can to join us in prayer today!
URL:https://lhcc.info/event/24-7-day-of-prayer/2026-12-21/
LOCATION:Living Hope Christian Church\, 730 South County Trail\, North Kingstown\, RI\, 02852\, United States
CATEGORIES:Prayer
ATTACH;FMTTYPE=image/jpeg:https://lhcc.info/wp-content/uploads/2020/07/24-7-Day-of-Prayer.jpg
GEO:41.5556183;-71.5189401
X-APPLE-STRUCTURED-LOCATION;VALUE=URI;X-ADDRESS=Living Hope Christian Church 730 South County Trail North Kingstown RI 02852 United States;X-APPLE-RADIUS=500;X-TITLE=730 South County Trail:geo:-71.5189401,41.5556183
END:VEVENT
BEGIN:VEVENT
DTSTART;VALUE=DATE:20270118
DTEND;VALUE=DATE:20270119
DTSTAMP:20260423T130933
CREATED:20200717T163202Z
LAST-MODIFIED:20230829T185556Z
UID:10004781-1800230400-1800316799@lhcc.info
SUMMARY:24/7 Day of Prayer
DESCRIPTION:The third Monday of each month we have committed to praying as a church for all 24 hours of that day! We come along side Together We Pray who’s mission is to have someone praying every minute\, of every hour\, of every day…what an powerful thing to be a part of! \nSo please remember to pray at your scheduled time or take an hour or any amount of time you can to join us in prayer today!
URL:https://lhcc.info/event/24-7-day-of-prayer/2027-01-18/
LOCATION:Living Hope Christian Church\, 730 South County Trail\, North Kingstown\, RI\, 02852\, United States
CATEGORIES:Prayer
ATTACH;FMTTYPE=image/jpeg:https://lhcc.info/wp-content/uploads/2020/07/24-7-Day-of-Prayer.jpg
GEO:41.5556183;-71.5189401
X-APPLE-STRUCTURED-LOCATION;VALUE=URI;X-ADDRESS=Living Hope Christian Church 730 South County Trail North Kingstown RI 02852 United States;X-APPLE-RADIUS=500;X-TITLE=730 South County Trail:geo:-71.5189401,41.5556183
END:VEVENT
BEGIN:VEVENT
DTSTART;VALUE=DATE:20270215
DTEND;VALUE=DATE:20270216
DTSTAMP:20260423T130933
CREATED:20200717T163202Z
LAST-MODIFIED:20230829T185556Z
UID:10004782-1802649600-1802735999@lhcc.info
SUMMARY:24/7 Day of Prayer
DESCRIPTION:The third Monday of each month we have committed to praying as a church for all 24 hours of that day! We come along side Together We Pray who’s mission is to have someone praying every minute\, of every hour\, of every day…what an powerful thing to be a part of! \nSo please remember to pray at your scheduled time or take an hour or any amount of time you can to join us in prayer today!
URL:https://lhcc.info/event/24-7-day-of-prayer/2027-02-15/
LOCATION:Living Hope Christian Church\, 730 South County Trail\, North Kingstown\, RI\, 02852\, United States
CATEGORIES:Prayer
ATTACH;FMTTYPE=image/jpeg:https://lhcc.info/wp-content/uploads/2020/07/24-7-Day-of-Prayer.jpg
GEO:41.5556183;-71.5189401
X-APPLE-STRUCTURED-LOCATION;VALUE=URI;X-ADDRESS=Living Hope Christian Church 730 South County Trail North Kingstown RI 02852 United States;X-APPLE-RADIUS=500;X-TITLE=730 South County Trail:geo:-71.5189401,41.5556183
END:VEVENT
BEGIN:VEVENT
DTSTART;VALUE=DATE:20270315
DTEND;VALUE=DATE:20270316
DTSTAMP:20260423T130933
CREATED:20200717T163202Z
LAST-MODIFIED:20230829T185556Z
UID:10004783-1805068800-1805155199@lhcc.info
SUMMARY:24/7 Day of Prayer
DESCRIPTION:The third Monday of each month we have committed to praying as a church for all 24 hours of that day! We come along side Together We Pray who’s mission is to have someone praying every minute\, of every hour\, of every day…what an powerful thing to be a part of! \nSo please remember to pray at your scheduled time or take an hour or any amount of time you can to join us in prayer today!
URL:https://lhcc.info/event/24-7-day-of-prayer/2027-03-15/
LOCATION:Living Hope Christian Church\, 730 South County Trail\, North Kingstown\, RI\, 02852\, United States
CATEGORIES:Prayer
ATTACH;FMTTYPE=image/jpeg:https://lhcc.info/wp-content/uploads/2020/07/24-7-Day-of-Prayer.jpg
GEO:41.5556183;-71.5189401
X-APPLE-STRUCTURED-LOCATION;VALUE=URI;X-ADDRESS=Living Hope Christian Church 730 South County Trail North Kingstown RI 02852 United States;X-APPLE-RADIUS=500;X-TITLE=730 South County Trail:geo:-71.5189401,41.5556183
END:VEVENT
BEGIN:VEVENT
DTSTART;VALUE=DATE:20270419
DTEND;VALUE=DATE:20270420
DTSTAMP:20260423T130933
CREATED:20200717T163202Z
LAST-MODIFIED:20230829T185556Z
UID:10004784-1808092800-1808179199@lhcc.info
SUMMARY:24/7 Day of Prayer
DESCRIPTION:The third Monday of each month we have committed to praying as a church for all 24 hours of that day! We come along side Together We Pray who’s mission is to have someone praying every minute\, of every hour\, of every day…what an powerful thing to be a part of! \nSo please remember to pray at your scheduled time or take an hour or any amount of time you can to join us in prayer today!
URL:https://lhcc.info/event/24-7-day-of-prayer/2027-04-19/
LOCATION:Living Hope Christian Church\, 730 South County Trail\, North Kingstown\, RI\, 02852\, United States
CATEGORIES:Prayer
ATTACH;FMTTYPE=image/jpeg:https://lhcc.info/wp-content/uploads/2020/07/24-7-Day-of-Prayer.jpg
GEO:41.5556183;-71.5189401
X-APPLE-STRUCTURED-LOCATION;VALUE=URI;X-ADDRESS=Living Hope Christian Church 730 South County Trail North Kingstown RI 02852 United States;X-APPLE-RADIUS=500;X-TITLE=730 South County Trail:geo:-71.5189401,41.5556183
END:VEVENT
BEGIN:VEVENT
DTSTART;VALUE=DATE:20270517
DTEND;VALUE=DATE:20270518
DTSTAMP:20260423T130933
CREATED:20200717T163202Z
LAST-MODIFIED:20230829T185556Z
UID:10004785-1810512000-1810598399@lhcc.info
SUMMARY:24/7 Day of Prayer
DESCRIPTION:The third Monday of each month we have committed to praying as a church for all 24 hours of that day! We come along side Together We Pray who’s mission is to have someone praying every minute\, of every hour\, of every day…what an powerful thing to be a part of! \nSo please remember to pray at your scheduled time or take an hour or any amount of time you can to join us in prayer today!
URL:https://lhcc.info/event/24-7-day-of-prayer/2027-05-17/
LOCATION:Living Hope Christian Church\, 730 South County Trail\, North Kingstown\, RI\, 02852\, United States
CATEGORIES:Prayer
ATTACH;FMTTYPE=image/jpeg:https://lhcc.info/wp-content/uploads/2020/07/24-7-Day-of-Prayer.jpg
GEO:41.5556183;-71.5189401
X-APPLE-STRUCTURED-LOCATION;VALUE=URI;X-ADDRESS=Living Hope Christian Church 730 South County Trail North Kingstown RI 02852 United States;X-APPLE-RADIUS=500;X-TITLE=730 South County Trail:geo:-71.5189401,41.5556183
END:VEVENT
END:VCALENDAR