BEGIN:VCALENDAR
VERSION:2.0
PRODID:-//Living Hope Christian Church - ECPv6.15.17.1//NONSGML v1.0//EN
CALSCALE:GREGORIAN
METHOD:PUBLISH
X-WR-CALNAME:Living Hope Christian Church
X-ORIGINAL-URL:https://lhcc.info
X-WR-CALDESC:Events for Living Hope Christian Church
REFRESH-INTERVAL;VALUE=DURATION:PT1H
X-Robots-Tag:noindex
X-PUBLISHED-TTL:PT1H
BEGIN:VTIMEZONE
TZID:America/New_York
BEGIN:DAYLIGHT
TZOFFSETFROM:-0500
TZOFFSETTO:-0400
TZNAME:EDT
DTSTART:20250309T070000
END:DAYLIGHT
BEGIN:STANDARD
TZOFFSETFROM:-0400
TZOFFSETTO:-0500
TZNAME:EST
DTSTART:20251102T060000
END:STANDARD
BEGIN:DAYLIGHT
TZOFFSETFROM:-0500
TZOFFSETTO:-0400
TZNAME:EDT
DTSTART:20260308T070000
END:DAYLIGHT
BEGIN:STANDARD
TZOFFSETFROM:-0400
TZOFFSETTO:-0500
TZNAME:EST
DTSTART:20261101T060000
END:STANDARD
BEGIN:DAYLIGHT
TZOFFSETFROM:-0500
TZOFFSETTO:-0400
TZNAME:EDT
DTSTART:20270314T070000
END:DAYLIGHT
BEGIN:STANDARD
TZOFFSETFROM:-0400
TZOFFSETTO:-0500
TZNAME:EST
DTSTART:20271107T060000
END:STANDARD
END:VTIMEZONE
BEGIN:VEVENT
DTSTART;TZID=America/New_York:20260516T100000
DTEND;TZID=America/New_York:20260516T113000
DTSTAMP:20260423T191556
CREATED:20260423T185011Z
LAST-MODIFIED:20260423T185111Z
UID:10011651-1778925600-1778931000@lhcc.info
SUMMARY:"Consider the Lilies" Ladies Book Discussion
DESCRIPTION:“Consider the Lilies: Finding Perfect Peace in the Character of God“ \nFind freedom from anxiety as you lift your gaze from the problems and pressures of this world to the changeless and powerful character of your heavenly Father. In the book\, Consider the Lilies\, pastor\, podcaster\, and speaker Jonny Ardavanis shows us God’s consistent response to those who are worn down by worry and badgered by melancholy: He proclaims His own character. Drawing on that perspective-shifting model\, Jonny offers biblical insight on how to ground our thoughts and fix our gaze on who God is. \nLadies\, join us as we discuss section two of this three part book on Saturday\, May 16th at 10am at the church. \nTo let us know you are coming  – click here \nTo purchase your copy of the book – click here \n(If you need financial assistance purchasing the book please reach out to Amy Brock)
URL:https://lhcc.info/event/consider-the-lilies-ladies-book-discussion-2/
LOCATION:Living Hope Christian Church\, 730 South County Trail\, North Kingstown\, RI\, 02852\, United States
CATEGORIES:Women's Ministry
ATTACH;FMTTYPE=image/png:https://lhcc.info/wp-content/uploads/2026/04/consider-the-lilies.png
GEO:41.5556183;-71.5189401
X-APPLE-STRUCTURED-LOCATION;VALUE=URI;X-ADDRESS=Living Hope Christian Church 730 South County Trail North Kingstown RI 02852 United States;X-APPLE-RADIUS=500;X-TITLE=730 South County Trail:geo:-71.5189401,41.5556183
END:VEVENT
END:VCALENDAR