BEGIN:VCALENDAR
VERSION:2.0
PRODID:-//Living Hope Christian Church - ECPv6.15.17.1//NONSGML v1.0//EN
CALSCALE:GREGORIAN
METHOD:PUBLISH
X-ORIGINAL-URL:https://lhcc.info
X-WR-CALDESC:Events for Living Hope Christian Church
REFRESH-INTERVAL;VALUE=DURATION:PT1H
X-Robots-Tag:noindex
X-PUBLISHED-TTL:PT1H
BEGIN:VTIMEZONE
TZID:America/New_York
BEGIN:DAYLIGHT
TZOFFSETFROM:-0500
TZOFFSETTO:-0400
TZNAME:EDT
DTSTART:20230312T070000
END:DAYLIGHT
BEGIN:STANDARD
TZOFFSETFROM:-0400
TZOFFSETTO:-0500
TZNAME:EST
DTSTART:20231105T060000
END:STANDARD
BEGIN:DAYLIGHT
TZOFFSETFROM:-0500
TZOFFSETTO:-0400
TZNAME:EDT
DTSTART:20240310T070000
END:DAYLIGHT
BEGIN:STANDARD
TZOFFSETFROM:-0400
TZOFFSETTO:-0500
TZNAME:EST
DTSTART:20241103T060000
END:STANDARD
BEGIN:DAYLIGHT
TZOFFSETFROM:-0500
TZOFFSETTO:-0400
TZNAME:EDT
DTSTART:20250309T070000
END:DAYLIGHT
BEGIN:STANDARD
TZOFFSETFROM:-0400
TZOFFSETTO:-0500
TZNAME:EST
DTSTART:20251102T060000
END:STANDARD
END:VTIMEZONE
BEGIN:VEVENT
DTSTART;TZID=America/New_York:20241203T191500
DTEND;TZID=America/New_York:20241203T210000
DTSTAMP:20260424T194322
CREATED:20240827T162930Z
LAST-MODIFIED:20241114T222225Z
UID:10005872-1733253300-1733259600@lhcc.info
SUMMARY:Ladies Bible Study
DESCRIPTION:Ladies join this Bible Study\, led by Amy Brock\, on Tuesday evenings at 7:15pm at the church or from home using this ZOOM Link.\nIf you would like them in advance\, you can access the study questions for each week by clicking here.
URL:https://lhcc.info/event/ladies-bible-study-2/2024-12-03/
LOCATION:Living Hope Christian Church\, 730 South County Trail\, North Kingstown\, RI\, 02852\, United States
CATEGORIES:Women's Ministry
ATTACH;FMTTYPE=image/jpeg:https://lhcc.info/wp-content/uploads/2016/09/women-bible-study-rhode-island.jpg
GEO:41.5556183;-71.5189401
X-APPLE-STRUCTURED-LOCATION;VALUE=URI;X-ADDRESS=Living Hope Christian Church 730 South County Trail North Kingstown RI 02852 United States;X-APPLE-RADIUS=500;X-TITLE=730 South County Trail:geo:-71.5189401,41.5556183
END:VEVENT
BEGIN:VEVENT
DTSTART;TZID=America/New_York:20241206T183000
DTEND;TZID=America/New_York:20241206T200000
DTSTAMP:20260424T194322
CREATED:20241118T130040Z
LAST-MODIFIED:20241118T130040Z
UID:10006891-1733509800-1733515200@lhcc.info
SUMMARY:Women of Hope Christmas Party
DESCRIPTION:Ladies join us for a special time of fellowship together to celebrate Christmas and the birth of our Savior\, Jesus Christ!\nPlease bring an appetizer or dessert to share and a wrapped gift valued at about $10 for the gift swap!\nDon’t miss it!
URL:https://lhcc.info/event/women-of-hope-christmas-party/
LOCATION:Living Hope Christian Church\, 730 South County Trail\, North Kingstown\, RI\, 02852\, United States
CATEGORIES:Women's Ministry
ATTACH;FMTTYPE=image/png:https://lhcc.info/wp-content/uploads/2024/11/Women-of-Hope.png
GEO:41.5556183;-71.5189401
X-APPLE-STRUCTURED-LOCATION;VALUE=URI;X-ADDRESS=Living Hope Christian Church 730 South County Trail North Kingstown RI 02852 United States;X-APPLE-RADIUS=500;X-TITLE=730 South County Trail:geo:-71.5189401,41.5556183
END:VEVENT
BEGIN:VEVENT
DTSTART;TZID=America/New_York:20241210T191500
DTEND;TZID=America/New_York:20241210T210000
DTSTAMP:20260424T194322
CREATED:20240827T162930Z
LAST-MODIFIED:20241114T222225Z
UID:10005873-1733858100-1733864400@lhcc.info
SUMMARY:Ladies Bible Study
DESCRIPTION:Ladies join this Bible Study\, led by Amy Brock\, on Tuesday evenings at 7:15pm at the church or from home using this ZOOM Link.\nIf you would like them in advance\, you can access the study questions for each week by clicking here.
URL:https://lhcc.info/event/ladies-bible-study-2/2024-12-10/
LOCATION:Living Hope Christian Church\, 730 South County Trail\, North Kingstown\, RI\, 02852\, United States
CATEGORIES:Women's Ministry
ATTACH;FMTTYPE=image/jpeg:https://lhcc.info/wp-content/uploads/2016/09/women-bible-study-rhode-island.jpg
GEO:41.5556183;-71.5189401
X-APPLE-STRUCTURED-LOCATION;VALUE=URI;X-ADDRESS=Living Hope Christian Church 730 South County Trail North Kingstown RI 02852 United States;X-APPLE-RADIUS=500;X-TITLE=730 South County Trail:geo:-71.5189401,41.5556183
END:VEVENT
END:VCALENDAR