BEGIN:VCALENDAR
VERSION:2.0
PRODID:-//Living Hope Christian Church - ECPv6.15.17.1//NONSGML v1.0//EN
CALSCALE:GREGORIAN
METHOD:PUBLISH
X-WR-CALNAME:Living Hope Christian Church
X-ORIGINAL-URL:https://lhcc.info
X-WR-CALDESC:Events for Living Hope Christian Church
REFRESH-INTERVAL;VALUE=DURATION:PT1H
X-Robots-Tag:noindex
X-PUBLISHED-TTL:PT1H
BEGIN:VTIMEZONE
TZID:America/New_York
BEGIN:DAYLIGHT
TZOFFSETFROM:-0500
TZOFFSETTO:-0400
TZNAME:EDT
DTSTART:20230312T070000
END:DAYLIGHT
BEGIN:STANDARD
TZOFFSETFROM:-0400
TZOFFSETTO:-0500
TZNAME:EST
DTSTART:20231105T060000
END:STANDARD
BEGIN:DAYLIGHT
TZOFFSETFROM:-0500
TZOFFSETTO:-0400
TZNAME:EDT
DTSTART:20240310T070000
END:DAYLIGHT
BEGIN:STANDARD
TZOFFSETFROM:-0400
TZOFFSETTO:-0500
TZNAME:EST
DTSTART:20241103T060000
END:STANDARD
BEGIN:DAYLIGHT
TZOFFSETFROM:-0500
TZOFFSETTO:-0400
TZNAME:EDT
DTSTART:20250309T070000
END:DAYLIGHT
BEGIN:STANDARD
TZOFFSETFROM:-0400
TZOFFSETTO:-0500
TZNAME:EST
DTSTART:20251102T060000
END:STANDARD
END:VTIMEZONE
BEGIN:VEVENT
DTSTART;TZID=America/New_York:20240507T191500
DTEND;TZID=America/New_York:20240507T213000
DTSTAMP:20260425T112319
CREATED:20230808T184931Z
LAST-MODIFIED:20240326T181250Z
UID:10006776-1715109300-1715117400@lhcc.info
SUMMARY:Ladies Bible Study
DESCRIPTION:This study meets every Tuesday evening at 7:15pm in church or from home through this ZOOM Link. \nAmy Brock will lead us through Ezekiel and you can click here to find the study questions for each chapter. \nJoin us as we study His word together!
URL:https://lhcc.info/event/ladies-bible-study-2023-10-17-2024-01-09-2024-02-20-2024-04-09-2024-04-30/2024-05-07/
LOCATION:Living Hope Christian Church\, 730 South County Trail\, North Kingstown\, RI\, 02852\, United States
CATEGORIES:Women's Ministry
ATTACH;FMTTYPE=image/jpeg:https://lhcc.info/wp-content/uploads/2016/09/women-bible-study-rhode-island.jpg
GEO:41.5556183;-71.5189401
X-APPLE-STRUCTURED-LOCATION;VALUE=URI;X-ADDRESS=Living Hope Christian Church 730 South County Trail North Kingstown RI 02852 United States;X-APPLE-RADIUS=500;X-TITLE=730 South County Trail:geo:-71.5189401,41.5556183
END:VEVENT
BEGIN:VEVENT
DTSTART;TZID=America/New_York:20240514T191500
DTEND;TZID=America/New_York:20240514T213000
DTSTAMP:20260425T112319
CREATED:20230808T184931Z
LAST-MODIFIED:20240326T181250Z
UID:10006777-1715714100-1715722200@lhcc.info
SUMMARY:Ladies Bible Study
DESCRIPTION:This study meets every Tuesday evening at 7:15pm in church or from home through this ZOOM Link. \nAmy Brock will lead us through Ezekiel and you can click here to find the study questions for each chapter. \nJoin us as we study His word together!
URL:https://lhcc.info/event/ladies-bible-study-2023-10-17-2024-01-09-2024-02-20-2024-04-09-2024-04-30/2024-05-14/
LOCATION:Living Hope Christian Church\, 730 South County Trail\, North Kingstown\, RI\, 02852\, United States
CATEGORIES:Women's Ministry
ATTACH;FMTTYPE=image/jpeg:https://lhcc.info/wp-content/uploads/2016/09/women-bible-study-rhode-island.jpg
GEO:41.5556183;-71.5189401
X-APPLE-STRUCTURED-LOCATION;VALUE=URI;X-ADDRESS=Living Hope Christian Church 730 South County Trail North Kingstown RI 02852 United States;X-APPLE-RADIUS=500;X-TITLE=730 South County Trail:geo:-71.5189401,41.5556183
END:VEVENT
BEGIN:VEVENT
DTSTART;TZID=America/New_York:20240521T191500
DTEND;TZID=America/New_York:20240521T213000
DTSTAMP:20260425T112319
CREATED:20230808T184931Z
LAST-MODIFIED:20240326T181250Z
UID:10006778-1716318900-1716327000@lhcc.info
SUMMARY:Ladies Bible Study
DESCRIPTION:This study meets every Tuesday evening at 7:15pm in church or from home through this ZOOM Link. \nAmy Brock will lead us through Ezekiel and you can click here to find the study questions for each chapter. \nJoin us as we study His word together!
URL:https://lhcc.info/event/ladies-bible-study-2023-10-17-2024-01-09-2024-02-20-2024-04-09-2024-04-30/2024-05-21/
LOCATION:Living Hope Christian Church\, 730 South County Trail\, North Kingstown\, RI\, 02852\, United States
CATEGORIES:Women's Ministry
ATTACH;FMTTYPE=image/jpeg:https://lhcc.info/wp-content/uploads/2016/09/women-bible-study-rhode-island.jpg
GEO:41.5556183;-71.5189401
X-APPLE-STRUCTURED-LOCATION;VALUE=URI;X-ADDRESS=Living Hope Christian Church 730 South County Trail North Kingstown RI 02852 United States;X-APPLE-RADIUS=500;X-TITLE=730 South County Trail:geo:-71.5189401,41.5556183
END:VEVENT
END:VCALENDAR