BEGIN:VCALENDAR
VERSION:2.0
PRODID:-//Living Hope Christian Church - ECPv6.15.17.1//NONSGML v1.0//EN
CALSCALE:GREGORIAN
METHOD:PUBLISH
X-ORIGINAL-URL:https://lhcc.info
X-WR-CALDESC:Events for Living Hope Christian Church
REFRESH-INTERVAL;VALUE=DURATION:PT1H
X-Robots-Tag:noindex
X-PUBLISHED-TTL:PT1H
BEGIN:VTIMEZONE
TZID:America/New_York
BEGIN:DAYLIGHT
TZOFFSETFROM:-0500
TZOFFSETTO:-0400
TZNAME:EDT
DTSTART:20250309T070000
END:DAYLIGHT
BEGIN:STANDARD
TZOFFSETFROM:-0400
TZOFFSETTO:-0500
TZNAME:EST
DTSTART:20251102T060000
END:STANDARD
BEGIN:DAYLIGHT
TZOFFSETFROM:-0500
TZOFFSETTO:-0400
TZNAME:EDT
DTSTART:20260308T070000
END:DAYLIGHT
BEGIN:STANDARD
TZOFFSETFROM:-0400
TZOFFSETTO:-0500
TZNAME:EST
DTSTART:20261101T060000
END:STANDARD
BEGIN:DAYLIGHT
TZOFFSETFROM:-0500
TZOFFSETTO:-0400
TZNAME:EDT
DTSTART:20270314T070000
END:DAYLIGHT
BEGIN:STANDARD
TZOFFSETFROM:-0400
TZOFFSETTO:-0500
TZNAME:EST
DTSTART:20271107T060000
END:STANDARD
BEGIN:DAYLIGHT
TZOFFSETFROM:-0500
TZOFFSETTO:-0400
TZNAME:EDT
DTSTART:20280312T070000
END:DAYLIGHT
BEGIN:STANDARD
TZOFFSETFROM:-0400
TZOFFSETTO:-0500
TZNAME:EST
DTSTART:20281105T060000
END:STANDARD
END:VTIMEZONE
BEGIN:VEVENT
DTSTART;TZID=America/New_York:20260719T180000
DTEND;TZID=America/New_York:20260719T193000
DTSTAMP:20260423T192929
CREATED:20260324T191417Z
LAST-MODIFIED:20260324T191417Z
UID:10011635-1784484000-1784489400@lhcc.info
SUMMARY:LHCC Youth Group Meeting
DESCRIPTION:LHCC Youth Group is for any teen from 6th to 12th grade. \nWe meet one the first and third Sundays of each month from 6-7:30pm for a time of food\, games\, fellowship\, and Biblical discussion. \nWe know the importance of having believing friends and talking about the tough issues teens face from a Biblical perspective\, so we encourage you to come out and join us as we grow and learn together! 
URL:https://lhcc.info/event/lhcc-youth-group-meeting/2026-07-19/
LOCATION:Living Hope Christian Church\, 730 South County Trail\, North Kingstown\, RI\, 02852\, United States
CATEGORIES:Teen Ministry
ATTACH;FMTTYPE=image/jpeg:https://lhcc.info/wp-content/uploads/2022/12/LHCC-Youth-Group.jpg
GEO:41.5556183;-71.5189401
X-APPLE-STRUCTURED-LOCATION;VALUE=URI;X-ADDRESS=Living Hope Christian Church 730 South County Trail North Kingstown RI 02852 United States;X-APPLE-RADIUS=500;X-TITLE=730 South County Trail:geo:-71.5189401,41.5556183
END:VEVENT
BEGIN:VEVENT
DTSTART;TZID=America/New_York:20260816T180000
DTEND;TZID=America/New_York:20260816T193000
DTSTAMP:20260423T192929
CREATED:20260324T191417Z
LAST-MODIFIED:20260324T191417Z
UID:10011636-1786903200-1786908600@lhcc.info
SUMMARY:LHCC Youth Group Meeting
DESCRIPTION:LHCC Youth Group is for any teen from 6th to 12th grade. \nWe meet one the first and third Sundays of each month from 6-7:30pm for a time of food\, games\, fellowship\, and Biblical discussion. \nWe know the importance of having believing friends and talking about the tough issues teens face from a Biblical perspective\, so we encourage you to come out and join us as we grow and learn together! 
URL:https://lhcc.info/event/lhcc-youth-group-meeting/2026-08-16/
LOCATION:Living Hope Christian Church\, 730 South County Trail\, North Kingstown\, RI\, 02852\, United States
CATEGORIES:Teen Ministry
ATTACH;FMTTYPE=image/jpeg:https://lhcc.info/wp-content/uploads/2022/12/LHCC-Youth-Group.jpg
GEO:41.5556183;-71.5189401
X-APPLE-STRUCTURED-LOCATION;VALUE=URI;X-ADDRESS=Living Hope Christian Church 730 South County Trail North Kingstown RI 02852 United States;X-APPLE-RADIUS=500;X-TITLE=730 South County Trail:geo:-71.5189401,41.5556183
END:VEVENT
BEGIN:VEVENT
DTSTART;TZID=America/New_York:20260920T180000
DTEND;TZID=America/New_York:20260920T193000
DTSTAMP:20260423T192929
CREATED:20260324T191417Z
LAST-MODIFIED:20260324T191417Z
UID:10011637-1789927200-1789932600@lhcc.info
SUMMARY:LHCC Youth Group Meeting
DESCRIPTION:LHCC Youth Group is for any teen from 6th to 12th grade. \nWe meet one the first and third Sundays of each month from 6-7:30pm for a time of food\, games\, fellowship\, and Biblical discussion. \nWe know the importance of having believing friends and talking about the tough issues teens face from a Biblical perspective\, so we encourage you to come out and join us as we grow and learn together! 
URL:https://lhcc.info/event/lhcc-youth-group-meeting/2026-09-20/
LOCATION:Living Hope Christian Church\, 730 South County Trail\, North Kingstown\, RI\, 02852\, United States
CATEGORIES:Teen Ministry
ATTACH;FMTTYPE=image/jpeg:https://lhcc.info/wp-content/uploads/2022/12/LHCC-Youth-Group.jpg
GEO:41.5556183;-71.5189401
X-APPLE-STRUCTURED-LOCATION;VALUE=URI;X-ADDRESS=Living Hope Christian Church 730 South County Trail North Kingstown RI 02852 United States;X-APPLE-RADIUS=500;X-TITLE=730 South County Trail:geo:-71.5189401,41.5556183
END:VEVENT
BEGIN:VEVENT
DTSTART;TZID=America/New_York:20261018T180000
DTEND;TZID=America/New_York:20261018T193000
DTSTAMP:20260423T192929
CREATED:20260324T191417Z
LAST-MODIFIED:20260324T191417Z
UID:10011638-1792346400-1792351800@lhcc.info
SUMMARY:LHCC Youth Group Meeting
DESCRIPTION:LHCC Youth Group is for any teen from 6th to 12th grade. \nWe meet one the first and third Sundays of each month from 6-7:30pm for a time of food\, games\, fellowship\, and Biblical discussion. \nWe know the importance of having believing friends and talking about the tough issues teens face from a Biblical perspective\, so we encourage you to come out and join us as we grow and learn together! 
URL:https://lhcc.info/event/lhcc-youth-group-meeting/2026-10-18/
LOCATION:Living Hope Christian Church\, 730 South County Trail\, North Kingstown\, RI\, 02852\, United States
CATEGORIES:Teen Ministry
ATTACH;FMTTYPE=image/jpeg:https://lhcc.info/wp-content/uploads/2022/12/LHCC-Youth-Group.jpg
GEO:41.5556183;-71.5189401
X-APPLE-STRUCTURED-LOCATION;VALUE=URI;X-ADDRESS=Living Hope Christian Church 730 South County Trail North Kingstown RI 02852 United States;X-APPLE-RADIUS=500;X-TITLE=730 South County Trail:geo:-71.5189401,41.5556183
END:VEVENT
BEGIN:VEVENT
DTSTART;TZID=America/New_York:20261115T180000
DTEND;TZID=America/New_York:20261115T193000
DTSTAMP:20260423T192929
CREATED:20260324T191417Z
LAST-MODIFIED:20260324T191417Z
UID:10011639-1794765600-1794771000@lhcc.info
SUMMARY:LHCC Youth Group Meeting
DESCRIPTION:LHCC Youth Group is for any teen from 6th to 12th grade. \nWe meet one the first and third Sundays of each month from 6-7:30pm for a time of food\, games\, fellowship\, and Biblical discussion. \nWe know the importance of having believing friends and talking about the tough issues teens face from a Biblical perspective\, so we encourage you to come out and join us as we grow and learn together! 
URL:https://lhcc.info/event/lhcc-youth-group-meeting/2026-11-15/
LOCATION:Living Hope Christian Church\, 730 South County Trail\, North Kingstown\, RI\, 02852\, United States
CATEGORIES:Teen Ministry
ATTACH;FMTTYPE=image/jpeg:https://lhcc.info/wp-content/uploads/2022/12/LHCC-Youth-Group.jpg
GEO:41.5556183;-71.5189401
X-APPLE-STRUCTURED-LOCATION;VALUE=URI;X-ADDRESS=Living Hope Christian Church 730 South County Trail North Kingstown RI 02852 United States;X-APPLE-RADIUS=500;X-TITLE=730 South County Trail:geo:-71.5189401,41.5556183
END:VEVENT
BEGIN:VEVENT
DTSTART;TZID=America/New_York:20261220T180000
DTEND;TZID=America/New_York:20261220T193000
DTSTAMP:20260423T192929
CREATED:20260324T191417Z
LAST-MODIFIED:20260324T191417Z
UID:10011640-1797789600-1797795000@lhcc.info
SUMMARY:LHCC Youth Group Meeting
DESCRIPTION:LHCC Youth Group is for any teen from 6th to 12th grade. \nWe meet one the first and third Sundays of each month from 6-7:30pm for a time of food\, games\, fellowship\, and Biblical discussion. \nWe know the importance of having believing friends and talking about the tough issues teens face from a Biblical perspective\, so we encourage you to come out and join us as we grow and learn together! 
URL:https://lhcc.info/event/lhcc-youth-group-meeting/2026-12-20/
LOCATION:Living Hope Christian Church\, 730 South County Trail\, North Kingstown\, RI\, 02852\, United States
CATEGORIES:Teen Ministry
ATTACH;FMTTYPE=image/jpeg:https://lhcc.info/wp-content/uploads/2022/12/LHCC-Youth-Group.jpg
GEO:41.5556183;-71.5189401
X-APPLE-STRUCTURED-LOCATION;VALUE=URI;X-ADDRESS=Living Hope Christian Church 730 South County Trail North Kingstown RI 02852 United States;X-APPLE-RADIUS=500;X-TITLE=730 South County Trail:geo:-71.5189401,41.5556183
END:VEVENT
BEGIN:VEVENT
DTSTART;TZID=America/New_York:20270117T180000
DTEND;TZID=America/New_York:20270117T193000
DTSTAMP:20260423T192929
CREATED:20260324T191417Z
LAST-MODIFIED:20260324T191417Z
UID:10011641-1800208800-1800214200@lhcc.info
SUMMARY:LHCC Youth Group Meeting
DESCRIPTION:LHCC Youth Group is for any teen from 6th to 12th grade. \nWe meet one the first and third Sundays of each month from 6-7:30pm for a time of food\, games\, fellowship\, and Biblical discussion. \nWe know the importance of having believing friends and talking about the tough issues teens face from a Biblical perspective\, so we encourage you to come out and join us as we grow and learn together! 
URL:https://lhcc.info/event/lhcc-youth-group-meeting/2027-01-17/
LOCATION:Living Hope Christian Church\, 730 South County Trail\, North Kingstown\, RI\, 02852\, United States
CATEGORIES:Teen Ministry
ATTACH;FMTTYPE=image/jpeg:https://lhcc.info/wp-content/uploads/2022/12/LHCC-Youth-Group.jpg
GEO:41.5556183;-71.5189401
X-APPLE-STRUCTURED-LOCATION;VALUE=URI;X-ADDRESS=Living Hope Christian Church 730 South County Trail North Kingstown RI 02852 United States;X-APPLE-RADIUS=500;X-TITLE=730 South County Trail:geo:-71.5189401,41.5556183
END:VEVENT
BEGIN:VEVENT
DTSTART;TZID=America/New_York:20270221T180000
DTEND;TZID=America/New_York:20270221T193000
DTSTAMP:20260423T192929
CREATED:20260324T191417Z
LAST-MODIFIED:20260324T191417Z
UID:10011642-1803232800-1803238200@lhcc.info
SUMMARY:LHCC Youth Group Meeting
DESCRIPTION:LHCC Youth Group is for any teen from 6th to 12th grade. \nWe meet one the first and third Sundays of each month from 6-7:30pm for a time of food\, games\, fellowship\, and Biblical discussion. \nWe know the importance of having believing friends and talking about the tough issues teens face from a Biblical perspective\, so we encourage you to come out and join us as we grow and learn together! 
URL:https://lhcc.info/event/lhcc-youth-group-meeting/2027-02-21/
LOCATION:Living Hope Christian Church\, 730 South County Trail\, North Kingstown\, RI\, 02852\, United States
CATEGORIES:Teen Ministry
ATTACH;FMTTYPE=image/jpeg:https://lhcc.info/wp-content/uploads/2022/12/LHCC-Youth-Group.jpg
GEO:41.5556183;-71.5189401
X-APPLE-STRUCTURED-LOCATION;VALUE=URI;X-ADDRESS=Living Hope Christian Church 730 South County Trail North Kingstown RI 02852 United States;X-APPLE-RADIUS=500;X-TITLE=730 South County Trail:geo:-71.5189401,41.5556183
END:VEVENT
BEGIN:VEVENT
DTSTART;TZID=America/New_York:20270321T180000
DTEND;TZID=America/New_York:20270321T193000
DTSTAMP:20260423T192929
CREATED:20260324T191417Z
LAST-MODIFIED:20260324T191417Z
UID:10011643-1805652000-1805657400@lhcc.info
SUMMARY:LHCC Youth Group Meeting
DESCRIPTION:LHCC Youth Group is for any teen from 6th to 12th grade. \nWe meet one the first and third Sundays of each month from 6-7:30pm for a time of food\, games\, fellowship\, and Biblical discussion. \nWe know the importance of having believing friends and talking about the tough issues teens face from a Biblical perspective\, so we encourage you to come out and join us as we grow and learn together! 
URL:https://lhcc.info/event/lhcc-youth-group-meeting/2027-03-21/
LOCATION:Living Hope Christian Church\, 730 South County Trail\, North Kingstown\, RI\, 02852\, United States
CATEGORIES:Teen Ministry
ATTACH;FMTTYPE=image/jpeg:https://lhcc.info/wp-content/uploads/2022/12/LHCC-Youth-Group.jpg
GEO:41.5556183;-71.5189401
X-APPLE-STRUCTURED-LOCATION;VALUE=URI;X-ADDRESS=Living Hope Christian Church 730 South County Trail North Kingstown RI 02852 United States;X-APPLE-RADIUS=500;X-TITLE=730 South County Trail:geo:-71.5189401,41.5556183
END:VEVENT
BEGIN:VEVENT
DTSTART;TZID=America/New_York:20270418T180000
DTEND;TZID=America/New_York:20270418T193000
DTSTAMP:20260423T192929
CREATED:20260324T191417Z
LAST-MODIFIED:20260324T191417Z
UID:10011644-1808071200-1808076600@lhcc.info
SUMMARY:LHCC Youth Group Meeting
DESCRIPTION:LHCC Youth Group is for any teen from 6th to 12th grade. \nWe meet one the first and third Sundays of each month from 6-7:30pm for a time of food\, games\, fellowship\, and Biblical discussion. \nWe know the importance of having believing friends and talking about the tough issues teens face from a Biblical perspective\, so we encourage you to come out and join us as we grow and learn together! 
URL:https://lhcc.info/event/lhcc-youth-group-meeting/2027-04-18/
LOCATION:Living Hope Christian Church\, 730 South County Trail\, North Kingstown\, RI\, 02852\, United States
CATEGORIES:Teen Ministry
ATTACH;FMTTYPE=image/jpeg:https://lhcc.info/wp-content/uploads/2022/12/LHCC-Youth-Group.jpg
GEO:41.5556183;-71.5189401
X-APPLE-STRUCTURED-LOCATION;VALUE=URI;X-ADDRESS=Living Hope Christian Church 730 South County Trail North Kingstown RI 02852 United States;X-APPLE-RADIUS=500;X-TITLE=730 South County Trail:geo:-71.5189401,41.5556183
END:VEVENT
BEGIN:VEVENT
DTSTART;TZID=America/New_York:20270516T180000
DTEND;TZID=America/New_York:20270516T193000
DTSTAMP:20260423T192929
CREATED:20260324T191417Z
LAST-MODIFIED:20260324T191417Z
UID:10011645-1810490400-1810495800@lhcc.info
SUMMARY:LHCC Youth Group Meeting
DESCRIPTION:LHCC Youth Group is for any teen from 6th to 12th grade. \nWe meet one the first and third Sundays of each month from 6-7:30pm for a time of food\, games\, fellowship\, and Biblical discussion. \nWe know the importance of having believing friends and talking about the tough issues teens face from a Biblical perspective\, so we encourage you to come out and join us as we grow and learn together! 
URL:https://lhcc.info/event/lhcc-youth-group-meeting/2027-05-16/
LOCATION:Living Hope Christian Church\, 730 South County Trail\, North Kingstown\, RI\, 02852\, United States
CATEGORIES:Teen Ministry
ATTACH;FMTTYPE=image/jpeg:https://lhcc.info/wp-content/uploads/2022/12/LHCC-Youth-Group.jpg
GEO:41.5556183;-71.5189401
X-APPLE-STRUCTURED-LOCATION;VALUE=URI;X-ADDRESS=Living Hope Christian Church 730 South County Trail North Kingstown RI 02852 United States;X-APPLE-RADIUS=500;X-TITLE=730 South County Trail:geo:-71.5189401,41.5556183
END:VEVENT
BEGIN:VEVENT
DTSTART;TZID=America/New_York:20270620T180000
DTEND;TZID=America/New_York:20270620T193000
DTSTAMP:20260423T192929
CREATED:20260324T191417Z
LAST-MODIFIED:20260324T191417Z
UID:10011646-1813514400-1813519800@lhcc.info
SUMMARY:LHCC Youth Group Meeting
DESCRIPTION:LHCC Youth Group is for any teen from 6th to 12th grade. \nWe meet one the first and third Sundays of each month from 6-7:30pm for a time of food\, games\, fellowship\, and Biblical discussion. \nWe know the importance of having believing friends and talking about the tough issues teens face from a Biblical perspective\, so we encourage you to come out and join us as we grow and learn together! 
URL:https://lhcc.info/event/lhcc-youth-group-meeting/2027-06-20/
LOCATION:Living Hope Christian Church\, 730 South County Trail\, North Kingstown\, RI\, 02852\, United States
CATEGORIES:Teen Ministry
ATTACH;FMTTYPE=image/jpeg:https://lhcc.info/wp-content/uploads/2022/12/LHCC-Youth-Group.jpg
GEO:41.5556183;-71.5189401
X-APPLE-STRUCTURED-LOCATION;VALUE=URI;X-ADDRESS=Living Hope Christian Church 730 South County Trail North Kingstown RI 02852 United States;X-APPLE-RADIUS=500;X-TITLE=730 South County Trail:geo:-71.5189401,41.5556183
END:VEVENT
END:VCALENDAR