BEGIN:VCALENDAR
VERSION:2.0
PRODID:-//Living Hope Christian Church - ECPv6.15.17.1//NONSGML v1.0//EN
CALSCALE:GREGORIAN
METHOD:PUBLISH
X-ORIGINAL-URL:https://lhcc.info
X-WR-CALDESC:Events for Living Hope Christian Church
REFRESH-INTERVAL;VALUE=DURATION:PT1H
X-Robots-Tag:noindex
X-PUBLISHED-TTL:PT1H
BEGIN:VTIMEZONE
TZID:America/New_York
BEGIN:DAYLIGHT
TZOFFSETFROM:-0500
TZOFFSETTO:-0400
TZNAME:EDT
DTSTART:20230312T070000
END:DAYLIGHT
BEGIN:STANDARD
TZOFFSETFROM:-0400
TZOFFSETTO:-0500
TZNAME:EST
DTSTART:20231105T060000
END:STANDARD
BEGIN:DAYLIGHT
TZOFFSETFROM:-0500
TZOFFSETTO:-0400
TZNAME:EDT
DTSTART:20240310T070000
END:DAYLIGHT
BEGIN:STANDARD
TZOFFSETFROM:-0400
TZOFFSETTO:-0500
TZNAME:EST
DTSTART:20241103T060000
END:STANDARD
BEGIN:DAYLIGHT
TZOFFSETFROM:-0500
TZOFFSETTO:-0400
TZNAME:EDT
DTSTART:20250309T070000
END:DAYLIGHT
BEGIN:STANDARD
TZOFFSETFROM:-0400
TZOFFSETTO:-0500
TZNAME:EST
DTSTART:20251102T060000
END:STANDARD
END:VTIMEZONE
BEGIN:VEVENT
DTSTART;TZID=America/New_York:20240602T180000
DTEND;TZID=America/New_York:20240602T193000
DTSTAMP:20260425T112104
CREATED:20230829T183159Z
LAST-MODIFIED:20240326T181135Z
UID:10005800-1717351200-1717356600@lhcc.info
SUMMARY:Youth Group
DESCRIPTION:Our Youth Group is for kids in 6th through 12th grade and meets on most Sunday evenings from 6-7:30pm \nThis time includes food\, games\, discussion\, and friendship building with other other believers! \nWe hope you can join us and take a look at the challenges of this world from a Biblical perspective!
URL:https://lhcc.info/event/youth-group-2-2024-04-28/2024-06-02/
LOCATION:RI
CATEGORIES:Teen Ministry
ATTACH;FMTTYPE=image/jpeg:https://lhcc.info/wp-content/uploads/2022/12/LHCC-Youth-Group.jpg
END:VEVENT
END:VCALENDAR