BEGIN:VCALENDAR
VERSION:2.0
PRODID:-//Living Hope Christian Church - ECPv6.15.17.1//NONSGML v1.0//EN
CALSCALE:GREGORIAN
METHOD:PUBLISH
X-WR-CALNAME:Living Hope Christian Church
X-ORIGINAL-URL:https://lhcc.info
X-WR-CALDESC:Events for Living Hope Christian Church
REFRESH-INTERVAL;VALUE=DURATION:PT1H
X-Robots-Tag:noindex
X-PUBLISHED-TTL:PT1H
BEGIN:VTIMEZONE
TZID:America/New_York
BEGIN:DAYLIGHT
TZOFFSETFROM:-0500
TZOFFSETTO:-0400
TZNAME:EDT
DTSTART:20230312T070000
END:DAYLIGHT
BEGIN:STANDARD
TZOFFSETFROM:-0400
TZOFFSETTO:-0500
TZNAME:EST
DTSTART:20231105T060000
END:STANDARD
BEGIN:DAYLIGHT
TZOFFSETFROM:-0500
TZOFFSETTO:-0400
TZNAME:EDT
DTSTART:20240310T070000
END:DAYLIGHT
BEGIN:STANDARD
TZOFFSETFROM:-0400
TZOFFSETTO:-0500
TZNAME:EST
DTSTART:20241103T060000
END:STANDARD
BEGIN:DAYLIGHT
TZOFFSETFROM:-0500
TZOFFSETTO:-0400
TZNAME:EDT
DTSTART:20250309T070000
END:DAYLIGHT
BEGIN:STANDARD
TZOFFSETFROM:-0400
TZOFFSETTO:-0500
TZNAME:EST
DTSTART:20251102T060000
END:STANDARD
END:VTIMEZONE
BEGIN:VEVENT
DTSTART;TZID=America/New_York:20240602T180000
DTEND;TZID=America/New_York:20240602T193000
DTSTAMP:20260425T093510
CREATED:20230829T183159Z
LAST-MODIFIED:20240326T181135Z
UID:10005800-1717351200-1717356600@lhcc.info
SUMMARY:Youth Group
DESCRIPTION:Our Youth Group is for kids in 6th through 12th grade and meets on most Sunday evenings from 6-7:30pm \nThis time includes food\, games\, discussion\, and friendship building with other other believers! \nWe hope you can join us and take a look at the challenges of this world from a Biblical perspective!
URL:https://lhcc.info/event/youth-group-2-2024-04-28/2024-06-02/
LOCATION:RI
CATEGORIES:Teen Ministry
ATTACH;FMTTYPE=image/jpeg:https://lhcc.info/wp-content/uploads/2022/12/LHCC-Youth-Group.jpg
END:VEVENT
BEGIN:VEVENT
DTSTART;TZID=America/New_York:20240605T163000
DTEND;TZID=America/New_York:20240605T193000
DTSTAMP:20260425T093510
CREATED:20160830T195559Z
LAST-MODIFIED:20170218T124847Z
UID:10003883-1717605000-1717615800@lhcc.info
SUMMARY:Fountain of Youth Teens
DESCRIPTION:Living Hope’s teen ministry is open to all teens ages 13-18\, plus select 12-yr-olds\, and meets every Wednesday night at Living Hope Christian Church. For more information about our teen ministry\, see the FoY Teens web page at http://lhcc.info/ministries/teens/. Questions? Contact Michelle Quillin! \nKeep up with FoY Teens on Facebook: Fountain of Youth – AKA FoY Teens\nFollow FoY Teens on Instagram: @FoYTeens
URL:https://lhcc.info/event/fountain-youth-teens/2024-06-05/
LOCATION:Living Hope Christian Church\, 730 South County Trail\, North Kingstown\, RI\, 02852\, United States
CATEGORIES:Teen Ministry
ATTACH;FMTTYPE=image/jpeg:https://lhcc.info/wp-content/uploads/2016/09/living-hope-teen-ministry-rhode-island.jpg
GEO:41.5556183;-71.5189401
X-APPLE-STRUCTURED-LOCATION;VALUE=URI;X-ADDRESS=Living Hope Christian Church 730 South County Trail North Kingstown RI 02852 United States;X-APPLE-RADIUS=500;X-TITLE=730 South County Trail:geo:-71.5189401,41.5556183
END:VEVENT
BEGIN:VEVENT
DTSTART;TZID=America/New_York:20240605T180000
DTEND;TZID=America/New_York:20240605T203000
DTSTAMP:20260425T093510
CREATED:20170905T210214Z
LAST-MODIFIED:20180801T224906Z
UID:10003315-1717610400-1717619400@lhcc.info
SUMMARY:FoY Teens
DESCRIPTION:Living Hope’s teen ministry is open to all teens ages 13-18\, plus select 12-yr-olds\, and meets every Wednesday night at Living Hope Christian Church. For more information about our teen ministry\, see the FoY Teens web page at http://lhcc.info/ministries/teens/. Questions? Contact Steve Brock\, Amy Brock\, or Melanie Barlow! \nKeep up with FoY Teens on Facebook: Fountain of Youth – AKA FoY Teens\nFollow FoY Teens on Instagram: @FoYTeens
URL:https://lhcc.info/event/foy-teens-2-2017-10-18/2024-06-05/
LOCATION:Living Hope Christian Church\, 730 South County Trail\, North Kingstown\, RI\, 02852\, United States
CATEGORIES:Teen Ministry
GEO:41.5556183;-71.5189401
X-APPLE-STRUCTURED-LOCATION;VALUE=URI;X-ADDRESS=Living Hope Christian Church 730 South County Trail North Kingstown RI 02852 United States;X-APPLE-RADIUS=500;X-TITLE=730 South County Trail:geo:-71.5189401,41.5556183
END:VEVENT
BEGIN:VEVENT
DTSTART;TZID=America/New_York:20240607T180000
DTEND;TZID=America/New_York:20240607T203000
DTSTAMP:20260425T093510
CREATED:20170905T210214Z
LAST-MODIFIED:20190329T133312Z
UID:10005264-1717783200-1717792200@lhcc.info
SUMMARY:FoY Teens
DESCRIPTION:Living Hope’s teen ministry is open to all teens ages 13-18\, plus select 12-yr-olds\, and meets every Friday night at the North Kingstown home of Steve and Amy Brock. Questions? Contact Steve Brock\, Amy Brock\, or Melanie Barlow!
URL:https://lhcc.info/event/foy-teens-2-2017-10-18-2019-01-02-2019-01-09-2019-01-16/2024-06-07/
LOCATION:Living Hope Christian Church\, 730 South County Trail\, North Kingstown\, RI\, 02852\, United States
CATEGORIES:Teen Ministry
GEO:41.5556183;-71.5189401
X-APPLE-STRUCTURED-LOCATION;VALUE=URI;X-ADDRESS=Living Hope Christian Church 730 South County Trail North Kingstown RI 02852 United States;X-APPLE-RADIUS=500;X-TITLE=730 South County Trail:geo:-71.5189401,41.5556183
END:VEVENT
BEGIN:VEVENT
DTSTART;TZID=America/New_York:20240609T180000
DTEND;TZID=America/New_York:20240609T193000
DTSTAMP:20260425T093510
CREATED:20230829T183159Z
LAST-MODIFIED:20240326T181135Z
UID:10005801-1717956000-1717961400@lhcc.info
SUMMARY:Youth Group
DESCRIPTION:Our Youth Group is for kids in 6th through 12th grade and meets on most Sunday evenings from 6-7:30pm \nThis time includes food\, games\, discussion\, and friendship building with other other believers! \nWe hope you can join us and take a look at the challenges of this world from a Biblical perspective!
URL:https://lhcc.info/event/youth-group-2-2024-04-28/2024-06-09/
LOCATION:RI
CATEGORIES:Teen Ministry
ATTACH;FMTTYPE=image/jpeg:https://lhcc.info/wp-content/uploads/2022/12/LHCC-Youth-Group.jpg
END:VEVENT
BEGIN:VEVENT
DTSTART;TZID=America/New_York:20240612T163000
DTEND;TZID=America/New_York:20240612T193000
DTSTAMP:20260425T093510
CREATED:20160830T195559Z
LAST-MODIFIED:20170218T124847Z
UID:10003884-1718209800-1718220600@lhcc.info
SUMMARY:Fountain of Youth Teens
DESCRIPTION:Living Hope’s teen ministry is open to all teens ages 13-18\, plus select 12-yr-olds\, and meets every Wednesday night at Living Hope Christian Church. For more information about our teen ministry\, see the FoY Teens web page at http://lhcc.info/ministries/teens/. Questions? Contact Michelle Quillin! \nKeep up with FoY Teens on Facebook: Fountain of Youth – AKA FoY Teens\nFollow FoY Teens on Instagram: @FoYTeens
URL:https://lhcc.info/event/fountain-youth-teens/2024-06-12/
LOCATION:Living Hope Christian Church\, 730 South County Trail\, North Kingstown\, RI\, 02852\, United States
CATEGORIES:Teen Ministry
ATTACH;FMTTYPE=image/jpeg:https://lhcc.info/wp-content/uploads/2016/09/living-hope-teen-ministry-rhode-island.jpg
GEO:41.5556183;-71.5189401
X-APPLE-STRUCTURED-LOCATION;VALUE=URI;X-ADDRESS=Living Hope Christian Church 730 South County Trail North Kingstown RI 02852 United States;X-APPLE-RADIUS=500;X-TITLE=730 South County Trail:geo:-71.5189401,41.5556183
END:VEVENT
BEGIN:VEVENT
DTSTART;TZID=America/New_York:20240612T180000
DTEND;TZID=America/New_York:20240612T203000
DTSTAMP:20260425T093510
CREATED:20170905T210214Z
LAST-MODIFIED:20180801T224906Z
UID:10003316-1718215200-1718224200@lhcc.info
SUMMARY:FoY Teens
DESCRIPTION:Living Hope’s teen ministry is open to all teens ages 13-18\, plus select 12-yr-olds\, and meets every Wednesday night at Living Hope Christian Church. For more information about our teen ministry\, see the FoY Teens web page at http://lhcc.info/ministries/teens/. Questions? Contact Steve Brock\, Amy Brock\, or Melanie Barlow! \nKeep up with FoY Teens on Facebook: Fountain of Youth – AKA FoY Teens\nFollow FoY Teens on Instagram: @FoYTeens
URL:https://lhcc.info/event/foy-teens-2-2017-10-18/2024-06-12/
LOCATION:Living Hope Christian Church\, 730 South County Trail\, North Kingstown\, RI\, 02852\, United States
CATEGORIES:Teen Ministry
GEO:41.5556183;-71.5189401
X-APPLE-STRUCTURED-LOCATION;VALUE=URI;X-ADDRESS=Living Hope Christian Church 730 South County Trail North Kingstown RI 02852 United States;X-APPLE-RADIUS=500;X-TITLE=730 South County Trail:geo:-71.5189401,41.5556183
END:VEVENT
BEGIN:VEVENT
DTSTART;TZID=America/New_York:20240614T180000
DTEND;TZID=America/New_York:20240614T203000
DTSTAMP:20260425T093510
CREATED:20170905T210214Z
LAST-MODIFIED:20190329T133312Z
UID:10005265-1718388000-1718397000@lhcc.info
SUMMARY:FoY Teens
DESCRIPTION:Living Hope’s teen ministry is open to all teens ages 13-18\, plus select 12-yr-olds\, and meets every Friday night at the North Kingstown home of Steve and Amy Brock. Questions? Contact Steve Brock\, Amy Brock\, or Melanie Barlow!
URL:https://lhcc.info/event/foy-teens-2-2017-10-18-2019-01-02-2019-01-09-2019-01-16/2024-06-14/
LOCATION:Living Hope Christian Church\, 730 South County Trail\, North Kingstown\, RI\, 02852\, United States
CATEGORIES:Teen Ministry
GEO:41.5556183;-71.5189401
X-APPLE-STRUCTURED-LOCATION;VALUE=URI;X-ADDRESS=Living Hope Christian Church 730 South County Trail North Kingstown RI 02852 United States;X-APPLE-RADIUS=500;X-TITLE=730 South County Trail:geo:-71.5189401,41.5556183
END:VEVENT
BEGIN:VEVENT
DTSTART;TZID=America/New_York:20240619T163000
DTEND;TZID=America/New_York:20240619T193000
DTSTAMP:20260425T093510
CREATED:20160830T195559Z
LAST-MODIFIED:20170218T124847Z
UID:10003885-1718814600-1718825400@lhcc.info
SUMMARY:Fountain of Youth Teens
DESCRIPTION:Living Hope’s teen ministry is open to all teens ages 13-18\, plus select 12-yr-olds\, and meets every Wednesday night at Living Hope Christian Church. For more information about our teen ministry\, see the FoY Teens web page at http://lhcc.info/ministries/teens/. Questions? Contact Michelle Quillin! \nKeep up with FoY Teens on Facebook: Fountain of Youth – AKA FoY Teens\nFollow FoY Teens on Instagram: @FoYTeens
URL:https://lhcc.info/event/fountain-youth-teens/2024-06-19/
LOCATION:Living Hope Christian Church\, 730 South County Trail\, North Kingstown\, RI\, 02852\, United States
CATEGORIES:Teen Ministry
ATTACH;FMTTYPE=image/jpeg:https://lhcc.info/wp-content/uploads/2016/09/living-hope-teen-ministry-rhode-island.jpg
GEO:41.5556183;-71.5189401
X-APPLE-STRUCTURED-LOCATION;VALUE=URI;X-ADDRESS=Living Hope Christian Church 730 South County Trail North Kingstown RI 02852 United States;X-APPLE-RADIUS=500;X-TITLE=730 South County Trail:geo:-71.5189401,41.5556183
END:VEVENT
BEGIN:VEVENT
DTSTART;TZID=America/New_York:20240619T180000
DTEND;TZID=America/New_York:20240619T203000
DTSTAMP:20260425T093510
CREATED:20170905T210214Z
LAST-MODIFIED:20180801T224906Z
UID:10003317-1718820000-1718829000@lhcc.info
SUMMARY:FoY Teens
DESCRIPTION:Living Hope’s teen ministry is open to all teens ages 13-18\, plus select 12-yr-olds\, and meets every Wednesday night at Living Hope Christian Church. For more information about our teen ministry\, see the FoY Teens web page at http://lhcc.info/ministries/teens/. Questions? Contact Steve Brock\, Amy Brock\, or Melanie Barlow! \nKeep up with FoY Teens on Facebook: Fountain of Youth – AKA FoY Teens\nFollow FoY Teens on Instagram: @FoYTeens
URL:https://lhcc.info/event/foy-teens-2-2017-10-18/2024-06-19/
LOCATION:Living Hope Christian Church\, 730 South County Trail\, North Kingstown\, RI\, 02852\, United States
CATEGORIES:Teen Ministry
GEO:41.5556183;-71.5189401
X-APPLE-STRUCTURED-LOCATION;VALUE=URI;X-ADDRESS=Living Hope Christian Church 730 South County Trail North Kingstown RI 02852 United States;X-APPLE-RADIUS=500;X-TITLE=730 South County Trail:geo:-71.5189401,41.5556183
END:VEVENT
BEGIN:VEVENT
DTSTART;TZID=America/New_York:20240621T180000
DTEND;TZID=America/New_York:20240621T203000
DTSTAMP:20260425T093510
CREATED:20170905T210214Z
LAST-MODIFIED:20190329T133312Z
UID:10005266-1718992800-1719001800@lhcc.info
SUMMARY:FoY Teens
DESCRIPTION:Living Hope’s teen ministry is open to all teens ages 13-18\, plus select 12-yr-olds\, and meets every Friday night at the North Kingstown home of Steve and Amy Brock. Questions? Contact Steve Brock\, Amy Brock\, or Melanie Barlow!
URL:https://lhcc.info/event/foy-teens-2-2017-10-18-2019-01-02-2019-01-09-2019-01-16/2024-06-21/
LOCATION:Living Hope Christian Church\, 730 South County Trail\, North Kingstown\, RI\, 02852\, United States
CATEGORIES:Teen Ministry
GEO:41.5556183;-71.5189401
X-APPLE-STRUCTURED-LOCATION;VALUE=URI;X-ADDRESS=Living Hope Christian Church 730 South County Trail North Kingstown RI 02852 United States;X-APPLE-RADIUS=500;X-TITLE=730 South County Trail:geo:-71.5189401,41.5556183
END:VEVENT
BEGIN:VEVENT
DTSTART;TZID=America/New_York:20240623T180000
DTEND;TZID=America/New_York:20240623T193000
DTSTAMP:20260425T093510
CREATED:20230829T183159Z
LAST-MODIFIED:20240326T181135Z
UID:10005802-1719165600-1719171000@lhcc.info
SUMMARY:Youth Group
DESCRIPTION:Our Youth Group is for kids in 6th through 12th grade and meets on most Sunday evenings from 6-7:30pm \nThis time includes food\, games\, discussion\, and friendship building with other other believers! \nWe hope you can join us and take a look at the challenges of this world from a Biblical perspective!
URL:https://lhcc.info/event/youth-group-2-2024-04-28/2024-06-23/
LOCATION:RI
CATEGORIES:Teen Ministry
ATTACH;FMTTYPE=image/jpeg:https://lhcc.info/wp-content/uploads/2022/12/LHCC-Youth-Group.jpg
END:VEVENT
BEGIN:VEVENT
DTSTART;TZID=America/New_York:20240626T163000
DTEND;TZID=America/New_York:20240626T193000
DTSTAMP:20260425T093510
CREATED:20160830T195559Z
LAST-MODIFIED:20170218T124847Z
UID:10003886-1719419400-1719430200@lhcc.info
SUMMARY:Fountain of Youth Teens
DESCRIPTION:Living Hope’s teen ministry is open to all teens ages 13-18\, plus select 12-yr-olds\, and meets every Wednesday night at Living Hope Christian Church. For more information about our teen ministry\, see the FoY Teens web page at http://lhcc.info/ministries/teens/. Questions? Contact Michelle Quillin! \nKeep up with FoY Teens on Facebook: Fountain of Youth – AKA FoY Teens\nFollow FoY Teens on Instagram: @FoYTeens
URL:https://lhcc.info/event/fountain-youth-teens/2024-06-26/
LOCATION:Living Hope Christian Church\, 730 South County Trail\, North Kingstown\, RI\, 02852\, United States
CATEGORIES:Teen Ministry
ATTACH;FMTTYPE=image/jpeg:https://lhcc.info/wp-content/uploads/2016/09/living-hope-teen-ministry-rhode-island.jpg
GEO:41.5556183;-71.5189401
X-APPLE-STRUCTURED-LOCATION;VALUE=URI;X-ADDRESS=Living Hope Christian Church 730 South County Trail North Kingstown RI 02852 United States;X-APPLE-RADIUS=500;X-TITLE=730 South County Trail:geo:-71.5189401,41.5556183
END:VEVENT
BEGIN:VEVENT
DTSTART;TZID=America/New_York:20240626T180000
DTEND;TZID=America/New_York:20240626T203000
DTSTAMP:20260425T093510
CREATED:20170905T210214Z
LAST-MODIFIED:20180801T224906Z
UID:10003318-1719424800-1719433800@lhcc.info
SUMMARY:FoY Teens
DESCRIPTION:Living Hope’s teen ministry is open to all teens ages 13-18\, plus select 12-yr-olds\, and meets every Wednesday night at Living Hope Christian Church. For more information about our teen ministry\, see the FoY Teens web page at http://lhcc.info/ministries/teens/. Questions? Contact Steve Brock\, Amy Brock\, or Melanie Barlow! \nKeep up with FoY Teens on Facebook: Fountain of Youth – AKA FoY Teens\nFollow FoY Teens on Instagram: @FoYTeens
URL:https://lhcc.info/event/foy-teens-2-2017-10-18/2024-06-26/
LOCATION:Living Hope Christian Church\, 730 South County Trail\, North Kingstown\, RI\, 02852\, United States
CATEGORIES:Teen Ministry
GEO:41.5556183;-71.5189401
X-APPLE-STRUCTURED-LOCATION;VALUE=URI;X-ADDRESS=Living Hope Christian Church 730 South County Trail North Kingstown RI 02852 United States;X-APPLE-RADIUS=500;X-TITLE=730 South County Trail:geo:-71.5189401,41.5556183
END:VEVENT
BEGIN:VEVENT
DTSTART;TZID=America/New_York:20240628T180000
DTEND;TZID=America/New_York:20240628T203000
DTSTAMP:20260425T093510
CREATED:20170905T210214Z
LAST-MODIFIED:20190329T133312Z
UID:10005267-1719597600-1719606600@lhcc.info
SUMMARY:FoY Teens
DESCRIPTION:Living Hope’s teen ministry is open to all teens ages 13-18\, plus select 12-yr-olds\, and meets every Friday night at the North Kingstown home of Steve and Amy Brock. Questions? Contact Steve Brock\, Amy Brock\, or Melanie Barlow!
URL:https://lhcc.info/event/foy-teens-2-2017-10-18-2019-01-02-2019-01-09-2019-01-16/2024-06-28/
LOCATION:Living Hope Christian Church\, 730 South County Trail\, North Kingstown\, RI\, 02852\, United States
CATEGORIES:Teen Ministry
GEO:41.5556183;-71.5189401
X-APPLE-STRUCTURED-LOCATION;VALUE=URI;X-ADDRESS=Living Hope Christian Church 730 South County Trail North Kingstown RI 02852 United States;X-APPLE-RADIUS=500;X-TITLE=730 South County Trail:geo:-71.5189401,41.5556183
END:VEVENT
BEGIN:VEVENT
DTSTART;TZID=America/New_York:20240630T180000
DTEND;TZID=America/New_York:20240630T193000
DTSTAMP:20260425T093510
CREATED:20230829T183159Z
LAST-MODIFIED:20240326T181135Z
UID:10005803-1719770400-1719775800@lhcc.info
SUMMARY:Youth Group
DESCRIPTION:Our Youth Group is for kids in 6th through 12th grade and meets on most Sunday evenings from 6-7:30pm \nThis time includes food\, games\, discussion\, and friendship building with other other believers! \nWe hope you can join us and take a look at the challenges of this world from a Biblical perspective!
URL:https://lhcc.info/event/youth-group-2-2024-04-28/2024-06-30/
LOCATION:RI
CATEGORIES:Teen Ministry
ATTACH;FMTTYPE=image/jpeg:https://lhcc.info/wp-content/uploads/2022/12/LHCC-Youth-Group.jpg
END:VEVENT
END:VCALENDAR