BEGIN:VCALENDAR
VERSION:2.0
PRODID:-//Living Hope Christian Church - ECPv6.15.17.1//NONSGML v1.0//EN
CALSCALE:GREGORIAN
METHOD:PUBLISH
X-WR-CALNAME:Living Hope Christian Church
X-ORIGINAL-URL:https://lhcc.info
X-WR-CALDESC:Events for Living Hope Christian Church
REFRESH-INTERVAL;VALUE=DURATION:PT1H
X-Robots-Tag:noindex
X-PUBLISHED-TTL:PT1H
BEGIN:VTIMEZONE
TZID:America/New_York
BEGIN:DAYLIGHT
TZOFFSETFROM:-0500
TZOFFSETTO:-0400
TZNAME:EDT
DTSTART:20230312T070000
END:DAYLIGHT
BEGIN:STANDARD
TZOFFSETFROM:-0400
TZOFFSETTO:-0500
TZNAME:EST
DTSTART:20231105T060000
END:STANDARD
BEGIN:DAYLIGHT
TZOFFSETFROM:-0500
TZOFFSETTO:-0400
TZNAME:EDT
DTSTART:20240310T070000
END:DAYLIGHT
BEGIN:STANDARD
TZOFFSETFROM:-0400
TZOFFSETTO:-0500
TZNAME:EST
DTSTART:20241103T060000
END:STANDARD
BEGIN:DAYLIGHT
TZOFFSETFROM:-0500
TZOFFSETTO:-0400
TZNAME:EDT
DTSTART:20250309T070000
END:DAYLIGHT
BEGIN:STANDARD
TZOFFSETFROM:-0400
TZOFFSETTO:-0500
TZNAME:EST
DTSTART:20251102T060000
END:STANDARD
END:VTIMEZONE
BEGIN:VEVENT
DTSTART;TZID=America/New_York:20240202T180000
DTEND;TZID=America/New_York:20240202T203000
DTSTAMP:20260425T204826
CREATED:20170905T210214Z
LAST-MODIFIED:20190329T133312Z
UID:10005246-1706896800-1706905800@lhcc.info
SUMMARY:FoY Teens
DESCRIPTION:Living Hope’s teen ministry is open to all teens ages 13-18\, plus select 12-yr-olds\, and meets every Friday night at the North Kingstown home of Steve and Amy Brock. Questions? Contact Steve Brock\, Amy Brock\, or Melanie Barlow!
URL:https://lhcc.info/event/foy-teens-2-2017-10-18-2019-01-02-2019-01-09-2019-01-16/2024-02-02/
LOCATION:Living Hope Christian Church\, 730 South County Trail\, North Kingstown\, RI\, 02852\, United States
CATEGORIES:Teen Ministry
GEO:41.5556183;-71.5189401
X-APPLE-STRUCTURED-LOCATION;VALUE=URI;X-ADDRESS=Living Hope Christian Church 730 South County Trail North Kingstown RI 02852 United States;X-APPLE-RADIUS=500;X-TITLE=730 South County Trail:geo:-71.5189401,41.5556183
END:VEVENT
BEGIN:VEVENT
DTSTART;TZID=America/New_York:20240204T180000
DTEND;TZID=America/New_York:20240204T193000
DTSTAMP:20260425T204826
CREATED:20230829T183159Z
LAST-MODIFIED:20240209T165855Z
UID:10005786-1707069600-1707075000@lhcc.info
SUMMARY:Youth Group
DESCRIPTION:Our Youth Group is for kids in 6th through 12th grade and meets on most Sunday evenings from 6-7:30pm \nThis time includes food\, games\, discussion\, and friendship building with other other believers! \nWe hope you can join us and take a look at the challenges of this world from a Biblical perspective!
URL:https://lhcc.info/event/youth-group-2/2024-02-04/
LOCATION:RI
CATEGORIES:Teen Ministry
ATTACH;FMTTYPE=image/jpeg:https://lhcc.info/wp-content/uploads/2022/12/LHCC-Youth-Group.jpg
END:VEVENT
BEGIN:VEVENT
DTSTART;TZID=America/New_York:20240207T163000
DTEND;TZID=America/New_York:20240207T193000
DTSTAMP:20260425T204826
CREATED:20160830T195559Z
LAST-MODIFIED:20170218T124847Z
UID:10003866-1707323400-1707334200@lhcc.info
SUMMARY:Fountain of Youth Teens
DESCRIPTION:Living Hope’s teen ministry is open to all teens ages 13-18\, plus select 12-yr-olds\, and meets every Wednesday night at Living Hope Christian Church. For more information about our teen ministry\, see the FoY Teens web page at http://lhcc.info/ministries/teens/. Questions? Contact Michelle Quillin! \nKeep up with FoY Teens on Facebook: Fountain of Youth – AKA FoY Teens\nFollow FoY Teens on Instagram: @FoYTeens
URL:https://lhcc.info/event/fountain-youth-teens/2024-02-07/
LOCATION:Living Hope Christian Church\, 730 South County Trail\, North Kingstown\, RI\, 02852\, United States
CATEGORIES:Teen Ministry
ATTACH;FMTTYPE=image/jpeg:https://lhcc.info/wp-content/uploads/2016/09/living-hope-teen-ministry-rhode-island.jpg
GEO:41.5556183;-71.5189401
X-APPLE-STRUCTURED-LOCATION;VALUE=URI;X-ADDRESS=Living Hope Christian Church 730 South County Trail North Kingstown RI 02852 United States;X-APPLE-RADIUS=500;X-TITLE=730 South County Trail:geo:-71.5189401,41.5556183
END:VEVENT
BEGIN:VEVENT
DTSTART;TZID=America/New_York:20240207T180000
DTEND;TZID=America/New_York:20240207T203000
DTSTAMP:20260425T204826
CREATED:20170905T210214Z
LAST-MODIFIED:20180801T224906Z
UID:10003298-1707328800-1707337800@lhcc.info
SUMMARY:FoY Teens
DESCRIPTION:Living Hope’s teen ministry is open to all teens ages 13-18\, plus select 12-yr-olds\, and meets every Wednesday night at Living Hope Christian Church. For more information about our teen ministry\, see the FoY Teens web page at http://lhcc.info/ministries/teens/. Questions? Contact Steve Brock\, Amy Brock\, or Melanie Barlow! \nKeep up with FoY Teens on Facebook: Fountain of Youth – AKA FoY Teens\nFollow FoY Teens on Instagram: @FoYTeens
URL:https://lhcc.info/event/foy-teens-2-2017-10-18/2024-02-07/
LOCATION:Living Hope Christian Church\, 730 South County Trail\, North Kingstown\, RI\, 02852\, United States
CATEGORIES:Teen Ministry
GEO:41.5556183;-71.5189401
X-APPLE-STRUCTURED-LOCATION;VALUE=URI;X-ADDRESS=Living Hope Christian Church 730 South County Trail North Kingstown RI 02852 United States;X-APPLE-RADIUS=500;X-TITLE=730 South County Trail:geo:-71.5189401,41.5556183
END:VEVENT
BEGIN:VEVENT
DTSTART;TZID=America/New_York:20240209T180000
DTEND;TZID=America/New_York:20240209T203000
DTSTAMP:20260425T204826
CREATED:20170905T210214Z
LAST-MODIFIED:20190329T133312Z
UID:10005247-1707501600-1707510600@lhcc.info
SUMMARY:FoY Teens
DESCRIPTION:Living Hope’s teen ministry is open to all teens ages 13-18\, plus select 12-yr-olds\, and meets every Friday night at the North Kingstown home of Steve and Amy Brock. Questions? Contact Steve Brock\, Amy Brock\, or Melanie Barlow!
URL:https://lhcc.info/event/foy-teens-2-2017-10-18-2019-01-02-2019-01-09-2019-01-16/2024-02-09/
LOCATION:Living Hope Christian Church\, 730 South County Trail\, North Kingstown\, RI\, 02852\, United States
CATEGORIES:Teen Ministry
GEO:41.5556183;-71.5189401
X-APPLE-STRUCTURED-LOCATION;VALUE=URI;X-ADDRESS=Living Hope Christian Church 730 South County Trail North Kingstown RI 02852 United States;X-APPLE-RADIUS=500;X-TITLE=730 South County Trail:geo:-71.5189401,41.5556183
END:VEVENT
BEGIN:VEVENT
DTSTART;TZID=America/New_York:20240214T163000
DTEND;TZID=America/New_York:20240214T193000
DTSTAMP:20260425T204826
CREATED:20160830T195559Z
LAST-MODIFIED:20170218T124847Z
UID:10003867-1707928200-1707939000@lhcc.info
SUMMARY:Fountain of Youth Teens
DESCRIPTION:Living Hope’s teen ministry is open to all teens ages 13-18\, plus select 12-yr-olds\, and meets every Wednesday night at Living Hope Christian Church. For more information about our teen ministry\, see the FoY Teens web page at http://lhcc.info/ministries/teens/. Questions? Contact Michelle Quillin! \nKeep up with FoY Teens on Facebook: Fountain of Youth – AKA FoY Teens\nFollow FoY Teens on Instagram: @FoYTeens
URL:https://lhcc.info/event/fountain-youth-teens/2024-02-14/
LOCATION:Living Hope Christian Church\, 730 South County Trail\, North Kingstown\, RI\, 02852\, United States
CATEGORIES:Teen Ministry
ATTACH;FMTTYPE=image/jpeg:https://lhcc.info/wp-content/uploads/2016/09/living-hope-teen-ministry-rhode-island.jpg
GEO:41.5556183;-71.5189401
X-APPLE-STRUCTURED-LOCATION;VALUE=URI;X-ADDRESS=Living Hope Christian Church 730 South County Trail North Kingstown RI 02852 United States;X-APPLE-RADIUS=500;X-TITLE=730 South County Trail:geo:-71.5189401,41.5556183
END:VEVENT
BEGIN:VEVENT
DTSTART;TZID=America/New_York:20240214T180000
DTEND;TZID=America/New_York:20240214T203000
DTSTAMP:20260425T204826
CREATED:20170905T210214Z
LAST-MODIFIED:20180801T224906Z
UID:10003299-1707933600-1707942600@lhcc.info
SUMMARY:FoY Teens
DESCRIPTION:Living Hope’s teen ministry is open to all teens ages 13-18\, plus select 12-yr-olds\, and meets every Wednesday night at Living Hope Christian Church. For more information about our teen ministry\, see the FoY Teens web page at http://lhcc.info/ministries/teens/. Questions? Contact Steve Brock\, Amy Brock\, or Melanie Barlow! \nKeep up with FoY Teens on Facebook: Fountain of Youth – AKA FoY Teens\nFollow FoY Teens on Instagram: @FoYTeens
URL:https://lhcc.info/event/foy-teens-2-2017-10-18/2024-02-14/
LOCATION:Living Hope Christian Church\, 730 South County Trail\, North Kingstown\, RI\, 02852\, United States
CATEGORIES:Teen Ministry
GEO:41.5556183;-71.5189401
X-APPLE-STRUCTURED-LOCATION;VALUE=URI;X-ADDRESS=Living Hope Christian Church 730 South County Trail North Kingstown RI 02852 United States;X-APPLE-RADIUS=500;X-TITLE=730 South County Trail:geo:-71.5189401,41.5556183
END:VEVENT
BEGIN:VEVENT
DTSTART;TZID=America/New_York:20240216T180000
DTEND;TZID=America/New_York:20240216T203000
DTSTAMP:20260425T204826
CREATED:20170905T210214Z
LAST-MODIFIED:20190329T133312Z
UID:10005248-1708106400-1708115400@lhcc.info
SUMMARY:FoY Teens
DESCRIPTION:Living Hope’s teen ministry is open to all teens ages 13-18\, plus select 12-yr-olds\, and meets every Friday night at the North Kingstown home of Steve and Amy Brock. Questions? Contact Steve Brock\, Amy Brock\, or Melanie Barlow!
URL:https://lhcc.info/event/foy-teens-2-2017-10-18-2019-01-02-2019-01-09-2019-01-16/2024-02-16/
LOCATION:Living Hope Christian Church\, 730 South County Trail\, North Kingstown\, RI\, 02852\, United States
CATEGORIES:Teen Ministry
GEO:41.5556183;-71.5189401
X-APPLE-STRUCTURED-LOCATION;VALUE=URI;X-ADDRESS=Living Hope Christian Church 730 South County Trail North Kingstown RI 02852 United States;X-APPLE-RADIUS=500;X-TITLE=730 South County Trail:geo:-71.5189401,41.5556183
END:VEVENT
BEGIN:VEVENT
DTSTART;TZID=America/New_York:20240218T180000
DTEND;TZID=America/New_York:20240218T193000
DTSTAMP:20260425T204826
CREATED:20230829T183159Z
LAST-MODIFIED:20240209T165855Z
UID:10005787-1708279200-1708284600@lhcc.info
SUMMARY:Youth Group
DESCRIPTION:Our Youth Group is for kids in 6th through 12th grade and meets on most Sunday evenings from 6-7:30pm \nThis time includes food\, games\, discussion\, and friendship building with other other believers! \nWe hope you can join us and take a look at the challenges of this world from a Biblical perspective!
URL:https://lhcc.info/event/youth-group-2/2024-02-18/
LOCATION:RI
CATEGORIES:Teen Ministry
ATTACH;FMTTYPE=image/jpeg:https://lhcc.info/wp-content/uploads/2022/12/LHCC-Youth-Group.jpg
END:VEVENT
BEGIN:VEVENT
DTSTART;TZID=America/New_York:20240221T163000
DTEND;TZID=America/New_York:20240221T193000
DTSTAMP:20260425T204826
CREATED:20160830T195559Z
LAST-MODIFIED:20170218T124847Z
UID:10003868-1708533000-1708543800@lhcc.info
SUMMARY:Fountain of Youth Teens
DESCRIPTION:Living Hope’s teen ministry is open to all teens ages 13-18\, plus select 12-yr-olds\, and meets every Wednesday night at Living Hope Christian Church. For more information about our teen ministry\, see the FoY Teens web page at http://lhcc.info/ministries/teens/. Questions? Contact Michelle Quillin! \nKeep up with FoY Teens on Facebook: Fountain of Youth – AKA FoY Teens\nFollow FoY Teens on Instagram: @FoYTeens
URL:https://lhcc.info/event/fountain-youth-teens/2024-02-21/
LOCATION:Living Hope Christian Church\, 730 South County Trail\, North Kingstown\, RI\, 02852\, United States
CATEGORIES:Teen Ministry
ATTACH;FMTTYPE=image/jpeg:https://lhcc.info/wp-content/uploads/2016/09/living-hope-teen-ministry-rhode-island.jpg
GEO:41.5556183;-71.5189401
X-APPLE-STRUCTURED-LOCATION;VALUE=URI;X-ADDRESS=Living Hope Christian Church 730 South County Trail North Kingstown RI 02852 United States;X-APPLE-RADIUS=500;X-TITLE=730 South County Trail:geo:-71.5189401,41.5556183
END:VEVENT
BEGIN:VEVENT
DTSTART;TZID=America/New_York:20240221T180000
DTEND;TZID=America/New_York:20240221T203000
DTSTAMP:20260425T204826
CREATED:20170905T210214Z
LAST-MODIFIED:20180801T224906Z
UID:10003300-1708538400-1708547400@lhcc.info
SUMMARY:FoY Teens
DESCRIPTION:Living Hope’s teen ministry is open to all teens ages 13-18\, plus select 12-yr-olds\, and meets every Wednesday night at Living Hope Christian Church. For more information about our teen ministry\, see the FoY Teens web page at http://lhcc.info/ministries/teens/. Questions? Contact Steve Brock\, Amy Brock\, or Melanie Barlow! \nKeep up with FoY Teens on Facebook: Fountain of Youth – AKA FoY Teens\nFollow FoY Teens on Instagram: @FoYTeens
URL:https://lhcc.info/event/foy-teens-2-2017-10-18/2024-02-21/
LOCATION:Living Hope Christian Church\, 730 South County Trail\, North Kingstown\, RI\, 02852\, United States
CATEGORIES:Teen Ministry
GEO:41.5556183;-71.5189401
X-APPLE-STRUCTURED-LOCATION;VALUE=URI;X-ADDRESS=Living Hope Christian Church 730 South County Trail North Kingstown RI 02852 United States;X-APPLE-RADIUS=500;X-TITLE=730 South County Trail:geo:-71.5189401,41.5556183
END:VEVENT
BEGIN:VEVENT
DTSTART;TZID=America/New_York:20240223T180000
DTEND;TZID=America/New_York:20240223T203000
DTSTAMP:20260425T204826
CREATED:20170905T210214Z
LAST-MODIFIED:20190329T133312Z
UID:10005249-1708711200-1708720200@lhcc.info
SUMMARY:FoY Teens
DESCRIPTION:Living Hope’s teen ministry is open to all teens ages 13-18\, plus select 12-yr-olds\, and meets every Friday night at the North Kingstown home of Steve and Amy Brock. Questions? Contact Steve Brock\, Amy Brock\, or Melanie Barlow!
URL:https://lhcc.info/event/foy-teens-2-2017-10-18-2019-01-02-2019-01-09-2019-01-16/2024-02-23/
LOCATION:Living Hope Christian Church\, 730 South County Trail\, North Kingstown\, RI\, 02852\, United States
CATEGORIES:Teen Ministry
GEO:41.5556183;-71.5189401
X-APPLE-STRUCTURED-LOCATION;VALUE=URI;X-ADDRESS=Living Hope Christian Church 730 South County Trail North Kingstown RI 02852 United States;X-APPLE-RADIUS=500;X-TITLE=730 South County Trail:geo:-71.5189401,41.5556183
END:VEVENT
BEGIN:VEVENT
DTSTART;TZID=America/New_York:20240225T180000
DTEND;TZID=America/New_York:20240225T193000
DTSTAMP:20260425T204826
CREATED:20230829T183159Z
LAST-MODIFIED:20240209T165855Z
UID:10005788-1708884000-1708889400@lhcc.info
SUMMARY:Youth Group
DESCRIPTION:Our Youth Group is for kids in 6th through 12th grade and meets on most Sunday evenings from 6-7:30pm \nThis time includes food\, games\, discussion\, and friendship building with other other believers! \nWe hope you can join us and take a look at the challenges of this world from a Biblical perspective!
URL:https://lhcc.info/event/youth-group-2/2024-02-25/
LOCATION:RI
CATEGORIES:Teen Ministry
ATTACH;FMTTYPE=image/jpeg:https://lhcc.info/wp-content/uploads/2022/12/LHCC-Youth-Group.jpg
END:VEVENT
BEGIN:VEVENT
DTSTART;TZID=America/New_York:20240228T163000
DTEND;TZID=America/New_York:20240228T193000
DTSTAMP:20260425T204826
CREATED:20160830T195559Z
LAST-MODIFIED:20170218T124847Z
UID:10003869-1709137800-1709148600@lhcc.info
SUMMARY:Fountain of Youth Teens
DESCRIPTION:Living Hope’s teen ministry is open to all teens ages 13-18\, plus select 12-yr-olds\, and meets every Wednesday night at Living Hope Christian Church. For more information about our teen ministry\, see the FoY Teens web page at http://lhcc.info/ministries/teens/. Questions? Contact Michelle Quillin! \nKeep up with FoY Teens on Facebook: Fountain of Youth – AKA FoY Teens\nFollow FoY Teens on Instagram: @FoYTeens
URL:https://lhcc.info/event/fountain-youth-teens/2024-02-28/
LOCATION:Living Hope Christian Church\, 730 South County Trail\, North Kingstown\, RI\, 02852\, United States
CATEGORIES:Teen Ministry
ATTACH;FMTTYPE=image/jpeg:https://lhcc.info/wp-content/uploads/2016/09/living-hope-teen-ministry-rhode-island.jpg
GEO:41.5556183;-71.5189401
X-APPLE-STRUCTURED-LOCATION;VALUE=URI;X-ADDRESS=Living Hope Christian Church 730 South County Trail North Kingstown RI 02852 United States;X-APPLE-RADIUS=500;X-TITLE=730 South County Trail:geo:-71.5189401,41.5556183
END:VEVENT
BEGIN:VEVENT
DTSTART;TZID=America/New_York:20240228T180000
DTEND;TZID=America/New_York:20240228T203000
DTSTAMP:20260425T204826
CREATED:20170905T210214Z
LAST-MODIFIED:20180801T224906Z
UID:10003301-1709143200-1709152200@lhcc.info
SUMMARY:FoY Teens
DESCRIPTION:Living Hope’s teen ministry is open to all teens ages 13-18\, plus select 12-yr-olds\, and meets every Wednesday night at Living Hope Christian Church. For more information about our teen ministry\, see the FoY Teens web page at http://lhcc.info/ministries/teens/. Questions? Contact Steve Brock\, Amy Brock\, or Melanie Barlow! \nKeep up with FoY Teens on Facebook: Fountain of Youth – AKA FoY Teens\nFollow FoY Teens on Instagram: @FoYTeens
URL:https://lhcc.info/event/foy-teens-2-2017-10-18/2024-02-28/
LOCATION:Living Hope Christian Church\, 730 South County Trail\, North Kingstown\, RI\, 02852\, United States
CATEGORIES:Teen Ministry
GEO:41.5556183;-71.5189401
X-APPLE-STRUCTURED-LOCATION;VALUE=URI;X-ADDRESS=Living Hope Christian Church 730 South County Trail North Kingstown RI 02852 United States;X-APPLE-RADIUS=500;X-TITLE=730 South County Trail:geo:-71.5189401,41.5556183
END:VEVENT
END:VCALENDAR