BEGIN:VCALENDAR
VERSION:2.0
PRODID:-//Living Hope Christian Church - ECPv6.15.17.1//NONSGML v1.0//EN
CALSCALE:GREGORIAN
METHOD:PUBLISH
X-WR-CALNAME:Living Hope Christian Church
X-ORIGINAL-URL:https://lhcc.info
X-WR-CALDESC:Events for Living Hope Christian Church
REFRESH-INTERVAL;VALUE=DURATION:PT1H
X-Robots-Tag:noindex
X-PUBLISHED-TTL:PT1H
BEGIN:VTIMEZONE
TZID:America/New_York
BEGIN:DAYLIGHT
TZOFFSETFROM:-0500
TZOFFSETTO:-0400
TZNAME:EDT
DTSTART:20230312T070000
END:DAYLIGHT
BEGIN:STANDARD
TZOFFSETFROM:-0400
TZOFFSETTO:-0500
TZNAME:EST
DTSTART:20231105T060000
END:STANDARD
BEGIN:DAYLIGHT
TZOFFSETFROM:-0500
TZOFFSETTO:-0400
TZNAME:EDT
DTSTART:20240310T070000
END:DAYLIGHT
BEGIN:STANDARD
TZOFFSETFROM:-0400
TZOFFSETTO:-0500
TZNAME:EST
DTSTART:20241103T060000
END:STANDARD
BEGIN:DAYLIGHT
TZOFFSETFROM:-0500
TZOFFSETTO:-0400
TZNAME:EDT
DTSTART:20250309T070000
END:DAYLIGHT
BEGIN:STANDARD
TZOFFSETFROM:-0400
TZOFFSETTO:-0500
TZNAME:EST
DTSTART:20251102T060000
END:STANDARD
END:VTIMEZONE
BEGIN:VEVENT
DTSTART;TZID=America/New_York:20240103T163000
DTEND;TZID=America/New_York:20240103T193000
DTSTAMP:20260425T223547
CREATED:20160830T195559Z
LAST-MODIFIED:20170218T124847Z
UID:10003861-1704299400-1704310200@lhcc.info
SUMMARY:Fountain of Youth Teens
DESCRIPTION:Living Hope’s teen ministry is open to all teens ages 13-18\, plus select 12-yr-olds\, and meets every Wednesday night at Living Hope Christian Church. For more information about our teen ministry\, see the FoY Teens web page at http://lhcc.info/ministries/teens/. Questions? Contact Michelle Quillin! \nKeep up with FoY Teens on Facebook: Fountain of Youth – AKA FoY Teens\nFollow FoY Teens on Instagram: @FoYTeens
URL:https://lhcc.info/event/fountain-youth-teens/2024-01-03/
LOCATION:Living Hope Christian Church\, 730 South County Trail\, North Kingstown\, RI\, 02852\, United States
CATEGORIES:Teen Ministry
ATTACH;FMTTYPE=image/jpeg:https://lhcc.info/wp-content/uploads/2016/09/living-hope-teen-ministry-rhode-island.jpg
GEO:41.5556183;-71.5189401
X-APPLE-STRUCTURED-LOCATION;VALUE=URI;X-ADDRESS=Living Hope Christian Church 730 South County Trail North Kingstown RI 02852 United States;X-APPLE-RADIUS=500;X-TITLE=730 South County Trail:geo:-71.5189401,41.5556183
END:VEVENT
BEGIN:VEVENT
DTSTART;TZID=America/New_York:20240103T180000
DTEND;TZID=America/New_York:20240103T203000
DTSTAMP:20260425T223547
CREATED:20170905T210214Z
LAST-MODIFIED:20180801T224906Z
UID:10003293-1704304800-1704313800@lhcc.info
SUMMARY:FoY Teens
DESCRIPTION:Living Hope’s teen ministry is open to all teens ages 13-18\, plus select 12-yr-olds\, and meets every Wednesday night at Living Hope Christian Church. For more information about our teen ministry\, see the FoY Teens web page at http://lhcc.info/ministries/teens/. Questions? Contact Steve Brock\, Amy Brock\, or Melanie Barlow! \nKeep up with FoY Teens on Facebook: Fountain of Youth – AKA FoY Teens\nFollow FoY Teens on Instagram: @FoYTeens
URL:https://lhcc.info/event/foy-teens-2-2017-10-18/2024-01-03/
LOCATION:Living Hope Christian Church\, 730 South County Trail\, North Kingstown\, RI\, 02852\, United States
CATEGORIES:Teen Ministry
GEO:41.5556183;-71.5189401
X-APPLE-STRUCTURED-LOCATION;VALUE=URI;X-ADDRESS=Living Hope Christian Church 730 South County Trail North Kingstown RI 02852 United States;X-APPLE-RADIUS=500;X-TITLE=730 South County Trail:geo:-71.5189401,41.5556183
END:VEVENT
BEGIN:VEVENT
DTSTART;TZID=America/New_York:20240105T180000
DTEND;TZID=America/New_York:20240105T203000
DTSTAMP:20260425T223547
CREATED:20170905T210214Z
LAST-MODIFIED:20190329T133312Z
UID:10005242-1704477600-1704486600@lhcc.info
SUMMARY:FoY Teens
DESCRIPTION:Living Hope’s teen ministry is open to all teens ages 13-18\, plus select 12-yr-olds\, and meets every Friday night at the North Kingstown home of Steve and Amy Brock. Questions? Contact Steve Brock\, Amy Brock\, or Melanie Barlow!
URL:https://lhcc.info/event/foy-teens-2-2017-10-18-2019-01-02-2019-01-09-2019-01-16/2024-01-05/
LOCATION:Living Hope Christian Church\, 730 South County Trail\, North Kingstown\, RI\, 02852\, United States
CATEGORIES:Teen Ministry
GEO:41.5556183;-71.5189401
X-APPLE-STRUCTURED-LOCATION;VALUE=URI;X-ADDRESS=Living Hope Christian Church 730 South County Trail North Kingstown RI 02852 United States;X-APPLE-RADIUS=500;X-TITLE=730 South County Trail:geo:-71.5189401,41.5556183
END:VEVENT
BEGIN:VEVENT
DTSTART;TZID=America/New_York:20240107T180000
DTEND;TZID=America/New_York:20240107T193000
DTSTAMP:20260425T223547
CREATED:20230829T183159Z
LAST-MODIFIED:20240209T165855Z
UID:10005782-1704650400-1704655800@lhcc.info
SUMMARY:Youth Group
DESCRIPTION:Our Youth Group is for kids in 6th through 12th grade and meets on most Sunday evenings from 6-7:30pm \nThis time includes food\, games\, discussion\, and friendship building with other other believers! \nWe hope you can join us and take a look at the challenges of this world from a Biblical perspective!
URL:https://lhcc.info/event/youth-group-2/2024-01-07/
LOCATION:RI
CATEGORIES:Teen Ministry
ATTACH;FMTTYPE=image/jpeg:https://lhcc.info/wp-content/uploads/2022/12/LHCC-Youth-Group.jpg
END:VEVENT
BEGIN:VEVENT
DTSTART;TZID=America/New_York:20240110T163000
DTEND;TZID=America/New_York:20240110T193000
DTSTAMP:20260425T223547
CREATED:20160830T195559Z
LAST-MODIFIED:20170218T124847Z
UID:10003862-1704904200-1704915000@lhcc.info
SUMMARY:Fountain of Youth Teens
DESCRIPTION:Living Hope’s teen ministry is open to all teens ages 13-18\, plus select 12-yr-olds\, and meets every Wednesday night at Living Hope Christian Church. For more information about our teen ministry\, see the FoY Teens web page at http://lhcc.info/ministries/teens/. Questions? Contact Michelle Quillin! \nKeep up with FoY Teens on Facebook: Fountain of Youth – AKA FoY Teens\nFollow FoY Teens on Instagram: @FoYTeens
URL:https://lhcc.info/event/fountain-youth-teens/2024-01-10/
LOCATION:Living Hope Christian Church\, 730 South County Trail\, North Kingstown\, RI\, 02852\, United States
CATEGORIES:Teen Ministry
ATTACH;FMTTYPE=image/jpeg:https://lhcc.info/wp-content/uploads/2016/09/living-hope-teen-ministry-rhode-island.jpg
GEO:41.5556183;-71.5189401
X-APPLE-STRUCTURED-LOCATION;VALUE=URI;X-ADDRESS=Living Hope Christian Church 730 South County Trail North Kingstown RI 02852 United States;X-APPLE-RADIUS=500;X-TITLE=730 South County Trail:geo:-71.5189401,41.5556183
END:VEVENT
BEGIN:VEVENT
DTSTART;TZID=America/New_York:20240110T180000
DTEND;TZID=America/New_York:20240110T203000
DTSTAMP:20260425T223547
CREATED:20170905T210214Z
LAST-MODIFIED:20180801T224906Z
UID:10003294-1704909600-1704918600@lhcc.info
SUMMARY:FoY Teens
DESCRIPTION:Living Hope’s teen ministry is open to all teens ages 13-18\, plus select 12-yr-olds\, and meets every Wednesday night at Living Hope Christian Church. For more information about our teen ministry\, see the FoY Teens web page at http://lhcc.info/ministries/teens/. Questions? Contact Steve Brock\, Amy Brock\, or Melanie Barlow! \nKeep up with FoY Teens on Facebook: Fountain of Youth – AKA FoY Teens\nFollow FoY Teens on Instagram: @FoYTeens
URL:https://lhcc.info/event/foy-teens-2-2017-10-18/2024-01-10/
LOCATION:Living Hope Christian Church\, 730 South County Trail\, North Kingstown\, RI\, 02852\, United States
CATEGORIES:Teen Ministry
GEO:41.5556183;-71.5189401
X-APPLE-STRUCTURED-LOCATION;VALUE=URI;X-ADDRESS=Living Hope Christian Church 730 South County Trail North Kingstown RI 02852 United States;X-APPLE-RADIUS=500;X-TITLE=730 South County Trail:geo:-71.5189401,41.5556183
END:VEVENT
BEGIN:VEVENT
DTSTART;TZID=America/New_York:20240112T180000
DTEND;TZID=America/New_York:20240112T203000
DTSTAMP:20260425T223547
CREATED:20170905T210214Z
LAST-MODIFIED:20190329T133312Z
UID:10005243-1705082400-1705091400@lhcc.info
SUMMARY:FoY Teens
DESCRIPTION:Living Hope’s teen ministry is open to all teens ages 13-18\, plus select 12-yr-olds\, and meets every Friday night at the North Kingstown home of Steve and Amy Brock. Questions? Contact Steve Brock\, Amy Brock\, or Melanie Barlow!
URL:https://lhcc.info/event/foy-teens-2-2017-10-18-2019-01-02-2019-01-09-2019-01-16/2024-01-12/
LOCATION:Living Hope Christian Church\, 730 South County Trail\, North Kingstown\, RI\, 02852\, United States
CATEGORIES:Teen Ministry
GEO:41.5556183;-71.5189401
X-APPLE-STRUCTURED-LOCATION;VALUE=URI;X-ADDRESS=Living Hope Christian Church 730 South County Trail North Kingstown RI 02852 United States;X-APPLE-RADIUS=500;X-TITLE=730 South County Trail:geo:-71.5189401,41.5556183
END:VEVENT
BEGIN:VEVENT
DTSTART;TZID=America/New_York:20240114T180000
DTEND;TZID=America/New_York:20240114T193000
DTSTAMP:20260425T223547
CREATED:20230829T183159Z
LAST-MODIFIED:20240209T165855Z
UID:10005783-1705255200-1705260600@lhcc.info
SUMMARY:Youth Group
DESCRIPTION:Our Youth Group is for kids in 6th through 12th grade and meets on most Sunday evenings from 6-7:30pm \nThis time includes food\, games\, discussion\, and friendship building with other other believers! \nWe hope you can join us and take a look at the challenges of this world from a Biblical perspective!
URL:https://lhcc.info/event/youth-group-2/2024-01-14/
LOCATION:RI
CATEGORIES:Teen Ministry
ATTACH;FMTTYPE=image/jpeg:https://lhcc.info/wp-content/uploads/2022/12/LHCC-Youth-Group.jpg
END:VEVENT
BEGIN:VEVENT
DTSTART;TZID=America/New_York:20240117T163000
DTEND;TZID=America/New_York:20240117T193000
DTSTAMP:20260425T223547
CREATED:20160830T195559Z
LAST-MODIFIED:20170218T124847Z
UID:10003863-1705509000-1705519800@lhcc.info
SUMMARY:Fountain of Youth Teens
DESCRIPTION:Living Hope’s teen ministry is open to all teens ages 13-18\, plus select 12-yr-olds\, and meets every Wednesday night at Living Hope Christian Church. For more information about our teen ministry\, see the FoY Teens web page at http://lhcc.info/ministries/teens/. Questions? Contact Michelle Quillin! \nKeep up with FoY Teens on Facebook: Fountain of Youth – AKA FoY Teens\nFollow FoY Teens on Instagram: @FoYTeens
URL:https://lhcc.info/event/fountain-youth-teens/2024-01-17/
LOCATION:Living Hope Christian Church\, 730 South County Trail\, North Kingstown\, RI\, 02852\, United States
CATEGORIES:Teen Ministry
ATTACH;FMTTYPE=image/jpeg:https://lhcc.info/wp-content/uploads/2016/09/living-hope-teen-ministry-rhode-island.jpg
GEO:41.5556183;-71.5189401
X-APPLE-STRUCTURED-LOCATION;VALUE=URI;X-ADDRESS=Living Hope Christian Church 730 South County Trail North Kingstown RI 02852 United States;X-APPLE-RADIUS=500;X-TITLE=730 South County Trail:geo:-71.5189401,41.5556183
END:VEVENT
BEGIN:VEVENT
DTSTART;TZID=America/New_York:20240117T180000
DTEND;TZID=America/New_York:20240117T203000
DTSTAMP:20260425T223547
CREATED:20170905T210214Z
LAST-MODIFIED:20180801T224906Z
UID:10003295-1705514400-1705523400@lhcc.info
SUMMARY:FoY Teens
DESCRIPTION:Living Hope’s teen ministry is open to all teens ages 13-18\, plus select 12-yr-olds\, and meets every Wednesday night at Living Hope Christian Church. For more information about our teen ministry\, see the FoY Teens web page at http://lhcc.info/ministries/teens/. Questions? Contact Steve Brock\, Amy Brock\, or Melanie Barlow! \nKeep up with FoY Teens on Facebook: Fountain of Youth – AKA FoY Teens\nFollow FoY Teens on Instagram: @FoYTeens
URL:https://lhcc.info/event/foy-teens-2-2017-10-18/2024-01-17/
LOCATION:Living Hope Christian Church\, 730 South County Trail\, North Kingstown\, RI\, 02852\, United States
CATEGORIES:Teen Ministry
GEO:41.5556183;-71.5189401
X-APPLE-STRUCTURED-LOCATION;VALUE=URI;X-ADDRESS=Living Hope Christian Church 730 South County Trail North Kingstown RI 02852 United States;X-APPLE-RADIUS=500;X-TITLE=730 South County Trail:geo:-71.5189401,41.5556183
END:VEVENT
BEGIN:VEVENT
DTSTART;TZID=America/New_York:20240119T180000
DTEND;TZID=America/New_York:20240119T203000
DTSTAMP:20260425T223547
CREATED:20170905T210214Z
LAST-MODIFIED:20190329T133312Z
UID:10005244-1705687200-1705696200@lhcc.info
SUMMARY:FoY Teens
DESCRIPTION:Living Hope’s teen ministry is open to all teens ages 13-18\, plus select 12-yr-olds\, and meets every Friday night at the North Kingstown home of Steve and Amy Brock. Questions? Contact Steve Brock\, Amy Brock\, or Melanie Barlow!
URL:https://lhcc.info/event/foy-teens-2-2017-10-18-2019-01-02-2019-01-09-2019-01-16/2024-01-19/
LOCATION:Living Hope Christian Church\, 730 South County Trail\, North Kingstown\, RI\, 02852\, United States
CATEGORIES:Teen Ministry
GEO:41.5556183;-71.5189401
X-APPLE-STRUCTURED-LOCATION;VALUE=URI;X-ADDRESS=Living Hope Christian Church 730 South County Trail North Kingstown RI 02852 United States;X-APPLE-RADIUS=500;X-TITLE=730 South County Trail:geo:-71.5189401,41.5556183
END:VEVENT
BEGIN:VEVENT
DTSTART;TZID=America/New_York:20240121T180000
DTEND;TZID=America/New_York:20240121T193000
DTSTAMP:20260425T223547
CREATED:20230829T183159Z
LAST-MODIFIED:20240209T165855Z
UID:10005784-1705860000-1705865400@lhcc.info
SUMMARY:Youth Group
DESCRIPTION:Our Youth Group is for kids in 6th through 12th grade and meets on most Sunday evenings from 6-7:30pm \nThis time includes food\, games\, discussion\, and friendship building with other other believers! \nWe hope you can join us and take a look at the challenges of this world from a Biblical perspective!
URL:https://lhcc.info/event/youth-group-2/2024-01-21/
LOCATION:RI
CATEGORIES:Teen Ministry
ATTACH;FMTTYPE=image/jpeg:https://lhcc.info/wp-content/uploads/2022/12/LHCC-Youth-Group.jpg
END:VEVENT
BEGIN:VEVENT
DTSTART;TZID=America/New_York:20240124T163000
DTEND;TZID=America/New_York:20240124T193000
DTSTAMP:20260425T223547
CREATED:20160830T195559Z
LAST-MODIFIED:20170218T124847Z
UID:10003864-1706113800-1706124600@lhcc.info
SUMMARY:Fountain of Youth Teens
DESCRIPTION:Living Hope’s teen ministry is open to all teens ages 13-18\, plus select 12-yr-olds\, and meets every Wednesday night at Living Hope Christian Church. For more information about our teen ministry\, see the FoY Teens web page at http://lhcc.info/ministries/teens/. Questions? Contact Michelle Quillin! \nKeep up with FoY Teens on Facebook: Fountain of Youth – AKA FoY Teens\nFollow FoY Teens on Instagram: @FoYTeens
URL:https://lhcc.info/event/fountain-youth-teens/2024-01-24/
LOCATION:Living Hope Christian Church\, 730 South County Trail\, North Kingstown\, RI\, 02852\, United States
CATEGORIES:Teen Ministry
ATTACH;FMTTYPE=image/jpeg:https://lhcc.info/wp-content/uploads/2016/09/living-hope-teen-ministry-rhode-island.jpg
GEO:41.5556183;-71.5189401
X-APPLE-STRUCTURED-LOCATION;VALUE=URI;X-ADDRESS=Living Hope Christian Church 730 South County Trail North Kingstown RI 02852 United States;X-APPLE-RADIUS=500;X-TITLE=730 South County Trail:geo:-71.5189401,41.5556183
END:VEVENT
BEGIN:VEVENT
DTSTART;TZID=America/New_York:20240124T180000
DTEND;TZID=America/New_York:20240124T203000
DTSTAMP:20260425T223547
CREATED:20170905T210214Z
LAST-MODIFIED:20180801T224906Z
UID:10003296-1706119200-1706128200@lhcc.info
SUMMARY:FoY Teens
DESCRIPTION:Living Hope’s teen ministry is open to all teens ages 13-18\, plus select 12-yr-olds\, and meets every Wednesday night at Living Hope Christian Church. For more information about our teen ministry\, see the FoY Teens web page at http://lhcc.info/ministries/teens/. Questions? Contact Steve Brock\, Amy Brock\, or Melanie Barlow! \nKeep up with FoY Teens on Facebook: Fountain of Youth – AKA FoY Teens\nFollow FoY Teens on Instagram: @FoYTeens
URL:https://lhcc.info/event/foy-teens-2-2017-10-18/2024-01-24/
LOCATION:Living Hope Christian Church\, 730 South County Trail\, North Kingstown\, RI\, 02852\, United States
CATEGORIES:Teen Ministry
GEO:41.5556183;-71.5189401
X-APPLE-STRUCTURED-LOCATION;VALUE=URI;X-ADDRESS=Living Hope Christian Church 730 South County Trail North Kingstown RI 02852 United States;X-APPLE-RADIUS=500;X-TITLE=730 South County Trail:geo:-71.5189401,41.5556183
END:VEVENT
BEGIN:VEVENT
DTSTART;TZID=America/New_York:20240126T180000
DTEND;TZID=America/New_York:20240126T203000
DTSTAMP:20260425T223547
CREATED:20170905T210214Z
LAST-MODIFIED:20190329T133312Z
UID:10005245-1706292000-1706301000@lhcc.info
SUMMARY:FoY Teens
DESCRIPTION:Living Hope’s teen ministry is open to all teens ages 13-18\, plus select 12-yr-olds\, and meets every Friday night at the North Kingstown home of Steve and Amy Brock. Questions? Contact Steve Brock\, Amy Brock\, or Melanie Barlow!
URL:https://lhcc.info/event/foy-teens-2-2017-10-18-2019-01-02-2019-01-09-2019-01-16/2024-01-26/
LOCATION:Living Hope Christian Church\, 730 South County Trail\, North Kingstown\, RI\, 02852\, United States
CATEGORIES:Teen Ministry
GEO:41.5556183;-71.5189401
X-APPLE-STRUCTURED-LOCATION;VALUE=URI;X-ADDRESS=Living Hope Christian Church 730 South County Trail North Kingstown RI 02852 United States;X-APPLE-RADIUS=500;X-TITLE=730 South County Trail:geo:-71.5189401,41.5556183
END:VEVENT
BEGIN:VEVENT
DTSTART;TZID=America/New_York:20240128T180000
DTEND;TZID=America/New_York:20240128T193000
DTSTAMP:20260425T223547
CREATED:20230829T183159Z
LAST-MODIFIED:20240209T165855Z
UID:10005785-1706464800-1706470200@lhcc.info
SUMMARY:Youth Group
DESCRIPTION:Our Youth Group is for kids in 6th through 12th grade and meets on most Sunday evenings from 6-7:30pm \nThis time includes food\, games\, discussion\, and friendship building with other other believers! \nWe hope you can join us and take a look at the challenges of this world from a Biblical perspective!
URL:https://lhcc.info/event/youth-group-2/2024-01-28/
LOCATION:RI
CATEGORIES:Teen Ministry
ATTACH;FMTTYPE=image/jpeg:https://lhcc.info/wp-content/uploads/2022/12/LHCC-Youth-Group.jpg
END:VEVENT
BEGIN:VEVENT
DTSTART;TZID=America/New_York:20240131T163000
DTEND;TZID=America/New_York:20240131T193000
DTSTAMP:20260425T223547
CREATED:20160830T195559Z
LAST-MODIFIED:20170218T124847Z
UID:10003865-1706718600-1706729400@lhcc.info
SUMMARY:Fountain of Youth Teens
DESCRIPTION:Living Hope’s teen ministry is open to all teens ages 13-18\, plus select 12-yr-olds\, and meets every Wednesday night at Living Hope Christian Church. For more information about our teen ministry\, see the FoY Teens web page at http://lhcc.info/ministries/teens/. Questions? Contact Michelle Quillin! \nKeep up with FoY Teens on Facebook: Fountain of Youth – AKA FoY Teens\nFollow FoY Teens on Instagram: @FoYTeens
URL:https://lhcc.info/event/fountain-youth-teens/2024-01-31/
LOCATION:Living Hope Christian Church\, 730 South County Trail\, North Kingstown\, RI\, 02852\, United States
CATEGORIES:Teen Ministry
ATTACH;FMTTYPE=image/jpeg:https://lhcc.info/wp-content/uploads/2016/09/living-hope-teen-ministry-rhode-island.jpg
GEO:41.5556183;-71.5189401
X-APPLE-STRUCTURED-LOCATION;VALUE=URI;X-ADDRESS=Living Hope Christian Church 730 South County Trail North Kingstown RI 02852 United States;X-APPLE-RADIUS=500;X-TITLE=730 South County Trail:geo:-71.5189401,41.5556183
END:VEVENT
BEGIN:VEVENT
DTSTART;TZID=America/New_York:20240131T180000
DTEND;TZID=America/New_York:20240131T203000
DTSTAMP:20260425T223547
CREATED:20170905T210214Z
LAST-MODIFIED:20180801T224906Z
UID:10003297-1706724000-1706733000@lhcc.info
SUMMARY:FoY Teens
DESCRIPTION:Living Hope’s teen ministry is open to all teens ages 13-18\, plus select 12-yr-olds\, and meets every Wednesday night at Living Hope Christian Church. For more information about our teen ministry\, see the FoY Teens web page at http://lhcc.info/ministries/teens/. Questions? Contact Steve Brock\, Amy Brock\, or Melanie Barlow! \nKeep up with FoY Teens on Facebook: Fountain of Youth – AKA FoY Teens\nFollow FoY Teens on Instagram: @FoYTeens
URL:https://lhcc.info/event/foy-teens-2-2017-10-18/2024-01-31/
LOCATION:Living Hope Christian Church\, 730 South County Trail\, North Kingstown\, RI\, 02852\, United States
CATEGORIES:Teen Ministry
GEO:41.5556183;-71.5189401
X-APPLE-STRUCTURED-LOCATION;VALUE=URI;X-ADDRESS=Living Hope Christian Church 730 South County Trail North Kingstown RI 02852 United States;X-APPLE-RADIUS=500;X-TITLE=730 South County Trail:geo:-71.5189401,41.5556183
END:VEVENT
END:VCALENDAR