BEGIN:VCALENDAR
VERSION:2.0
PRODID:-//Living Hope Christian Church - ECPv6.15.17.1//NONSGML v1.0//EN
CALSCALE:GREGORIAN
METHOD:PUBLISH
X-WR-CALNAME:Living Hope Christian Church
X-ORIGINAL-URL:https://lhcc.info
X-WR-CALDESC:Events for Living Hope Christian Church
REFRESH-INTERVAL;VALUE=DURATION:PT1H
X-Robots-Tag:noindex
X-PUBLISHED-TTL:PT1H
BEGIN:VTIMEZONE
TZID:America/New_York
BEGIN:DAYLIGHT
TZOFFSETFROM:-0500
TZOFFSETTO:-0400
TZNAME:EDT
DTSTART:20220313T070000
END:DAYLIGHT
BEGIN:STANDARD
TZOFFSETFROM:-0400
TZOFFSETTO:-0500
TZNAME:EST
DTSTART:20221106T060000
END:STANDARD
BEGIN:DAYLIGHT
TZOFFSETFROM:-0500
TZOFFSETTO:-0400
TZNAME:EDT
DTSTART:20230312T070000
END:DAYLIGHT
BEGIN:STANDARD
TZOFFSETFROM:-0400
TZOFFSETTO:-0500
TZNAME:EST
DTSTART:20231105T060000
END:STANDARD
BEGIN:DAYLIGHT
TZOFFSETFROM:-0500
TZOFFSETTO:-0400
TZNAME:EDT
DTSTART:20240310T070000
END:DAYLIGHT
BEGIN:STANDARD
TZOFFSETFROM:-0400
TZOFFSETTO:-0500
TZNAME:EST
DTSTART:20241103T060000
END:STANDARD
END:VTIMEZONE
BEGIN:VEVENT
DTSTART;TZID=America/New_York:20231201T180000
DTEND;TZID=America/New_York:20231201T203000
DTSTAMP:20260426T000638
CREATED:20170905T210214Z
LAST-MODIFIED:20190329T133312Z
UID:10005237-1701453600-1701462600@lhcc.info
SUMMARY:FoY Teens
DESCRIPTION:Living Hope’s teen ministry is open to all teens ages 13-18\, plus select 12-yr-olds\, and meets every Friday night at the North Kingstown home of Steve and Amy Brock. Questions? Contact Steve Brock\, Amy Brock\, or Melanie Barlow!
URL:https://lhcc.info/event/foy-teens-2-2017-10-18-2019-01-02-2019-01-09-2019-01-16/2023-12-01/
LOCATION:Living Hope Christian Church\, 730 South County Trail\, North Kingstown\, RI\, 02852\, United States
CATEGORIES:Teen Ministry
GEO:41.5556183;-71.5189401
X-APPLE-STRUCTURED-LOCATION;VALUE=URI;X-ADDRESS=Living Hope Christian Church 730 South County Trail North Kingstown RI 02852 United States;X-APPLE-RADIUS=500;X-TITLE=730 South County Trail:geo:-71.5189401,41.5556183
END:VEVENT
BEGIN:VEVENT
DTSTART;TZID=America/New_York:20231203T180000
DTEND;TZID=America/New_York:20231203T193000
DTSTAMP:20260426T000638
CREATED:20230829T183159Z
LAST-MODIFIED:20240209T165855Z
UID:10005779-1701626400-1701631800@lhcc.info
SUMMARY:Youth Group
DESCRIPTION:Our Youth Group is for kids in 6th through 12th grade and meets on most Sunday evenings from 6-7:30pm \nThis time includes food\, games\, discussion\, and friendship building with other other believers! \nWe hope you can join us and take a look at the challenges of this world from a Biblical perspective!
URL:https://lhcc.info/event/youth-group-2/2023-12-03/
LOCATION:RI
CATEGORIES:Teen Ministry
ATTACH;FMTTYPE=image/jpeg:https://lhcc.info/wp-content/uploads/2022/12/LHCC-Youth-Group.jpg
END:VEVENT
BEGIN:VEVENT
DTSTART;TZID=America/New_York:20231206T163000
DTEND;TZID=America/New_York:20231206T193000
DTSTAMP:20260426T000638
CREATED:20160830T195559Z
LAST-MODIFIED:20170218T124847Z
UID:10003857-1701880200-1701891000@lhcc.info
SUMMARY:Fountain of Youth Teens
DESCRIPTION:Living Hope’s teen ministry is open to all teens ages 13-18\, plus select 12-yr-olds\, and meets every Wednesday night at Living Hope Christian Church. For more information about our teen ministry\, see the FoY Teens web page at http://lhcc.info/ministries/teens/. Questions? Contact Michelle Quillin! \nKeep up with FoY Teens on Facebook: Fountain of Youth – AKA FoY Teens\nFollow FoY Teens on Instagram: @FoYTeens
URL:https://lhcc.info/event/fountain-youth-teens/2023-12-06/
LOCATION:Living Hope Christian Church\, 730 South County Trail\, North Kingstown\, RI\, 02852\, United States
CATEGORIES:Teen Ministry
ATTACH;FMTTYPE=image/jpeg:https://lhcc.info/wp-content/uploads/2016/09/living-hope-teen-ministry-rhode-island.jpg
GEO:41.5556183;-71.5189401
X-APPLE-STRUCTURED-LOCATION;VALUE=URI;X-ADDRESS=Living Hope Christian Church 730 South County Trail North Kingstown RI 02852 United States;X-APPLE-RADIUS=500;X-TITLE=730 South County Trail:geo:-71.5189401,41.5556183
END:VEVENT
BEGIN:VEVENT
DTSTART;TZID=America/New_York:20231206T180000
DTEND;TZID=America/New_York:20231206T203000
DTSTAMP:20260426T000638
CREATED:20170905T210214Z
LAST-MODIFIED:20180801T224906Z
UID:10003289-1701885600-1701894600@lhcc.info
SUMMARY:FoY Teens
DESCRIPTION:Living Hope’s teen ministry is open to all teens ages 13-18\, plus select 12-yr-olds\, and meets every Wednesday night at Living Hope Christian Church. For more information about our teen ministry\, see the FoY Teens web page at http://lhcc.info/ministries/teens/. Questions? Contact Steve Brock\, Amy Brock\, or Melanie Barlow! \nKeep up with FoY Teens on Facebook: Fountain of Youth – AKA FoY Teens\nFollow FoY Teens on Instagram: @FoYTeens
URL:https://lhcc.info/event/foy-teens-2-2017-10-18/2023-12-06/
LOCATION:Living Hope Christian Church\, 730 South County Trail\, North Kingstown\, RI\, 02852\, United States
CATEGORIES:Teen Ministry
GEO:41.5556183;-71.5189401
X-APPLE-STRUCTURED-LOCATION;VALUE=URI;X-ADDRESS=Living Hope Christian Church 730 South County Trail North Kingstown RI 02852 United States;X-APPLE-RADIUS=500;X-TITLE=730 South County Trail:geo:-71.5189401,41.5556183
END:VEVENT
BEGIN:VEVENT
DTSTART;TZID=America/New_York:20231208T180000
DTEND;TZID=America/New_York:20231208T203000
DTSTAMP:20260426T000638
CREATED:20170905T210214Z
LAST-MODIFIED:20190329T133312Z
UID:10005238-1702058400-1702067400@lhcc.info
SUMMARY:FoY Teens
DESCRIPTION:Living Hope’s teen ministry is open to all teens ages 13-18\, plus select 12-yr-olds\, and meets every Friday night at the North Kingstown home of Steve and Amy Brock. Questions? Contact Steve Brock\, Amy Brock\, or Melanie Barlow!
URL:https://lhcc.info/event/foy-teens-2-2017-10-18-2019-01-02-2019-01-09-2019-01-16/2023-12-08/
LOCATION:Living Hope Christian Church\, 730 South County Trail\, North Kingstown\, RI\, 02852\, United States
CATEGORIES:Teen Ministry
GEO:41.5556183;-71.5189401
X-APPLE-STRUCTURED-LOCATION;VALUE=URI;X-ADDRESS=Living Hope Christian Church 730 South County Trail North Kingstown RI 02852 United States;X-APPLE-RADIUS=500;X-TITLE=730 South County Trail:geo:-71.5189401,41.5556183
END:VEVENT
BEGIN:VEVENT
DTSTART;TZID=America/New_York:20231210T180000
DTEND;TZID=America/New_York:20231210T193000
DTSTAMP:20260426T000638
CREATED:20230829T183159Z
LAST-MODIFIED:20240209T165855Z
UID:10005780-1702231200-1702236600@lhcc.info
SUMMARY:Youth Group
DESCRIPTION:Our Youth Group is for kids in 6th through 12th grade and meets on most Sunday evenings from 6-7:30pm \nThis time includes food\, games\, discussion\, and friendship building with other other believers! \nWe hope you can join us and take a look at the challenges of this world from a Biblical perspective!
URL:https://lhcc.info/event/youth-group-2/2023-12-10/
LOCATION:RI
CATEGORIES:Teen Ministry
ATTACH;FMTTYPE=image/jpeg:https://lhcc.info/wp-content/uploads/2022/12/LHCC-Youth-Group.jpg
END:VEVENT
BEGIN:VEVENT
DTSTART;TZID=America/New_York:20231213T163000
DTEND;TZID=America/New_York:20231213T193000
DTSTAMP:20260426T000638
CREATED:20160830T195559Z
LAST-MODIFIED:20170218T124847Z
UID:10003858-1702485000-1702495800@lhcc.info
SUMMARY:Fountain of Youth Teens
DESCRIPTION:Living Hope’s teen ministry is open to all teens ages 13-18\, plus select 12-yr-olds\, and meets every Wednesday night at Living Hope Christian Church. For more information about our teen ministry\, see the FoY Teens web page at http://lhcc.info/ministries/teens/. Questions? Contact Michelle Quillin! \nKeep up with FoY Teens on Facebook: Fountain of Youth – AKA FoY Teens\nFollow FoY Teens on Instagram: @FoYTeens
URL:https://lhcc.info/event/fountain-youth-teens/2023-12-13/
LOCATION:Living Hope Christian Church\, 730 South County Trail\, North Kingstown\, RI\, 02852\, United States
CATEGORIES:Teen Ministry
ATTACH;FMTTYPE=image/jpeg:https://lhcc.info/wp-content/uploads/2016/09/living-hope-teen-ministry-rhode-island.jpg
GEO:41.5556183;-71.5189401
X-APPLE-STRUCTURED-LOCATION;VALUE=URI;X-ADDRESS=Living Hope Christian Church 730 South County Trail North Kingstown RI 02852 United States;X-APPLE-RADIUS=500;X-TITLE=730 South County Trail:geo:-71.5189401,41.5556183
END:VEVENT
BEGIN:VEVENT
DTSTART;TZID=America/New_York:20231213T180000
DTEND;TZID=America/New_York:20231213T203000
DTSTAMP:20260426T000638
CREATED:20170905T210214Z
LAST-MODIFIED:20180801T224906Z
UID:10003290-1702490400-1702499400@lhcc.info
SUMMARY:FoY Teens
DESCRIPTION:Living Hope’s teen ministry is open to all teens ages 13-18\, plus select 12-yr-olds\, and meets every Wednesday night at Living Hope Christian Church. For more information about our teen ministry\, see the FoY Teens web page at http://lhcc.info/ministries/teens/. Questions? Contact Steve Brock\, Amy Brock\, or Melanie Barlow! \nKeep up with FoY Teens on Facebook: Fountain of Youth – AKA FoY Teens\nFollow FoY Teens on Instagram: @FoYTeens
URL:https://lhcc.info/event/foy-teens-2-2017-10-18/2023-12-13/
LOCATION:Living Hope Christian Church\, 730 South County Trail\, North Kingstown\, RI\, 02852\, United States
CATEGORIES:Teen Ministry
GEO:41.5556183;-71.5189401
X-APPLE-STRUCTURED-LOCATION;VALUE=URI;X-ADDRESS=Living Hope Christian Church 730 South County Trail North Kingstown RI 02852 United States;X-APPLE-RADIUS=500;X-TITLE=730 South County Trail:geo:-71.5189401,41.5556183
END:VEVENT
BEGIN:VEVENT
DTSTART;TZID=America/New_York:20231215T180000
DTEND;TZID=America/New_York:20231215T203000
DTSTAMP:20260426T000638
CREATED:20170905T210214Z
LAST-MODIFIED:20190329T133312Z
UID:10005239-1702663200-1702672200@lhcc.info
SUMMARY:FoY Teens
DESCRIPTION:Living Hope’s teen ministry is open to all teens ages 13-18\, plus select 12-yr-olds\, and meets every Friday night at the North Kingstown home of Steve and Amy Brock. Questions? Contact Steve Brock\, Amy Brock\, or Melanie Barlow!
URL:https://lhcc.info/event/foy-teens-2-2017-10-18-2019-01-02-2019-01-09-2019-01-16/2023-12-15/
LOCATION:Living Hope Christian Church\, 730 South County Trail\, North Kingstown\, RI\, 02852\, United States
CATEGORIES:Teen Ministry
GEO:41.5556183;-71.5189401
X-APPLE-STRUCTURED-LOCATION;VALUE=URI;X-ADDRESS=Living Hope Christian Church 730 South County Trail North Kingstown RI 02852 United States;X-APPLE-RADIUS=500;X-TITLE=730 South County Trail:geo:-71.5189401,41.5556183
END:VEVENT
BEGIN:VEVENT
DTSTART;TZID=America/New_York:20231217T180000
DTEND;TZID=America/New_York:20231217T193000
DTSTAMP:20260426T000638
CREATED:20230829T183159Z
LAST-MODIFIED:20240209T165855Z
UID:10005781-1702836000-1702841400@lhcc.info
SUMMARY:Youth Group
DESCRIPTION:Our Youth Group is for kids in 6th through 12th grade and meets on most Sunday evenings from 6-7:30pm \nThis time includes food\, games\, discussion\, and friendship building with other other believers! \nWe hope you can join us and take a look at the challenges of this world from a Biblical perspective!
URL:https://lhcc.info/event/youth-group-2/2023-12-17/
LOCATION:RI
CATEGORIES:Teen Ministry
ATTACH;FMTTYPE=image/jpeg:https://lhcc.info/wp-content/uploads/2022/12/LHCC-Youth-Group.jpg
END:VEVENT
BEGIN:VEVENT
DTSTART;TZID=America/New_York:20231220T163000
DTEND;TZID=America/New_York:20231220T193000
DTSTAMP:20260426T000638
CREATED:20160830T195559Z
LAST-MODIFIED:20170218T124847Z
UID:10003859-1703089800-1703100600@lhcc.info
SUMMARY:Fountain of Youth Teens
DESCRIPTION:Living Hope’s teen ministry is open to all teens ages 13-18\, plus select 12-yr-olds\, and meets every Wednesday night at Living Hope Christian Church. For more information about our teen ministry\, see the FoY Teens web page at http://lhcc.info/ministries/teens/. Questions? Contact Michelle Quillin! \nKeep up with FoY Teens on Facebook: Fountain of Youth – AKA FoY Teens\nFollow FoY Teens on Instagram: @FoYTeens
URL:https://lhcc.info/event/fountain-youth-teens/2023-12-20/
LOCATION:Living Hope Christian Church\, 730 South County Trail\, North Kingstown\, RI\, 02852\, United States
CATEGORIES:Teen Ministry
ATTACH;FMTTYPE=image/jpeg:https://lhcc.info/wp-content/uploads/2016/09/living-hope-teen-ministry-rhode-island.jpg
GEO:41.5556183;-71.5189401
X-APPLE-STRUCTURED-LOCATION;VALUE=URI;X-ADDRESS=Living Hope Christian Church 730 South County Trail North Kingstown RI 02852 United States;X-APPLE-RADIUS=500;X-TITLE=730 South County Trail:geo:-71.5189401,41.5556183
END:VEVENT
BEGIN:VEVENT
DTSTART;TZID=America/New_York:20231220T180000
DTEND;TZID=America/New_York:20231220T203000
DTSTAMP:20260426T000638
CREATED:20170905T210214Z
LAST-MODIFIED:20180801T224906Z
UID:10003291-1703095200-1703104200@lhcc.info
SUMMARY:FoY Teens
DESCRIPTION:Living Hope’s teen ministry is open to all teens ages 13-18\, plus select 12-yr-olds\, and meets every Wednesday night at Living Hope Christian Church. For more information about our teen ministry\, see the FoY Teens web page at http://lhcc.info/ministries/teens/. Questions? Contact Steve Brock\, Amy Brock\, or Melanie Barlow! \nKeep up with FoY Teens on Facebook: Fountain of Youth – AKA FoY Teens\nFollow FoY Teens on Instagram: @FoYTeens
URL:https://lhcc.info/event/foy-teens-2-2017-10-18/2023-12-20/
LOCATION:Living Hope Christian Church\, 730 South County Trail\, North Kingstown\, RI\, 02852\, United States
CATEGORIES:Teen Ministry
GEO:41.5556183;-71.5189401
X-APPLE-STRUCTURED-LOCATION;VALUE=URI;X-ADDRESS=Living Hope Christian Church 730 South County Trail North Kingstown RI 02852 United States;X-APPLE-RADIUS=500;X-TITLE=730 South County Trail:geo:-71.5189401,41.5556183
END:VEVENT
BEGIN:VEVENT
DTSTART;TZID=America/New_York:20231222T180000
DTEND;TZID=America/New_York:20231222T203000
DTSTAMP:20260426T000638
CREATED:20170905T210214Z
LAST-MODIFIED:20190329T133312Z
UID:10005240-1703268000-1703277000@lhcc.info
SUMMARY:FoY Teens
DESCRIPTION:Living Hope’s teen ministry is open to all teens ages 13-18\, plus select 12-yr-olds\, and meets every Friday night at the North Kingstown home of Steve and Amy Brock. Questions? Contact Steve Brock\, Amy Brock\, or Melanie Barlow!
URL:https://lhcc.info/event/foy-teens-2-2017-10-18-2019-01-02-2019-01-09-2019-01-16/2023-12-22/
LOCATION:Living Hope Christian Church\, 730 South County Trail\, North Kingstown\, RI\, 02852\, United States
CATEGORIES:Teen Ministry
GEO:41.5556183;-71.5189401
X-APPLE-STRUCTURED-LOCATION;VALUE=URI;X-ADDRESS=Living Hope Christian Church 730 South County Trail North Kingstown RI 02852 United States;X-APPLE-RADIUS=500;X-TITLE=730 South County Trail:geo:-71.5189401,41.5556183
END:VEVENT
BEGIN:VEVENT
DTSTART;TZID=America/New_York:20231227T163000
DTEND;TZID=America/New_York:20231227T193000
DTSTAMP:20260426T000638
CREATED:20160830T195559Z
LAST-MODIFIED:20170218T124847Z
UID:10003860-1703694600-1703705400@lhcc.info
SUMMARY:Fountain of Youth Teens
DESCRIPTION:Living Hope’s teen ministry is open to all teens ages 13-18\, plus select 12-yr-olds\, and meets every Wednesday night at Living Hope Christian Church. For more information about our teen ministry\, see the FoY Teens web page at http://lhcc.info/ministries/teens/. Questions? Contact Michelle Quillin! \nKeep up with FoY Teens on Facebook: Fountain of Youth – AKA FoY Teens\nFollow FoY Teens on Instagram: @FoYTeens
URL:https://lhcc.info/event/fountain-youth-teens/2023-12-27/
LOCATION:Living Hope Christian Church\, 730 South County Trail\, North Kingstown\, RI\, 02852\, United States
CATEGORIES:Teen Ministry
ATTACH;FMTTYPE=image/jpeg:https://lhcc.info/wp-content/uploads/2016/09/living-hope-teen-ministry-rhode-island.jpg
GEO:41.5556183;-71.5189401
X-APPLE-STRUCTURED-LOCATION;VALUE=URI;X-ADDRESS=Living Hope Christian Church 730 South County Trail North Kingstown RI 02852 United States;X-APPLE-RADIUS=500;X-TITLE=730 South County Trail:geo:-71.5189401,41.5556183
END:VEVENT
BEGIN:VEVENT
DTSTART;TZID=America/New_York:20231227T180000
DTEND;TZID=America/New_York:20231227T203000
DTSTAMP:20260426T000638
CREATED:20170905T210214Z
LAST-MODIFIED:20180801T224906Z
UID:10003292-1703700000-1703709000@lhcc.info
SUMMARY:FoY Teens
DESCRIPTION:Living Hope’s teen ministry is open to all teens ages 13-18\, plus select 12-yr-olds\, and meets every Wednesday night at Living Hope Christian Church. For more information about our teen ministry\, see the FoY Teens web page at http://lhcc.info/ministries/teens/. Questions? Contact Steve Brock\, Amy Brock\, or Melanie Barlow! \nKeep up with FoY Teens on Facebook: Fountain of Youth – AKA FoY Teens\nFollow FoY Teens on Instagram: @FoYTeens
URL:https://lhcc.info/event/foy-teens-2-2017-10-18/2023-12-27/
LOCATION:Living Hope Christian Church\, 730 South County Trail\, North Kingstown\, RI\, 02852\, United States
CATEGORIES:Teen Ministry
GEO:41.5556183;-71.5189401
X-APPLE-STRUCTURED-LOCATION;VALUE=URI;X-ADDRESS=Living Hope Christian Church 730 South County Trail North Kingstown RI 02852 United States;X-APPLE-RADIUS=500;X-TITLE=730 South County Trail:geo:-71.5189401,41.5556183
END:VEVENT
BEGIN:VEVENT
DTSTART;TZID=America/New_York:20231229T180000
DTEND;TZID=America/New_York:20231229T203000
DTSTAMP:20260426T000638
CREATED:20170905T210214Z
LAST-MODIFIED:20190329T133312Z
UID:10005241-1703872800-1703881800@lhcc.info
SUMMARY:FoY Teens
DESCRIPTION:Living Hope’s teen ministry is open to all teens ages 13-18\, plus select 12-yr-olds\, and meets every Friday night at the North Kingstown home of Steve and Amy Brock. Questions? Contact Steve Brock\, Amy Brock\, or Melanie Barlow!
URL:https://lhcc.info/event/foy-teens-2-2017-10-18-2019-01-02-2019-01-09-2019-01-16/2023-12-29/
LOCATION:Living Hope Christian Church\, 730 South County Trail\, North Kingstown\, RI\, 02852\, United States
CATEGORIES:Teen Ministry
GEO:41.5556183;-71.5189401
X-APPLE-STRUCTURED-LOCATION;VALUE=URI;X-ADDRESS=Living Hope Christian Church 730 South County Trail North Kingstown RI 02852 United States;X-APPLE-RADIUS=500;X-TITLE=730 South County Trail:geo:-71.5189401,41.5556183
END:VEVENT
END:VCALENDAR