BEGIN:VCALENDAR
VERSION:2.0
PRODID:-//Living Hope Christian Church - ECPv6.15.17.1//NONSGML v1.0//EN
CALSCALE:GREGORIAN
METHOD:PUBLISH
X-ORIGINAL-URL:https://lhcc.info
X-WR-CALDESC:Events for Living Hope Christian Church
REFRESH-INTERVAL;VALUE=DURATION:PT1H
X-Robots-Tag:noindex
X-PUBLISHED-TTL:PT1H
BEGIN:VTIMEZONE
TZID:America/New_York
BEGIN:DAYLIGHT
TZOFFSETFROM:-0500
TZOFFSETTO:-0400
TZNAME:EDT
DTSTART:20150308T070000
END:DAYLIGHT
BEGIN:STANDARD
TZOFFSETFROM:-0400
TZOFFSETTO:-0500
TZNAME:EST
DTSTART:20151101T060000
END:STANDARD
BEGIN:DAYLIGHT
TZOFFSETFROM:-0500
TZOFFSETTO:-0400
TZNAME:EDT
DTSTART:20160313T070000
END:DAYLIGHT
BEGIN:STANDARD
TZOFFSETFROM:-0400
TZOFFSETTO:-0500
TZNAME:EST
DTSTART:20161106T060000
END:STANDARD
BEGIN:DAYLIGHT
TZOFFSETFROM:-0500
TZOFFSETTO:-0400
TZNAME:EDT
DTSTART:20170312T070000
END:DAYLIGHT
BEGIN:STANDARD
TZOFFSETFROM:-0400
TZOFFSETTO:-0500
TZNAME:EST
DTSTART:20171105T060000
END:STANDARD
BEGIN:DAYLIGHT
TZOFFSETFROM:-0500
TZOFFSETTO:-0400
TZNAME:EDT
DTSTART:20180311T070000
END:DAYLIGHT
BEGIN:STANDARD
TZOFFSETFROM:-0400
TZOFFSETTO:-0500
TZNAME:EST
DTSTART:20181104T060000
END:STANDARD
BEGIN:DAYLIGHT
TZOFFSETFROM:-0500
TZOFFSETTO:-0400
TZNAME:EDT
DTSTART:20190310T070000
END:DAYLIGHT
BEGIN:STANDARD
TZOFFSETFROM:-0400
TZOFFSETTO:-0500
TZNAME:EST
DTSTART:20191103T060000
END:STANDARD
BEGIN:DAYLIGHT
TZOFFSETFROM:-0500
TZOFFSETTO:-0400
TZNAME:EDT
DTSTART:20200308T070000
END:DAYLIGHT
BEGIN:STANDARD
TZOFFSETFROM:-0400
TZOFFSETTO:-0500
TZNAME:EST
DTSTART:20201101T060000
END:STANDARD
BEGIN:DAYLIGHT
TZOFFSETFROM:-0500
TZOFFSETTO:-0400
TZNAME:EDT
DTSTART:20210314T070000
END:DAYLIGHT
BEGIN:STANDARD
TZOFFSETFROM:-0400
TZOFFSETTO:-0500
TZNAME:EST
DTSTART:20211107T060000
END:STANDARD
BEGIN:DAYLIGHT
TZOFFSETFROM:-0500
TZOFFSETTO:-0400
TZNAME:EDT
DTSTART:20220313T070000
END:DAYLIGHT
BEGIN:STANDARD
TZOFFSETFROM:-0400
TZOFFSETTO:-0500
TZNAME:EST
DTSTART:20221106T060000
END:STANDARD
BEGIN:DAYLIGHT
TZOFFSETFROM:-0500
TZOFFSETTO:-0400
TZNAME:EDT
DTSTART:20230312T070000
END:DAYLIGHT
BEGIN:STANDARD
TZOFFSETFROM:-0400
TZOFFSETTO:-0500
TZNAME:EST
DTSTART:20231105T060000
END:STANDARD
BEGIN:DAYLIGHT
TZOFFSETFROM:-0500
TZOFFSETTO:-0400
TZNAME:EDT
DTSTART:20240310T070000
END:DAYLIGHT
BEGIN:STANDARD
TZOFFSETFROM:-0400
TZOFFSETTO:-0500
TZNAME:EST
DTSTART:20241103T060000
END:STANDARD
BEGIN:DAYLIGHT
TZOFFSETFROM:-0500
TZOFFSETTO:-0400
TZNAME:EDT
DTSTART:20250309T070000
END:DAYLIGHT
BEGIN:STANDARD
TZOFFSETFROM:-0400
TZOFFSETTO:-0500
TZNAME:EST
DTSTART:20251102T060000
END:STANDARD
END:VTIMEZONE
BEGIN:VEVENT
DTSTART;TZID=America/New_York:20240113T080000
DTEND;TZID=America/New_York:20240113T090000
DTSTAMP:20260424T034436
CREATED:20240102T162448Z
LAST-MODIFIED:20240102T162549Z
UID:10006845-1705132800-1705136400@lhcc.info
SUMMARY:Usher Training Meeting
DESCRIPTION:Do you have a heart to serve by making people feel welcome\, safe\, and cared for? \nUsher play an important role in keeping things running smmoth at LHCC. If you are a man or woman that want’s to be a part of this important ministry please join us on Saturday\, January 13th at 8am. \nThis meeting will give you the direction and tools you need to be effective in this ministry! Sign Up Here and let us know you are coming! \nFor more information you can reach out to Gary Blanchette.
URL:https://lhcc.info/event/usher-training-meeting/
LOCATION:Living Hope Christian Church\, 730 South County Trail\, North Kingstown\, RI\, 02852\, United States
CATEGORIES:Serving
ATTACH;FMTTYPE=image/jpeg:https://lhcc.info/wp-content/uploads/2024/01/LHCC-Slideshow.jpg
GEO:41.5556183;-71.5189401
X-APPLE-STRUCTURED-LOCATION;VALUE=URI;X-ADDRESS=Living Hope Christian Church 730 South County Trail North Kingstown RI 02852 United States;X-APPLE-RADIUS=500;X-TITLE=730 South County Trail:geo:-71.5189401,41.5556183
END:VEVENT
BEGIN:VEVENT
DTSTART;TZID=America/New_York:20211031T120000
DTEND;TZID=America/New_York:20211031T143000
DTSTAMP:20260424T034436
CREATED:20211013T201650Z
LAST-MODIFIED:20211013T201650Z
UID:10006408-1635681600-1635690600@lhcc.info
SUMMARY:Fellowship Lunch & Trunk or Treat
DESCRIPTION:Join us from 1-2:30pm to decorate your car in a “family friendly” way and hand out candy to the kids. What a great opportunity to share the Gospel on Halloween!
URL:https://lhcc.info/event/fellowship-lunch-trunk-or-treat/
LOCATION:Living Hope Christian Church\, 730 South County Trail\, North Kingstown\, RI\, 02852\, United States
CATEGORIES:Children's Ministry,Serving
ATTACH;FMTTYPE=image/jpeg:https://lhcc.info/wp-content/uploads/2021/10/Trunk-or-Treat.jpg
GEO:41.5556183;-71.5189401
X-APPLE-STRUCTURED-LOCATION;VALUE=URI;X-ADDRESS=Living Hope Christian Church 730 South County Trail North Kingstown RI 02852 United States;X-APPLE-RADIUS=500;X-TITLE=730 South County Trail:geo:-71.5189401,41.5556183
END:VEVENT
BEGIN:VEVENT
DTSTART;TZID=America/New_York:20170527T090000
DTEND;TZID=America/New_York:20170527T170000
DTSTAMP:20260424T034436
CREATED:20170421T135156Z
LAST-MODIFIED:20170421T135707Z
UID:10001253-1495875600-1495904400@lhcc.info
SUMMARY:May Season of Service
DESCRIPTION:We’ve set aside two Saturdays and two Sundays in the month of May to intentionally reach out to our community\, expressing our love for our neighbors by serving them. We have multiple projects lined up! If you’re able to serve\, use our form below or sign up at the church.  \n\n\n\n\nMay Season\n\n\n\n\n\n\n\n\n    Full Name\n        \n    \n    \n    \n    \n\n\n    Email Address\n        \n    \n    \n    \n    \n\n\n    How Would You Like To Serve?\n        \n    \n    					\n			 Visiting Those In Need\n					\n			 Physical Laborer\n					\n			 Skilled Laborer\n					\n			 Food Prep For Volunteers\n					\n			 Food Prep For Those In Need\n\n    \n    \n\n\n    Dates Available/Prefer\n        \n    \n    					\n			 May 7 (Sunday)\n					\n			 May 13 (Saturday)\n					\n			 May 21 (Sunday)\n					\n			 May 27 (Saturday)\n\n    \n    \n\n\n    Comments\n        \n    \n    \n    \n    \n\n	\n			\n			\n				If you are human\, leave this field blank.			\n			\n		\n		\n\nSend\n\n\n\n\n\nΔ
URL:https://lhcc.info/event/may-season-service/2017-05-27/
LOCATION:RI
CATEGORIES:Serving
END:VEVENT
BEGIN:VEVENT
DTSTART;TZID=America/New_York:20170521T120000
DTEND;TZID=America/New_York:20170521T170000
DTSTAMP:20260424T034436
CREATED:20170421T135156Z
LAST-MODIFIED:20170421T135707Z
UID:10001252-1495368000-1495386000@lhcc.info
SUMMARY:May Season of Service
DESCRIPTION:We’ve set aside two Saturdays and two Sundays in the month of May to intentionally reach out to our community\, expressing our love for our neighbors by serving them. We have multiple projects lined up! If you’re able to serve\, use our form below or sign up at the church.  \n\n\n\n\nMay Season\n\n\n\n\n\n\n\n\n    Full Name\n        \n    \n    \n    \n    \n\n\n    Email Address\n        \n    \n    \n    \n    \n\n\n    How Would You Like To Serve?\n        \n    \n    					\n			 Visiting Those In Need\n					\n			 Physical Laborer\n					\n			 Skilled Laborer\n					\n			 Food Prep For Volunteers\n					\n			 Food Prep For Those In Need\n\n    \n    \n\n\n    Dates Available/Prefer\n        \n    \n    					\n			 May 7 (Sunday)\n					\n			 May 13 (Saturday)\n					\n			 May 21 (Sunday)\n					\n			 May 27 (Saturday)\n\n    \n    \n\n\n    Comments\n        \n    \n    \n    \n    \n\n	\n			\n			\n				If you are human\, leave this field blank.			\n			\n		\n		\n\nSend\n\n\n\n\n\nΔ
URL:https://lhcc.info/event/may-season-service/2017-05-21/
LOCATION:RI
CATEGORIES:Serving
END:VEVENT
BEGIN:VEVENT
DTSTART;TZID=America/New_York:20170513T090000
DTEND;TZID=America/New_York:20170513T170000
DTSTAMP:20260424T034436
CREATED:20170421T135156Z
LAST-MODIFIED:20170421T135707Z
UID:10001251-1494666000-1494694800@lhcc.info
SUMMARY:May Season of Service
DESCRIPTION:We’ve set aside two Saturdays and two Sundays in the month of May to intentionally reach out to our community\, expressing our love for our neighbors by serving them. We have multiple projects lined up! If you’re able to serve\, use our form below or sign up at the church.  \n\n\n\n\nMay Season\n\n\n\n\n\n\n\n\n    Full Name\n        \n    \n    \n    \n    \n\n\n    Email Address\n        \n    \n    \n    \n    \n\n\n    How Would You Like To Serve?\n        \n    \n    					\n			 Visiting Those In Need\n					\n			 Physical Laborer\n					\n			 Skilled Laborer\n					\n			 Food Prep For Volunteers\n					\n			 Food Prep For Those In Need\n\n    \n    \n\n\n    Dates Available/Prefer\n        \n    \n    					\n			 May 7 (Sunday)\n					\n			 May 13 (Saturday)\n					\n			 May 21 (Sunday)\n					\n			 May 27 (Saturday)\n\n    \n    \n\n\n    Comments\n        \n    \n    \n    \n    \n\n	\n			\n			\n				If you are human\, leave this field blank.			\n			\n		\n		\n\nSend\n\n\n\n\n\nΔ
URL:https://lhcc.info/event/may-season-service/2017-05-13/
LOCATION:RI
CATEGORIES:Serving
END:VEVENT
BEGIN:VEVENT
DTSTART;TZID=America/New_York:20170507T120000
DTEND;TZID=America/New_York:20170507T170000
DTSTAMP:20260424T034436
CREATED:20170421T135156Z
LAST-MODIFIED:20170421T135707Z
UID:10001250-1494158400-1494176400@lhcc.info
SUMMARY:May Season of Service
DESCRIPTION:We’ve set aside two Saturdays and two Sundays in the month of May to intentionally reach out to our community\, expressing our love for our neighbors by serving them. We have multiple projects lined up! If you’re able to serve\, use our form below or sign up at the church.  \n\n\n\n\nMay Season\n\n\n\n\n\n\n\n\n    Full Name\n        \n    \n    \n    \n    \n\n\n    Email Address\n        \n    \n    \n    \n    \n\n\n    How Would You Like To Serve?\n        \n    \n    					\n			 Visiting Those In Need\n					\n			 Physical Laborer\n					\n			 Skilled Laborer\n					\n			 Food Prep For Volunteers\n					\n			 Food Prep For Those In Need\n\n    \n    \n\n\n    Dates Available/Prefer\n        \n    \n    					\n			 May 7 (Sunday)\n					\n			 May 13 (Saturday)\n					\n			 May 21 (Sunday)\n					\n			 May 27 (Saturday)\n\n    \n    \n\n\n    Comments\n        \n    \n    \n    \n    \n\n	\n			\n			\n				If you are human\, leave this field blank.			\n			\n		\n		\n\nSend\n\n\n\n\n\nΔ
URL:https://lhcc.info/event/may-season-service/2017-05-07/
LOCATION:RI
CATEGORIES:Serving
END:VEVENT
BEGIN:VEVENT
DTSTART;TZID=America/New_York:20160910T050000
DTEND;TZID=America/New_York:20160910T070000
DTSTAMP:20260424T034437
CREATED:20160910T040222Z
LAST-MODIFIED:20160910T040330Z
UID:10000005-1473483600-1473490800@lhcc.info
SUMMARY:NK5K Road Race
DESCRIPTION:We’re volunteering at the NK5K Road Race again this year. Living Hope volunteers will meet up with Pastor Peter and other LHCC volunteers at the North Kingstown High School Stadium (behind the high school) at 9 am\, and he’ll direct you to your station from there. We’ll be serving in multiple ways\, including manning water stations\, cooking and serving hot dogs\, and serving chowder. \nNOTE: The Hussey Bridge (the little stone bridge leading in and out of Wickford) is closed\, so you’ll need to adjust your travel plans accordingly. You can use Annaquatuckett Road as an alternate route from either Tower Hill Road (Rt. 1) or Boston Neck Road (Rt. 1A).
URL:https://lhcc.info/event/nk5k-road-race/
LOCATION:North KIngstown\, RI\, United States
CATEGORIES:Serving
END:VEVENT
END:VCALENDAR