BEGIN:VCALENDAR
VERSION:2.0
PRODID:-//Living Hope Christian Church - ECPv6.15.17.1//NONSGML v1.0//EN
CALSCALE:GREGORIAN
METHOD:PUBLISH
X-ORIGINAL-URL:https://lhcc.info
X-WR-CALDESC:Events for Living Hope Christian Church
REFRESH-INTERVAL;VALUE=DURATION:PT1H
X-Robots-Tag:noindex
X-PUBLISHED-TTL:PT1H
BEGIN:VTIMEZONE
TZID:America/New_York
BEGIN:DAYLIGHT
TZOFFSETFROM:-0500
TZOFFSETTO:-0400
TZNAME:EDT
DTSTART:20250309T070000
END:DAYLIGHT
BEGIN:STANDARD
TZOFFSETFROM:-0400
TZOFFSETTO:-0500
TZNAME:EST
DTSTART:20251102T060000
END:STANDARD
BEGIN:DAYLIGHT
TZOFFSETFROM:-0500
TZOFFSETTO:-0400
TZNAME:EDT
DTSTART:20260308T070000
END:DAYLIGHT
BEGIN:STANDARD
TZOFFSETFROM:-0400
TZOFFSETTO:-0500
TZNAME:EST
DTSTART:20261101T060000
END:STANDARD
BEGIN:DAYLIGHT
TZOFFSETFROM:-0500
TZOFFSETTO:-0400
TZNAME:EDT
DTSTART:20270314T070000
END:DAYLIGHT
BEGIN:STANDARD
TZOFFSETFROM:-0400
TZOFFSETTO:-0500
TZNAME:EST
DTSTART:20271107T060000
END:STANDARD
BEGIN:DAYLIGHT
TZOFFSETFROM:-0500
TZOFFSETTO:-0400
TZNAME:EDT
DTSTART:20280312T070000
END:DAYLIGHT
BEGIN:STANDARD
TZOFFSETFROM:-0400
TZOFFSETTO:-0500
TZNAME:EST
DTSTART:20281105T060000
END:STANDARD
END:VTIMEZONE
BEGIN:VEVENT
DTSTART;TZID=America/New_York:20261219T090000
DTEND;TZID=America/New_York:20261219T100000
DTSTAMP:20260424T010020
CREATED:20260106T153618Z
LAST-MODIFIED:20260106T153618Z
UID:10011424-1797670800-1797674400@lhcc.info
SUMMARY:Monthly Prayer Breakfast
DESCRIPTION:Join us on the third Saturday of each month at 9am for a time of prayer with you church family. This is a great time to strengthen your prayer life while building relationships\, supporting and encouraging one another.  \nJoin us each month at church or from home using this ZOOM Link.
URL:https://lhcc.info/event/monthly-prayer-breakfast-3/2026-12-19/
LOCATION:Living Hope Christian Church\, 730 South County Trail\, North Kingstown\, RI\, 02852\, United States
CATEGORIES:Church Events,Prayer
ATTACH;FMTTYPE=image/png:https://lhcc.info/wp-content/uploads/2024/12/Monthly-Prayer-Bfast.png
GEO:41.5556183;-71.5189401
X-APPLE-STRUCTURED-LOCATION;VALUE=URI;X-ADDRESS=Living Hope Christian Church 730 South County Trail North Kingstown RI 02852 United States;X-APPLE-RADIUS=500;X-TITLE=730 South County Trail:geo:-71.5189401,41.5556183
END:VEVENT
BEGIN:VEVENT
DTSTART;VALUE=DATE:20261221
DTEND;VALUE=DATE:20261222
DTSTAMP:20260424T010020
CREATED:20200717T163202Z
LAST-MODIFIED:20230829T185556Z
UID:10004780-1797811200-1797897599@lhcc.info
SUMMARY:24/7 Day of Prayer
DESCRIPTION:The third Monday of each month we have committed to praying as a church for all 24 hours of that day! We come along side Together We Pray who’s mission is to have someone praying every minute\, of every hour\, of every day…what an powerful thing to be a part of! \nSo please remember to pray at your scheduled time or take an hour or any amount of time you can to join us in prayer today!
URL:https://lhcc.info/event/24-7-day-of-prayer/2026-12-21/
LOCATION:Living Hope Christian Church\, 730 South County Trail\, North Kingstown\, RI\, 02852\, United States
CATEGORIES:Prayer
ATTACH;FMTTYPE=image/jpeg:https://lhcc.info/wp-content/uploads/2020/07/24-7-Day-of-Prayer.jpg
GEO:41.5556183;-71.5189401
X-APPLE-STRUCTURED-LOCATION;VALUE=URI;X-ADDRESS=Living Hope Christian Church 730 South County Trail North Kingstown RI 02852 United States;X-APPLE-RADIUS=500;X-TITLE=730 South County Trail:geo:-71.5189401,41.5556183
END:VEVENT
BEGIN:VEVENT
DTSTART;TZID=America/New_York:20270116T090000
DTEND;TZID=America/New_York:20270116T100000
DTSTAMP:20260424T010020
CREATED:20260106T153618Z
LAST-MODIFIED:20260106T153618Z
UID:10011425-1800090000-1800093600@lhcc.info
SUMMARY:Monthly Prayer Breakfast
DESCRIPTION:Join us on the third Saturday of each month at 9am for a time of prayer with you church family. This is a great time to strengthen your prayer life while building relationships\, supporting and encouraging one another.  \nJoin us each month at church or from home using this ZOOM Link.
URL:https://lhcc.info/event/monthly-prayer-breakfast-3/2027-01-16/
LOCATION:Living Hope Christian Church\, 730 South County Trail\, North Kingstown\, RI\, 02852\, United States
CATEGORIES:Church Events,Prayer
ATTACH;FMTTYPE=image/png:https://lhcc.info/wp-content/uploads/2024/12/Monthly-Prayer-Bfast.png
GEO:41.5556183;-71.5189401
X-APPLE-STRUCTURED-LOCATION;VALUE=URI;X-ADDRESS=Living Hope Christian Church 730 South County Trail North Kingstown RI 02852 United States;X-APPLE-RADIUS=500;X-TITLE=730 South County Trail:geo:-71.5189401,41.5556183
END:VEVENT
BEGIN:VEVENT
DTSTART;VALUE=DATE:20270118
DTEND;VALUE=DATE:20270119
DTSTAMP:20260424T010020
CREATED:20200717T163202Z
LAST-MODIFIED:20230829T185556Z
UID:10004781-1800230400-1800316799@lhcc.info
SUMMARY:24/7 Day of Prayer
DESCRIPTION:The third Monday of each month we have committed to praying as a church for all 24 hours of that day! We come along side Together We Pray who’s mission is to have someone praying every minute\, of every hour\, of every day…what an powerful thing to be a part of! \nSo please remember to pray at your scheduled time or take an hour or any amount of time you can to join us in prayer today!
URL:https://lhcc.info/event/24-7-day-of-prayer/2027-01-18/
LOCATION:Living Hope Christian Church\, 730 South County Trail\, North Kingstown\, RI\, 02852\, United States
CATEGORIES:Prayer
ATTACH;FMTTYPE=image/jpeg:https://lhcc.info/wp-content/uploads/2020/07/24-7-Day-of-Prayer.jpg
GEO:41.5556183;-71.5189401
X-APPLE-STRUCTURED-LOCATION;VALUE=URI;X-ADDRESS=Living Hope Christian Church 730 South County Trail North Kingstown RI 02852 United States;X-APPLE-RADIUS=500;X-TITLE=730 South County Trail:geo:-71.5189401,41.5556183
END:VEVENT
BEGIN:VEVENT
DTSTART;VALUE=DATE:20270215
DTEND;VALUE=DATE:20270216
DTSTAMP:20260424T010020
CREATED:20200717T163202Z
LAST-MODIFIED:20230829T185556Z
UID:10004782-1802649600-1802735999@lhcc.info
SUMMARY:24/7 Day of Prayer
DESCRIPTION:The third Monday of each month we have committed to praying as a church for all 24 hours of that day! We come along side Together We Pray who’s mission is to have someone praying every minute\, of every hour\, of every day…what an powerful thing to be a part of! \nSo please remember to pray at your scheduled time or take an hour or any amount of time you can to join us in prayer today!
URL:https://lhcc.info/event/24-7-day-of-prayer/2027-02-15/
LOCATION:Living Hope Christian Church\, 730 South County Trail\, North Kingstown\, RI\, 02852\, United States
CATEGORIES:Prayer
ATTACH;FMTTYPE=image/jpeg:https://lhcc.info/wp-content/uploads/2020/07/24-7-Day-of-Prayer.jpg
GEO:41.5556183;-71.5189401
X-APPLE-STRUCTURED-LOCATION;VALUE=URI;X-ADDRESS=Living Hope Christian Church 730 South County Trail North Kingstown RI 02852 United States;X-APPLE-RADIUS=500;X-TITLE=730 South County Trail:geo:-71.5189401,41.5556183
END:VEVENT
BEGIN:VEVENT
DTSTART;TZID=America/New_York:20270220T090000
DTEND;TZID=America/New_York:20270220T100000
DTSTAMP:20260424T010020
CREATED:20260106T153618Z
LAST-MODIFIED:20260106T153618Z
UID:10011426-1803114000-1803117600@lhcc.info
SUMMARY:Monthly Prayer Breakfast
DESCRIPTION:Join us on the third Saturday of each month at 9am for a time of prayer with you church family. This is a great time to strengthen your prayer life while building relationships\, supporting and encouraging one another.  \nJoin us each month at church or from home using this ZOOM Link.
URL:https://lhcc.info/event/monthly-prayer-breakfast-3/2027-02-20/
LOCATION:Living Hope Christian Church\, 730 South County Trail\, North Kingstown\, RI\, 02852\, United States
CATEGORIES:Church Events,Prayer
ATTACH;FMTTYPE=image/png:https://lhcc.info/wp-content/uploads/2024/12/Monthly-Prayer-Bfast.png
GEO:41.5556183;-71.5189401
X-APPLE-STRUCTURED-LOCATION;VALUE=URI;X-ADDRESS=Living Hope Christian Church 730 South County Trail North Kingstown RI 02852 United States;X-APPLE-RADIUS=500;X-TITLE=730 South County Trail:geo:-71.5189401,41.5556183
END:VEVENT
BEGIN:VEVENT
DTSTART;VALUE=DATE:20270315
DTEND;VALUE=DATE:20270316
DTSTAMP:20260424T010020
CREATED:20200717T163202Z
LAST-MODIFIED:20230829T185556Z
UID:10004783-1805068800-1805155199@lhcc.info
SUMMARY:24/7 Day of Prayer
DESCRIPTION:The third Monday of each month we have committed to praying as a church for all 24 hours of that day! We come along side Together We Pray who’s mission is to have someone praying every minute\, of every hour\, of every day…what an powerful thing to be a part of! \nSo please remember to pray at your scheduled time or take an hour or any amount of time you can to join us in prayer today!
URL:https://lhcc.info/event/24-7-day-of-prayer/2027-03-15/
LOCATION:Living Hope Christian Church\, 730 South County Trail\, North Kingstown\, RI\, 02852\, United States
CATEGORIES:Prayer
ATTACH;FMTTYPE=image/jpeg:https://lhcc.info/wp-content/uploads/2020/07/24-7-Day-of-Prayer.jpg
GEO:41.5556183;-71.5189401
X-APPLE-STRUCTURED-LOCATION;VALUE=URI;X-ADDRESS=Living Hope Christian Church 730 South County Trail North Kingstown RI 02852 United States;X-APPLE-RADIUS=500;X-TITLE=730 South County Trail:geo:-71.5189401,41.5556183
END:VEVENT
BEGIN:VEVENT
DTSTART;TZID=America/New_York:20270320T090000
DTEND;TZID=America/New_York:20270320T100000
DTSTAMP:20260424T010020
CREATED:20260106T153618Z
LAST-MODIFIED:20260106T153618Z
UID:10011427-1805533200-1805536800@lhcc.info
SUMMARY:Monthly Prayer Breakfast
DESCRIPTION:Join us on the third Saturday of each month at 9am for a time of prayer with you church family. This is a great time to strengthen your prayer life while building relationships\, supporting and encouraging one another.  \nJoin us each month at church or from home using this ZOOM Link.
URL:https://lhcc.info/event/monthly-prayer-breakfast-3/2027-03-20/
LOCATION:Living Hope Christian Church\, 730 South County Trail\, North Kingstown\, RI\, 02852\, United States
CATEGORIES:Church Events,Prayer
ATTACH;FMTTYPE=image/png:https://lhcc.info/wp-content/uploads/2024/12/Monthly-Prayer-Bfast.png
GEO:41.5556183;-71.5189401
X-APPLE-STRUCTURED-LOCATION;VALUE=URI;X-ADDRESS=Living Hope Christian Church 730 South County Trail North Kingstown RI 02852 United States;X-APPLE-RADIUS=500;X-TITLE=730 South County Trail:geo:-71.5189401,41.5556183
END:VEVENT
BEGIN:VEVENT
DTSTART;TZID=America/New_York:20270417T090000
DTEND;TZID=America/New_York:20270417T100000
DTSTAMP:20260424T010020
CREATED:20260106T153618Z
LAST-MODIFIED:20260106T153618Z
UID:10011428-1807952400-1807956000@lhcc.info
SUMMARY:Monthly Prayer Breakfast
DESCRIPTION:Join us on the third Saturday of each month at 9am for a time of prayer with you church family. This is a great time to strengthen your prayer life while building relationships\, supporting and encouraging one another.  \nJoin us each month at church or from home using this ZOOM Link.
URL:https://lhcc.info/event/monthly-prayer-breakfast-3/2027-04-17/
LOCATION:Living Hope Christian Church\, 730 South County Trail\, North Kingstown\, RI\, 02852\, United States
CATEGORIES:Church Events,Prayer
ATTACH;FMTTYPE=image/png:https://lhcc.info/wp-content/uploads/2024/12/Monthly-Prayer-Bfast.png
GEO:41.5556183;-71.5189401
X-APPLE-STRUCTURED-LOCATION;VALUE=URI;X-ADDRESS=Living Hope Christian Church 730 South County Trail North Kingstown RI 02852 United States;X-APPLE-RADIUS=500;X-TITLE=730 South County Trail:geo:-71.5189401,41.5556183
END:VEVENT
BEGIN:VEVENT
DTSTART;VALUE=DATE:20270419
DTEND;VALUE=DATE:20270420
DTSTAMP:20260424T010020
CREATED:20200717T163202Z
LAST-MODIFIED:20230829T185556Z
UID:10004784-1808092800-1808179199@lhcc.info
SUMMARY:24/7 Day of Prayer
DESCRIPTION:The third Monday of each month we have committed to praying as a church for all 24 hours of that day! We come along side Together We Pray who’s mission is to have someone praying every minute\, of every hour\, of every day…what an powerful thing to be a part of! \nSo please remember to pray at your scheduled time or take an hour or any amount of time you can to join us in prayer today!
URL:https://lhcc.info/event/24-7-day-of-prayer/2027-04-19/
LOCATION:Living Hope Christian Church\, 730 South County Trail\, North Kingstown\, RI\, 02852\, United States
CATEGORIES:Prayer
ATTACH;FMTTYPE=image/jpeg:https://lhcc.info/wp-content/uploads/2020/07/24-7-Day-of-Prayer.jpg
GEO:41.5556183;-71.5189401
X-APPLE-STRUCTURED-LOCATION;VALUE=URI;X-ADDRESS=Living Hope Christian Church 730 South County Trail North Kingstown RI 02852 United States;X-APPLE-RADIUS=500;X-TITLE=730 South County Trail:geo:-71.5189401,41.5556183
END:VEVENT
BEGIN:VEVENT
DTSTART;TZID=America/New_York:20270515T090000
DTEND;TZID=America/New_York:20270515T100000
DTSTAMP:20260424T010020
CREATED:20260106T153618Z
LAST-MODIFIED:20260106T153618Z
UID:10011429-1810371600-1810375200@lhcc.info
SUMMARY:Monthly Prayer Breakfast
DESCRIPTION:Join us on the third Saturday of each month at 9am for a time of prayer with you church family. This is a great time to strengthen your prayer life while building relationships\, supporting and encouraging one another.  \nJoin us each month at church or from home using this ZOOM Link.
URL:https://lhcc.info/event/monthly-prayer-breakfast-3/2027-05-15/
LOCATION:Living Hope Christian Church\, 730 South County Trail\, North Kingstown\, RI\, 02852\, United States
CATEGORIES:Church Events,Prayer
ATTACH;FMTTYPE=image/png:https://lhcc.info/wp-content/uploads/2024/12/Monthly-Prayer-Bfast.png
GEO:41.5556183;-71.5189401
X-APPLE-STRUCTURED-LOCATION;VALUE=URI;X-ADDRESS=Living Hope Christian Church 730 South County Trail North Kingstown RI 02852 United States;X-APPLE-RADIUS=500;X-TITLE=730 South County Trail:geo:-71.5189401,41.5556183
END:VEVENT
BEGIN:VEVENT
DTSTART;VALUE=DATE:20270517
DTEND;VALUE=DATE:20270518
DTSTAMP:20260424T010020
CREATED:20200717T163202Z
LAST-MODIFIED:20230829T185556Z
UID:10004785-1810512000-1810598399@lhcc.info
SUMMARY:24/7 Day of Prayer
DESCRIPTION:The third Monday of each month we have committed to praying as a church for all 24 hours of that day! We come along side Together We Pray who’s mission is to have someone praying every minute\, of every hour\, of every day…what an powerful thing to be a part of! \nSo please remember to pray at your scheduled time or take an hour or any amount of time you can to join us in prayer today!
URL:https://lhcc.info/event/24-7-day-of-prayer/2027-05-17/
LOCATION:Living Hope Christian Church\, 730 South County Trail\, North Kingstown\, RI\, 02852\, United States
CATEGORIES:Prayer
ATTACH;FMTTYPE=image/jpeg:https://lhcc.info/wp-content/uploads/2020/07/24-7-Day-of-Prayer.jpg
GEO:41.5556183;-71.5189401
X-APPLE-STRUCTURED-LOCATION;VALUE=URI;X-ADDRESS=Living Hope Christian Church 730 South County Trail North Kingstown RI 02852 United States;X-APPLE-RADIUS=500;X-TITLE=730 South County Trail:geo:-71.5189401,41.5556183
END:VEVENT
BEGIN:VEVENT
DTSTART;TZID=America/New_York:20270619T090000
DTEND;TZID=America/New_York:20270619T100000
DTSTAMP:20260424T010020
CREATED:20260106T153618Z
LAST-MODIFIED:20260106T153618Z
UID:10011430-1813395600-1813399200@lhcc.info
SUMMARY:Monthly Prayer Breakfast
DESCRIPTION:Join us on the third Saturday of each month at 9am for a time of prayer with you church family. This is a great time to strengthen your prayer life while building relationships\, supporting and encouraging one another.  \nJoin us each month at church or from home using this ZOOM Link.
URL:https://lhcc.info/event/monthly-prayer-breakfast-3/2027-06-19/
LOCATION:Living Hope Christian Church\, 730 South County Trail\, North Kingstown\, RI\, 02852\, United States
CATEGORIES:Church Events,Prayer
ATTACH;FMTTYPE=image/png:https://lhcc.info/wp-content/uploads/2024/12/Monthly-Prayer-Bfast.png
GEO:41.5556183;-71.5189401
X-APPLE-STRUCTURED-LOCATION;VALUE=URI;X-ADDRESS=Living Hope Christian Church 730 South County Trail North Kingstown RI 02852 United States;X-APPLE-RADIUS=500;X-TITLE=730 South County Trail:geo:-71.5189401,41.5556183
END:VEVENT
BEGIN:VEVENT
DTSTART;TZID=America/New_York:20270717T090000
DTEND;TZID=America/New_York:20270717T100000
DTSTAMP:20260424T010020
CREATED:20260106T153618Z
LAST-MODIFIED:20260106T153618Z
UID:10011431-1815814800-1815818400@lhcc.info
SUMMARY:Monthly Prayer Breakfast
DESCRIPTION:Join us on the third Saturday of each month at 9am for a time of prayer with you church family. This is a great time to strengthen your prayer life while building relationships\, supporting and encouraging one another.  \nJoin us each month at church or from home using this ZOOM Link.
URL:https://lhcc.info/event/monthly-prayer-breakfast-3/2027-07-17/
LOCATION:Living Hope Christian Church\, 730 South County Trail\, North Kingstown\, RI\, 02852\, United States
CATEGORIES:Church Events,Prayer
ATTACH;FMTTYPE=image/png:https://lhcc.info/wp-content/uploads/2024/12/Monthly-Prayer-Bfast.png
GEO:41.5556183;-71.5189401
X-APPLE-STRUCTURED-LOCATION;VALUE=URI;X-ADDRESS=Living Hope Christian Church 730 South County Trail North Kingstown RI 02852 United States;X-APPLE-RADIUS=500;X-TITLE=730 South County Trail:geo:-71.5189401,41.5556183
END:VEVENT
BEGIN:VEVENT
DTSTART;TZID=America/New_York:20270821T090000
DTEND;TZID=America/New_York:20270821T100000
DTSTAMP:20260424T010020
CREATED:20260106T153618Z
LAST-MODIFIED:20260106T153618Z
UID:10011432-1818838800-1818842400@lhcc.info
SUMMARY:Monthly Prayer Breakfast
DESCRIPTION:Join us on the third Saturday of each month at 9am for a time of prayer with you church family. This is a great time to strengthen your prayer life while building relationships\, supporting and encouraging one another.  \nJoin us each month at church or from home using this ZOOM Link.
URL:https://lhcc.info/event/monthly-prayer-breakfast-3/2027-08-21/
LOCATION:Living Hope Christian Church\, 730 South County Trail\, North Kingstown\, RI\, 02852\, United States
CATEGORIES:Church Events,Prayer
ATTACH;FMTTYPE=image/png:https://lhcc.info/wp-content/uploads/2024/12/Monthly-Prayer-Bfast.png
GEO:41.5556183;-71.5189401
X-APPLE-STRUCTURED-LOCATION;VALUE=URI;X-ADDRESS=Living Hope Christian Church 730 South County Trail North Kingstown RI 02852 United States;X-APPLE-RADIUS=500;X-TITLE=730 South County Trail:geo:-71.5189401,41.5556183
END:VEVENT
BEGIN:VEVENT
DTSTART;TZID=America/New_York:20270918T090000
DTEND;TZID=America/New_York:20270918T100000
DTSTAMP:20260424T010020
CREATED:20260106T153618Z
LAST-MODIFIED:20260106T153618Z
UID:10011433-1821258000-1821261600@lhcc.info
SUMMARY:Monthly Prayer Breakfast
DESCRIPTION:Join us on the third Saturday of each month at 9am for a time of prayer with you church family. This is a great time to strengthen your prayer life while building relationships\, supporting and encouraging one another.  \nJoin us each month at church or from home using this ZOOM Link.
URL:https://lhcc.info/event/monthly-prayer-breakfast-3/2027-09-18/
LOCATION:Living Hope Christian Church\, 730 South County Trail\, North Kingstown\, RI\, 02852\, United States
CATEGORIES:Church Events,Prayer
ATTACH;FMTTYPE=image/png:https://lhcc.info/wp-content/uploads/2024/12/Monthly-Prayer-Bfast.png
GEO:41.5556183;-71.5189401
X-APPLE-STRUCTURED-LOCATION;VALUE=URI;X-ADDRESS=Living Hope Christian Church 730 South County Trail North Kingstown RI 02852 United States;X-APPLE-RADIUS=500;X-TITLE=730 South County Trail:geo:-71.5189401,41.5556183
END:VEVENT
BEGIN:VEVENT
DTSTART;TZID=America/New_York:20271016T090000
DTEND;TZID=America/New_York:20271016T100000
DTSTAMP:20260424T010020
CREATED:20260106T153618Z
LAST-MODIFIED:20260106T153618Z
UID:10011434-1823677200-1823680800@lhcc.info
SUMMARY:Monthly Prayer Breakfast
DESCRIPTION:Join us on the third Saturday of each month at 9am for a time of prayer with you church family. This is a great time to strengthen your prayer life while building relationships\, supporting and encouraging one another.  \nJoin us each month at church or from home using this ZOOM Link.
URL:https://lhcc.info/event/monthly-prayer-breakfast-3/2027-10-16/
LOCATION:Living Hope Christian Church\, 730 South County Trail\, North Kingstown\, RI\, 02852\, United States
CATEGORIES:Church Events,Prayer
ATTACH;FMTTYPE=image/png:https://lhcc.info/wp-content/uploads/2024/12/Monthly-Prayer-Bfast.png
GEO:41.5556183;-71.5189401
X-APPLE-STRUCTURED-LOCATION;VALUE=URI;X-ADDRESS=Living Hope Christian Church 730 South County Trail North Kingstown RI 02852 United States;X-APPLE-RADIUS=500;X-TITLE=730 South County Trail:geo:-71.5189401,41.5556183
END:VEVENT
BEGIN:VEVENT
DTSTART;TZID=America/New_York:20271120T090000
DTEND;TZID=America/New_York:20271120T100000
DTSTAMP:20260424T010020
CREATED:20260106T153618Z
LAST-MODIFIED:20260106T153618Z
UID:10011435-1826701200-1826704800@lhcc.info
SUMMARY:Monthly Prayer Breakfast
DESCRIPTION:Join us on the third Saturday of each month at 9am for a time of prayer with you church family. This is a great time to strengthen your prayer life while building relationships\, supporting and encouraging one another.  \nJoin us each month at church or from home using this ZOOM Link.
URL:https://lhcc.info/event/monthly-prayer-breakfast-3/2027-11-20/
LOCATION:Living Hope Christian Church\, 730 South County Trail\, North Kingstown\, RI\, 02852\, United States
CATEGORIES:Church Events,Prayer
ATTACH;FMTTYPE=image/png:https://lhcc.info/wp-content/uploads/2024/12/Monthly-Prayer-Bfast.png
GEO:41.5556183;-71.5189401
X-APPLE-STRUCTURED-LOCATION;VALUE=URI;X-ADDRESS=Living Hope Christian Church 730 South County Trail North Kingstown RI 02852 United States;X-APPLE-RADIUS=500;X-TITLE=730 South County Trail:geo:-71.5189401,41.5556183
END:VEVENT
BEGIN:VEVENT
DTSTART;TZID=America/New_York:20271218T090000
DTEND;TZID=America/New_York:20271218T100000
DTSTAMP:20260424T010020
CREATED:20260106T153618Z
LAST-MODIFIED:20260106T153618Z
UID:10011436-1829120400-1829124000@lhcc.info
SUMMARY:Monthly Prayer Breakfast
DESCRIPTION:Join us on the third Saturday of each month at 9am for a time of prayer with you church family. This is a great time to strengthen your prayer life while building relationships\, supporting and encouraging one another.  \nJoin us each month at church or from home using this ZOOM Link.
URL:https://lhcc.info/event/monthly-prayer-breakfast-3/2027-12-18/
LOCATION:Living Hope Christian Church\, 730 South County Trail\, North Kingstown\, RI\, 02852\, United States
CATEGORIES:Church Events,Prayer
ATTACH;FMTTYPE=image/png:https://lhcc.info/wp-content/uploads/2024/12/Monthly-Prayer-Bfast.png
GEO:41.5556183;-71.5189401
X-APPLE-STRUCTURED-LOCATION;VALUE=URI;X-ADDRESS=Living Hope Christian Church 730 South County Trail North Kingstown RI 02852 United States;X-APPLE-RADIUS=500;X-TITLE=730 South County Trail:geo:-71.5189401,41.5556183
END:VEVENT
END:VCALENDAR