BEGIN:VCALENDAR
VERSION:2.0
PRODID:-//Living Hope Christian Church - ECPv6.15.17.1//NONSGML v1.0//EN
CALSCALE:GREGORIAN
METHOD:PUBLISH
X-WR-CALNAME:Living Hope Christian Church
X-ORIGINAL-URL:https://lhcc.info
X-WR-CALDESC:Events for Living Hope Christian Church
REFRESH-INTERVAL;VALUE=DURATION:PT1H
X-Robots-Tag:noindex
X-PUBLISHED-TTL:PT1H
BEGIN:VTIMEZONE
TZID:America/New_York
BEGIN:DAYLIGHT
TZOFFSETFROM:-0500
TZOFFSETTO:-0400
TZNAME:EDT
DTSTART:20230312T070000
END:DAYLIGHT
BEGIN:STANDARD
TZOFFSETFROM:-0400
TZOFFSETTO:-0500
TZNAME:EST
DTSTART:20231105T060000
END:STANDARD
BEGIN:DAYLIGHT
TZOFFSETFROM:-0500
TZOFFSETTO:-0400
TZNAME:EDT
DTSTART:20240310T070000
END:DAYLIGHT
BEGIN:STANDARD
TZOFFSETFROM:-0400
TZOFFSETTO:-0500
TZNAME:EST
DTSTART:20241103T060000
END:STANDARD
BEGIN:DAYLIGHT
TZOFFSETFROM:-0500
TZOFFSETTO:-0400
TZNAME:EDT
DTSTART:20250309T070000
END:DAYLIGHT
BEGIN:STANDARD
TZOFFSETFROM:-0400
TZOFFSETTO:-0500
TZNAME:EST
DTSTART:20251102T060000
END:STANDARD
END:VTIMEZONE
BEGIN:VEVENT
DTSTART;TZID=America/New_York:20240717T173000
DTEND;TZID=America/New_York:20240717T183000
DTSTAMP:20260425T074441
CREATED:20160830T194848Z
LAST-MODIFIED:20170218T124829Z
UID:10002812-1721237400-1721241000@lhcc.info
SUMMARY:Wednesday Night Prayer
DESCRIPTION:The New Testament is filled with testimonies of God’s power revealed when men and women pray together. Join us every Wednesday from 6:30-7:30 pm to pray!
URL:https://lhcc.info/event/wednesday-night-prayer/2024-07-17/
LOCATION:Living Hope Christian Church\, 730 South County Trail\, North Kingstown\, RI\, 02852\, United States
CATEGORIES:Prayer
ATTACH;FMTTYPE=image/jpeg:https://lhcc.info/wp-content/uploads/2015/01/wednesday-prayer-meeting-north-kingstown-ri.jpg
GEO:41.5556183;-71.5189401
X-APPLE-STRUCTURED-LOCATION;VALUE=URI;X-ADDRESS=Living Hope Christian Church 730 South County Trail North Kingstown RI 02852 United States;X-APPLE-RADIUS=500;X-TITLE=730 South County Trail:geo:-71.5189401,41.5556183
END:VEVENT
BEGIN:VEVENT
DTSTART;TZID=America/New_York:20240717T183000
DTEND;TZID=America/New_York:20240717T193000
DTSTAMP:20260425T074441
CREATED:20221216T220014Z
LAST-MODIFIED:20240822T200136Z
UID:10005564-1721241000-1721244600@lhcc.info
SUMMARY:Wednesday Night Prayer Time
DESCRIPTION:Gather together and pray for the needs of our families\, our communities\, and our world!\nWe meet at the church at 6:30pm or you can join from home through this ZOOM Link.
URL:https://lhcc.info/event/wednesday-night-prayer-time-2024-04-24-2024-06-26/2024-07-17/
LOCATION:Living Hope Christian Church\, 730 South County Trail\, North Kingstown\, RI\, 02852\, United States
CATEGORIES:Prayer
ATTACH;FMTTYPE=image/png:https://lhcc.info/wp-content/uploads/2022/01/Lets-Pray-Together.png
GEO:41.5556183;-71.5189401
X-APPLE-STRUCTURED-LOCATION;VALUE=URI;X-ADDRESS=Living Hope Christian Church 730 South County Trail North Kingstown RI 02852 United States;X-APPLE-RADIUS=500;X-TITLE=730 South County Trail:geo:-71.5189401,41.5556183
END:VEVENT
BEGIN:VEVENT
DTSTART;TZID=America/New_York:20240717T183000
DTEND;TZID=America/New_York:20240717T193000
DTSTAMP:20260425T074441
CREATED:20250606T150421Z
LAST-MODIFIED:20250606T150421Z
UID:10005590-1721241000-1721244600@lhcc.info
SUMMARY:Wednesday Night Prayer Time
DESCRIPTION:Gather together and pray for the needs of our families\, our communities\, and our world!\nWe meet at the church at 6:30pm or you can join from home through this ZOOM Link.
URL:https://lhcc.info/event/wednesday-night-prayer-time-2024-04-24-2024-06-26/2024-07-17/
LOCATION:Living Hope Christian Church\, 730 South County Trail\, North Kingstown\, RI\, 02852\, United States
CATEGORIES:Prayer
ATTACH;FMTTYPE=image/png:https://lhcc.info/wp-content/uploads/2022/01/Lets-Pray-Together.png
GEO:41.5556183;-71.5189401
X-APPLE-STRUCTURED-LOCATION;VALUE=URI;X-ADDRESS=Living Hope Christian Church 730 South County Trail North Kingstown RI 02852 United States;X-APPLE-RADIUS=500;X-TITLE=730 South County Trail:geo:-71.5189401,41.5556183
END:VEVENT
END:VCALENDAR