BEGIN:VCALENDAR
VERSION:2.0
PRODID:-//Living Hope Christian Church - ECPv6.15.17.1//NONSGML v1.0//EN
CALSCALE:GREGORIAN
METHOD:PUBLISH
X-ORIGINAL-URL:https://lhcc.info
X-WR-CALDESC:Events for Living Hope Christian Church
REFRESH-INTERVAL;VALUE=DURATION:PT1H
X-Robots-Tag:noindex
X-PUBLISHED-TTL:PT1H
BEGIN:VTIMEZONE
TZID:America/New_York
BEGIN:DAYLIGHT
TZOFFSETFROM:-0500
TZOFFSETTO:-0400
TZNAME:EDT
DTSTART:20150308T070000
END:DAYLIGHT
BEGIN:STANDARD
TZOFFSETFROM:-0400
TZOFFSETTO:-0500
TZNAME:EST
DTSTART:20151101T060000
END:STANDARD
BEGIN:DAYLIGHT
TZOFFSETFROM:-0500
TZOFFSETTO:-0400
TZNAME:EDT
DTSTART:20160313T070000
END:DAYLIGHT
BEGIN:STANDARD
TZOFFSETFROM:-0400
TZOFFSETTO:-0500
TZNAME:EST
DTSTART:20161106T060000
END:STANDARD
BEGIN:DAYLIGHT
TZOFFSETFROM:-0500
TZOFFSETTO:-0400
TZNAME:EDT
DTSTART:20170312T070000
END:DAYLIGHT
BEGIN:STANDARD
TZOFFSETFROM:-0400
TZOFFSETTO:-0500
TZNAME:EST
DTSTART:20171105T060000
END:STANDARD
BEGIN:DAYLIGHT
TZOFFSETFROM:-0500
TZOFFSETTO:-0400
TZNAME:EDT
DTSTART:20180311T070000
END:DAYLIGHT
BEGIN:STANDARD
TZOFFSETFROM:-0400
TZOFFSETTO:-0500
TZNAME:EST
DTSTART:20181104T060000
END:STANDARD
END:VTIMEZONE
BEGIN:VEVENT
DTSTART;TZID=America/New_York:20171114T183000
DTEND;TZID=America/New_York:20171114T203000
DTSTAMP:20260424T100420
CREATED:20171111T153759Z
LAST-MODIFIED:20171111T153759Z
UID:10005429-1510684200-1510691400@lhcc.info
SUMMARY:Leadership Meeting
DESCRIPTION:
URL:https://lhcc.info/event/leadership-meeting-4/
LOCATION:Living Hope Christian Church\, 730 South County Trail\, North Kingstown\, RI\, 02852\, United States
CATEGORIES:Ministry Meetings
GEO:41.5556183;-71.5189401
X-APPLE-STRUCTURED-LOCATION;VALUE=URI;X-ADDRESS=Living Hope Christian Church 730 South County Trail North Kingstown RI 02852 United States;X-APPLE-RADIUS=500;X-TITLE=730 South County Trail:geo:-71.5189401,41.5556183
END:VEVENT
BEGIN:VEVENT
DTSTART;TZID=America/New_York:20170502T190000
DTEND;TZID=America/New_York:20170502T203000
DTSTAMP:20260424T100420
CREATED:20170501T060300Z
LAST-MODIFIED:20170501T060312Z
UID:10001816-1493751600-1493757000@lhcc.info
SUMMARY:Deacons/Ministry Heads Meeting
DESCRIPTION:
URL:https://lhcc.info/event/deacons-ministry-heads-meeting-3/
LOCATION:Living Hope Christian Church\, 730 South County Trail\, North Kingstown\, RI\, 02852\, United States
CATEGORIES:Ministry Meetings
GEO:41.5556183;-71.5189401
X-APPLE-STRUCTURED-LOCATION;VALUE=URI;X-ADDRESS=Living Hope Christian Church 730 South County Trail North Kingstown RI 02852 United States;X-APPLE-RADIUS=500;X-TITLE=730 South County Trail:geo:-71.5189401,41.5556183
END:VEVENT
BEGIN:VEVENT
DTSTART;TZID=America/New_York:20170314T183000
DTEND;TZID=America/New_York:20170314T200000
DTSTAMP:20260424T100420
CREATED:20170227T031856Z
LAST-MODIFIED:20170227T031856Z
UID:10001241-1489516200-1489521600@lhcc.info
SUMMARY:Leadership Meeting
DESCRIPTION:
URL:https://lhcc.info/event/leadership-meeting-3/
LOCATION:Living Hope Christian Church\, 730 South County Trail\, North Kingstown\, RI\, 02852\, United States
CATEGORIES:Ministry Meetings
GEO:41.5556183;-71.5189401
X-APPLE-STRUCTURED-LOCATION;VALUE=URI;X-ADDRESS=Living Hope Christian Church 730 South County Trail North Kingstown RI 02852 United States;X-APPLE-RADIUS=500;X-TITLE=730 South County Trail:geo:-71.5189401,41.5556183
END:VEVENT
BEGIN:VEVENT
DTSTART;TZID=America/New_York:20170207T190000
DTEND;TZID=America/New_York:20170207T203000
DTSTAMP:20260424T100420
CREATED:20170131T160138Z
LAST-MODIFIED:20170131T161011Z
UID:10000098-1486494000-1486499400@lhcc.info
SUMMARY:Deacons and Ministry Heads Meeting
DESCRIPTION:
URL:https://lhcc.info/event/deacons-ministry-heads-meeting-2/
LOCATION:Living Hope Christian Church\, 730 South County Trail\, North Kingstown\, RI\, 02852\, United States
CATEGORIES:Ministry Meetings
GEO:41.5556183;-71.5189401
X-APPLE-STRUCTURED-LOCATION;VALUE=URI;X-ADDRESS=Living Hope Christian Church 730 South County Trail North Kingstown RI 02852 United States;X-APPLE-RADIUS=500;X-TITLE=730 South County Trail:geo:-71.5189401,41.5556183
END:VEVENT
BEGIN:VEVENT
DTSTART;TZID=America/New_York:20161004T180000
DTEND;TZID=America/New_York:20161004T193000
DTSTAMP:20260424T100420
CREATED:20161003T192543Z
LAST-MODIFIED:20161205T175356Z
UID:10004047-1475604000-1475609400@lhcc.info
SUMMARY:Deacons and Ministry Heads Meeting
DESCRIPTION:Are you a deacon\, or the head of a ministry at Living Hope Christian Church? This is our bi-monthly meeting to pray together\, discuss upcoming events to put on the church calendar\, and/or reserve the use of our building or 15-passenger van. If you’re not able to be there\, please send a representative for your ministry\, or contact Pastor Peter to get together privately.  \n “For even the Son of Man did not come to be served\, but to serve\, and to give his life as a ransom for many.” Mark 10:45
URL:https://lhcc.info/event/deacons-ministry-heads-meeting/2016-10-04/
LOCATION:Living Hope Christian Church\, 730 South County Trail\, North Kingstown\, RI\, 02852\, United States
CATEGORIES:Ministry Meetings
GEO:41.5556183;-71.5189401
X-APPLE-STRUCTURED-LOCATION;VALUE=URI;X-ADDRESS=Living Hope Christian Church 730 South County Trail North Kingstown RI 02852 United States;X-APPLE-RADIUS=500;X-TITLE=730 South County Trail:geo:-71.5189401,41.5556183
END:VEVENT
END:VCALENDAR