BEGIN:VCALENDAR
VERSION:2.0
PRODID:-//Living Hope Christian Church - ECPv6.15.17.1//NONSGML v1.0//EN
CALSCALE:GREGORIAN
METHOD:PUBLISH
X-ORIGINAL-URL:https://lhcc.info
X-WR-CALDESC:Events for Living Hope Christian Church
REFRESH-INTERVAL;VALUE=DURATION:PT1H
X-Robots-Tag:noindex
X-PUBLISHED-TTL:PT1H
BEGIN:VTIMEZONE
TZID:America/New_York
BEGIN:DAYLIGHT
TZOFFSETFROM:-0500
TZOFFSETTO:-0400
TZNAME:EDT
DTSTART:20240310T070000
END:DAYLIGHT
BEGIN:STANDARD
TZOFFSETFROM:-0400
TZOFFSETTO:-0500
TZNAME:EST
DTSTART:20241103T060000
END:STANDARD
BEGIN:DAYLIGHT
TZOFFSETFROM:-0500
TZOFFSETTO:-0400
TZNAME:EDT
DTSTART:20250309T070000
END:DAYLIGHT
BEGIN:STANDARD
TZOFFSETFROM:-0400
TZOFFSETTO:-0500
TZNAME:EST
DTSTART:20251102T060000
END:STANDARD
BEGIN:DAYLIGHT
TZOFFSETFROM:-0500
TZOFFSETTO:-0400
TZNAME:EDT
DTSTART:20260308T070000
END:DAYLIGHT
BEGIN:STANDARD
TZOFFSETFROM:-0400
TZOFFSETTO:-0500
TZNAME:EST
DTSTART:20261101T060000
END:STANDARD
END:VTIMEZONE
BEGIN:VEVENT
DTSTART;TZID=America/New_York:20251018T083000
DTEND;TZID=America/New_York:20251018T160000
DTSTAMP:20260423T235131
CREATED:20250819T181701Z
LAST-MODIFIED:20250819T193119Z
UID:10011258-1760776200-1760803200@lhcc.info
SUMMARY:EMF Regional Men's Day
DESCRIPTION:Men come and join your brothers in Christ from both LHCC as well as other EMF Churches at the annual \nEMF Regional Men’s Day \nSaturday\, October 18th from 8:30am – 4pm \nFirst Baptist Church of Narragansett \nCost is $25 per person and includes breakfast & lunch \nThe theme this year is “The Battle Belongs to thr Lord” so come eat\, listen to great speakers\, have solid Biblical discussions with other men\, fellowship\, and most importantly hear from God on how through Him you can become victorious over the battles in your life! \nSign Up Today!
URL:https://lhcc.info/event/emf-regional-mens-day-2/
LOCATION:First Baptist of Narragansett\, 305 Kingstown Rd\, Narragansett\, RI\, 02882\, United States
CATEGORIES:Men's Ministry
ATTACH;FMTTYPE=image/png:https://lhcc.info/wp-content/uploads/2025/08/2025-Mens-Day-1920-x-1080-px.png
GEO:41.4351425;-71.4773595
X-APPLE-STRUCTURED-LOCATION;VALUE=URI;X-ADDRESS=First Baptist of Narragansett 305 Kingstown Rd Narragansett RI 02882 United States;X-APPLE-RADIUS=500;X-TITLE=305 Kingstown Rd:geo:-71.4773595,41.4351425
END:VEVENT
END:VCALENDAR