BEGIN:VCALENDAR
VERSION:2.0
PRODID:-//Living Hope Christian Church - ECPv6.15.17.1//NONSGML v1.0//EN
CALSCALE:GREGORIAN
METHOD:PUBLISH
X-WR-CALNAME:Living Hope Christian Church
X-ORIGINAL-URL:https://lhcc.info
X-WR-CALDESC:Events for Living Hope Christian Church
REFRESH-INTERVAL;VALUE=DURATION:PT1H
X-Robots-Tag:noindex
X-PUBLISHED-TTL:PT1H
BEGIN:VTIMEZONE
TZID:America/New_York
BEGIN:DAYLIGHT
TZOFFSETFROM:-0500
TZOFFSETTO:-0400
TZNAME:EDT
DTSTART:20230312T070000
END:DAYLIGHT
BEGIN:STANDARD
TZOFFSETFROM:-0400
TZOFFSETTO:-0500
TZNAME:EST
DTSTART:20231105T060000
END:STANDARD
BEGIN:DAYLIGHT
TZOFFSETFROM:-0500
TZOFFSETTO:-0400
TZNAME:EDT
DTSTART:20240310T070000
END:DAYLIGHT
BEGIN:STANDARD
TZOFFSETFROM:-0400
TZOFFSETTO:-0500
TZNAME:EST
DTSTART:20241103T060000
END:STANDARD
BEGIN:DAYLIGHT
TZOFFSETFROM:-0500
TZOFFSETTO:-0400
TZNAME:EDT
DTSTART:20250309T070000
END:DAYLIGHT
BEGIN:STANDARD
TZOFFSETFROM:-0400
TZOFFSETTO:-0500
TZNAME:EST
DTSTART:20251102T060000
END:STANDARD
END:VTIMEZONE
BEGIN:VEVENT
DTSTART;TZID=America/New_York:20241019T090000
DTEND;TZID=America/New_York:20241019T160000
DTSTAMP:20260425T063332
CREATED:20240906T155850Z
LAST-MODIFIED:20240910T160112Z
UID:10005920-1729328400-1729353600@lhcc.info
SUMMARY:EMF Regional Men's Day
DESCRIPTION:Men come out and fellowship with the men from all the EMF (Evangelical Ministers Fellowship of Southern Rhode Island) for a day of digging deeper into the things of God! \nSaturday\, October 19th from 9am to 4pm at First Baptist of Narragansett  \nCost $25 per person (includes breakfast & lunch) \nRegister Today!
URL:https://lhcc.info/event/emf-regional-mens-day/
LOCATION:First Baptist of Narragansett\, 305 Kingstown Rd\, Narragansett\, RI\, 02882\, United States
CATEGORIES:Men's Ministry
ATTACH;FMTTYPE=image/png:https://lhcc.info/wp-content/uploads/2024/09/EMF-Regional-Men’s-Day-.png
GEO:41.4351425;-71.4773595
X-APPLE-STRUCTURED-LOCATION;VALUE=URI;X-ADDRESS=First Baptist of Narragansett 305 Kingstown Rd Narragansett RI 02882 United States;X-APPLE-RADIUS=500;X-TITLE=305 Kingstown Rd:geo:-71.4773595,41.4351425
END:VEVENT
END:VCALENDAR