BEGIN:VCALENDAR
VERSION:2.0
PRODID:-//Living Hope Christian Church - ECPv6.15.17.1//NONSGML v1.0//EN
CALSCALE:GREGORIAN
METHOD:PUBLISH
X-ORIGINAL-URL:https://lhcc.info
X-WR-CALDESC:Events for Living Hope Christian Church
REFRESH-INTERVAL;VALUE=DURATION:PT1H
X-Robots-Tag:noindex
X-PUBLISHED-TTL:PT1H
BEGIN:VTIMEZONE
TZID:America/New_York
BEGIN:DAYLIGHT
TZOFFSETFROM:-0500
TZOFFSETTO:-0400
TZNAME:EDT
DTSTART:20230312T070000
END:DAYLIGHT
BEGIN:STANDARD
TZOFFSETFROM:-0400
TZOFFSETTO:-0500
TZNAME:EST
DTSTART:20231105T060000
END:STANDARD
BEGIN:DAYLIGHT
TZOFFSETFROM:-0500
TZOFFSETTO:-0400
TZNAME:EDT
DTSTART:20240310T070000
END:DAYLIGHT
BEGIN:STANDARD
TZOFFSETFROM:-0400
TZOFFSETTO:-0500
TZNAME:EST
DTSTART:20241103T060000
END:STANDARD
BEGIN:DAYLIGHT
TZOFFSETFROM:-0500
TZOFFSETTO:-0400
TZNAME:EDT
DTSTART:20250309T070000
END:DAYLIGHT
BEGIN:STANDARD
TZOFFSETFROM:-0400
TZOFFSETTO:-0500
TZNAME:EST
DTSTART:20251102T060000
END:STANDARD
END:VTIMEZONE
BEGIN:VEVENT
DTSTART;TZID=America/New_York:20240711T183000
DTEND;TZID=America/New_York:20240711T203000
DTSTAMP:20260425T111641
CREATED:20240507T203224Z
LAST-MODIFIED:20240711T185339Z
UID:10005856-1720722600-1720729800@lhcc.info
SUMMARY:Point Men at the Beach!!
DESCRIPTION:Men join us the second Thursday of each month for some food\, fellowship\, and discussion time with your brothers in Christ. \nThis is an opportunity to deepen your relationship with Christ and each other at the same time so don’t miss it! \nOUR MEETING THIS MONTH IS BEING HELD AT NK TOWN BEACH…DON’T MISS IT!!
URL:https://lhcc.info/event/point-men-4-2024-07-11/
LOCATION:North Kingstown Town Beach\, 10 Beach Street\, North Kingstown\, RI\, 02852\, United States
CATEGORIES:Men's Ministry
ATTACH;FMTTYPE=image/jpeg:https://lhcc.info/wp-content/uploads/2020/08/IMG_20200812_142111_217-e1610558621845.jpg
GEO:41.565885;-71.443897
X-APPLE-STRUCTURED-LOCATION;VALUE=URI;X-ADDRESS=North Kingstown Town Beach 10 Beach Street North Kingstown RI 02852 United States;X-APPLE-RADIUS=500;X-TITLE=10 Beach Street:geo:-71.443897,41.565885
END:VEVENT
END:VCALENDAR