BEGIN:VCALENDAR
VERSION:2.0
PRODID:-//Living Hope Christian Church - ECPv6.15.17.1//NONSGML v1.0//EN
CALSCALE:GREGORIAN
METHOD:PUBLISH
X-WR-CALNAME:Living Hope Christian Church
X-ORIGINAL-URL:https://lhcc.info
X-WR-CALDESC:Events for Living Hope Christian Church
REFRESH-INTERVAL;VALUE=DURATION:PT1H
X-Robots-Tag:noindex
X-PUBLISHED-TTL:PT1H
BEGIN:VTIMEZONE
TZID:America/New_York
BEGIN:DAYLIGHT
TZOFFSETFROM:-0500
TZOFFSETTO:-0400
TZNAME:EDT
DTSTART:20240310T070000
END:DAYLIGHT
BEGIN:STANDARD
TZOFFSETFROM:-0400
TZOFFSETTO:-0500
TZNAME:EST
DTSTART:20241103T060000
END:STANDARD
BEGIN:DAYLIGHT
TZOFFSETFROM:-0500
TZOFFSETTO:-0400
TZNAME:EDT
DTSTART:20250309T070000
END:DAYLIGHT
BEGIN:STANDARD
TZOFFSETFROM:-0400
TZOFFSETTO:-0500
TZNAME:EST
DTSTART:20251102T060000
END:STANDARD
BEGIN:DAYLIGHT
TZOFFSETFROM:-0500
TZOFFSETTO:-0400
TZNAME:EDT
DTSTART:20260308T070000
END:DAYLIGHT
BEGIN:STANDARD
TZOFFSETFROM:-0400
TZOFFSETTO:-0500
TZNAME:EST
DTSTART:20261101T060000
END:STANDARD
END:VTIMEZONE
BEGIN:VEVENT
DTSTART;TZID=America/New_York:20251214T140000
DTEND;TZID=America/New_York:20251214T170000
DTSTAMP:20260423T193206
CREATED:20251014T195403Z
LAST-MODIFIED:20251014T195403Z
UID:10011406-1765720800-1765731600@lhcc.info
SUMMARY:Jesus' Birthday Party!
DESCRIPTION:Join us for a super fun birthday bash fit for the King of Kings!  \nJesus’s Birthday Party \nSunday\, December 14th from 2-5pm \nWe will have FREE games\, crafts\, food\, face painting\, raffles\, prizes\, cookie decorating\, and a bounce house! \nAnd the best part is you don’t have to bring a gift because the only gift we will be celebrating is the gift of salvation that the guest of honor already brought to us!  \nIf you want to help make that day please Sign Up Here!
URL:https://lhcc.info/event/jesus-birthday-party/
LOCATION:Living Hope Christian Church\, 730 South County Trail\, North Kingstown\, RI\, 02852\, United States
CATEGORIES:Community Events
ATTACH;FMTTYPE=image/png:https://lhcc.info/wp-content/uploads/2025/10/Happy-Birthday-Jesus-1920-x-1080-px.png
GEO:41.5556183;-71.5189401
X-APPLE-STRUCTURED-LOCATION;VALUE=URI;X-ADDRESS=Living Hope Christian Church 730 South County Trail North Kingstown RI 02852 United States;X-APPLE-RADIUS=500;X-TITLE=730 South County Trail:geo:-71.5189401,41.5556183
END:VEVENT
BEGIN:VEVENT
DTSTART;TZID=America/New_York:20251123T120000
DTEND;TZID=America/New_York:20251123T140000
DTSTAMP:20260423T193206
CREATED:20250612T191941Z
LAST-MODIFIED:20250826T190024Z
UID:10011345-1763899200-1763906400@lhcc.info
SUMMARY:Clothing Closet Public Hours
DESCRIPTION:Shop for free clothing for men\, women\, and children during our public hours:\nThursdays 4-7pm\nSundays 12-2pm \nOther services available on a first come\, first serve basis during public hours:\nLaundry Machine\nShower\nFood Assistance \nIf you need to make an appointment outside of our public hours for any of these services\, please call the church at (401)667-0775
URL:https://lhcc.info/event/clothing-closet-public-hours-2/2025-11-23/
LOCATION:RI
CATEGORIES:Community Events
ATTACH;FMTTYPE=image/png:https://lhcc.info/wp-content/uploads/2025/06/Clothing-Closet-Facebook-Post.png
END:VEVENT
BEGIN:VEVENT
DTSTART;TZID=America/New_York:20251120T160000
DTEND;TZID=America/New_York:20251120T190000
DTSTAMP:20260423T193206
CREATED:20250429T182819Z
LAST-MODIFIED:20250826T185912Z
UID:10011328-1763654400-1763665200@lhcc.info
SUMMARY:Clothing Closet Public Hours
DESCRIPTION:Shop for free clothing for men\, women\, and children during our public hours:\nThursdays 4-7pm\nSundays 12-2pm \nOther services available on a first come\, first serve basis during public hours:\nLaundry Machine\nShower\nFood Assistance \nIf you need to make an appointment outside of our public hours for any of these services\, please call the church at (401)667-0775
URL:https://lhcc.info/event/clothing-closet-public-hours-3/2025-11-20/
LOCATION:RI
CATEGORIES:Community Events
ATTACH;FMTTYPE=image/png:https://lhcc.info/wp-content/uploads/2025/06/Clothing-Closet-Facebook-Post.png
END:VEVENT
BEGIN:VEVENT
DTSTART;TZID=America/New_York:20251116T120000
DTEND;TZID=America/New_York:20251116T140000
DTSTAMP:20260423T193206
CREATED:20250612T191941Z
LAST-MODIFIED:20250826T190024Z
UID:10011344-1763294400-1763301600@lhcc.info
SUMMARY:Clothing Closet Public Hours
DESCRIPTION:Shop for free clothing for men\, women\, and children during our public hours:\nThursdays 4-7pm\nSundays 12-2pm \nOther services available on a first come\, first serve basis during public hours:\nLaundry Machine\nShower\nFood Assistance \nIf you need to make an appointment outside of our public hours for any of these services\, please call the church at (401)667-0775
URL:https://lhcc.info/event/clothing-closet-public-hours-2/2025-11-16/
LOCATION:RI
CATEGORIES:Community Events
ATTACH;FMTTYPE=image/png:https://lhcc.info/wp-content/uploads/2025/06/Clothing-Closet-Facebook-Post.png
END:VEVENT
BEGIN:VEVENT
DTSTART;TZID=America/New_York:20251113T160000
DTEND;TZID=America/New_York:20251113T190000
DTSTAMP:20260423T193206
CREATED:20250429T182819Z
LAST-MODIFIED:20250826T185912Z
UID:10011327-1763049600-1763060400@lhcc.info
SUMMARY:Clothing Closet Public Hours
DESCRIPTION:Shop for free clothing for men\, women\, and children during our public hours:\nThursdays 4-7pm\nSundays 12-2pm \nOther services available on a first come\, first serve basis during public hours:\nLaundry Machine\nShower\nFood Assistance \nIf you need to make an appointment outside of our public hours for any of these services\, please call the church at (401)667-0775
URL:https://lhcc.info/event/clothing-closet-public-hours-3/2025-11-13/
LOCATION:RI
CATEGORIES:Community Events
ATTACH;FMTTYPE=image/png:https://lhcc.info/wp-content/uploads/2025/06/Clothing-Closet-Facebook-Post.png
END:VEVENT
BEGIN:VEVENT
DTSTART;TZID=America/New_York:20251109T120000
DTEND;TZID=America/New_York:20251109T140000
DTSTAMP:20260423T193206
CREATED:20250612T191941Z
LAST-MODIFIED:20250826T190024Z
UID:10011343-1762689600-1762696800@lhcc.info
SUMMARY:Clothing Closet Public Hours
DESCRIPTION:Shop for free clothing for men\, women\, and children during our public hours:\nThursdays 4-7pm\nSundays 12-2pm \nOther services available on a first come\, first serve basis during public hours:\nLaundry Machine\nShower\nFood Assistance \nIf you need to make an appointment outside of our public hours for any of these services\, please call the church at (401)667-0775
URL:https://lhcc.info/event/clothing-closet-public-hours-2/2025-11-09/
LOCATION:RI
CATEGORIES:Community Events
ATTACH;FMTTYPE=image/png:https://lhcc.info/wp-content/uploads/2025/06/Clothing-Closet-Facebook-Post.png
END:VEVENT
BEGIN:VEVENT
DTSTART;TZID=America/New_York:20251106T160000
DTEND;TZID=America/New_York:20251106T190000
DTSTAMP:20260423T193206
CREATED:20250429T182819Z
LAST-MODIFIED:20250826T185912Z
UID:10011326-1762444800-1762455600@lhcc.info
SUMMARY:Clothing Closet Public Hours
DESCRIPTION:Shop for free clothing for men\, women\, and children during our public hours:\nThursdays 4-7pm\nSundays 12-2pm \nOther services available on a first come\, first serve basis during public hours:\nLaundry Machine\nShower\nFood Assistance \nIf you need to make an appointment outside of our public hours for any of these services\, please call the church at (401)667-0775
URL:https://lhcc.info/event/clothing-closet-public-hours-3/2025-11-06/
LOCATION:RI
CATEGORIES:Community Events
ATTACH;FMTTYPE=image/png:https://lhcc.info/wp-content/uploads/2025/06/Clothing-Closet-Facebook-Post.png
END:VEVENT
BEGIN:VEVENT
DTSTART;TZID=America/New_York:20251102T120000
DTEND;TZID=America/New_York:20251102T140000
DTSTAMP:20260423T193206
CREATED:20250612T191941Z
LAST-MODIFIED:20250826T190024Z
UID:10011342-1762084800-1762092000@lhcc.info
SUMMARY:Clothing Closet Public Hours
DESCRIPTION:Shop for free clothing for men\, women\, and children during our public hours:\nThursdays 4-7pm\nSundays 12-2pm \nOther services available on a first come\, first serve basis during public hours:\nLaundry Machine\nShower\nFood Assistance \nIf you need to make an appointment outside of our public hours for any of these services\, please call the church at (401)667-0775
URL:https://lhcc.info/event/clothing-closet-public-hours-2/2025-11-02/
LOCATION:RI
CATEGORIES:Community Events
ATTACH;FMTTYPE=image/png:https://lhcc.info/wp-content/uploads/2025/06/Clothing-Closet-Facebook-Post.png
END:VEVENT
BEGIN:VEVENT
DTSTART;TZID=America/New_York:20251030T160000
DTEND;TZID=America/New_York:20251030T190000
DTSTAMP:20260423T193206
CREATED:20250429T182819Z
LAST-MODIFIED:20250826T185912Z
UID:10011325-1761840000-1761850800@lhcc.info
SUMMARY:Clothing Closet Public Hours
DESCRIPTION:Shop for free clothing for men\, women\, and children during our public hours:\nThursdays 4-7pm\nSundays 12-2pm \nOther services available on a first come\, first serve basis during public hours:\nLaundry Machine\nShower\nFood Assistance \nIf you need to make an appointment outside of our public hours for any of these services\, please call the church at (401)667-0775
URL:https://lhcc.info/event/clothing-closet-public-hours-3/2025-10-30/
LOCATION:RI
CATEGORIES:Community Events
ATTACH;FMTTYPE=image/png:https://lhcc.info/wp-content/uploads/2025/06/Clothing-Closet-Facebook-Post.png
END:VEVENT
BEGIN:VEVENT
DTSTART;TZID=America/New_York:20251026T123000
DTEND;TZID=America/New_York:20251026T143000
DTSTAMP:20260423T193206
CREATED:20250907T125601Z
LAST-MODIFIED:20250907T125614Z
UID:10011362-1761481800-1761489000@lhcc.info
SUMMARY:Trunk or Treat
DESCRIPTION:This FREE family event is for for all! Wear your costumes and come trick or treat for candy at our family-friendly decorated cars! \nSunday\, October 26th from 12:30pm to 2:30pm \nIf you would like to decorate your car and bring candy to hand out please Sign Up Here!
URL:https://lhcc.info/event/trunk-or-treat-3/
LOCATION:Living Hope Christian Church\, 730 South County Trail\, North Kingstown\, RI\, 02852\, United States
CATEGORIES:Church Events,Community Events
ATTACH;FMTTYPE=image/png:https://lhcc.info/wp-content/uploads/2025/09/LHCC-Trunk-or-Treat-Postcard-1920-x-1080-px.png
GEO:41.5556183;-71.5189401
X-APPLE-STRUCTURED-LOCATION;VALUE=URI;X-ADDRESS=Living Hope Christian Church 730 South County Trail North Kingstown RI 02852 United States;X-APPLE-RADIUS=500;X-TITLE=730 South County Trail:geo:-71.5189401,41.5556183
END:VEVENT
BEGIN:VEVENT
DTSTART;TZID=America/New_York:20251026T120000
DTEND;TZID=America/New_York:20251026T140000
DTSTAMP:20260423T193206
CREATED:20250612T191941Z
LAST-MODIFIED:20250826T190024Z
UID:10011341-1761480000-1761487200@lhcc.info
SUMMARY:Clothing Closet Public Hours
DESCRIPTION:Shop for free clothing for men\, women\, and children during our public hours:\nThursdays 4-7pm\nSundays 12-2pm \nOther services available on a first come\, first serve basis during public hours:\nLaundry Machine\nShower\nFood Assistance \nIf you need to make an appointment outside of our public hours for any of these services\, please call the church at (401)667-0775
URL:https://lhcc.info/event/clothing-closet-public-hours-2/2025-10-26/
LOCATION:RI
CATEGORIES:Community Events
ATTACH;FMTTYPE=image/png:https://lhcc.info/wp-content/uploads/2025/06/Clothing-Closet-Facebook-Post.png
END:VEVENT
BEGIN:VEVENT
DTSTART;TZID=America/New_York:20251023T160000
DTEND;TZID=America/New_York:20251023T190000
DTSTAMP:20260423T193206
CREATED:20250429T182819Z
LAST-MODIFIED:20250826T185912Z
UID:10011324-1761235200-1761246000@lhcc.info
SUMMARY:Clothing Closet Public Hours
DESCRIPTION:Shop for free clothing for men\, women\, and children during our public hours:\nThursdays 4-7pm\nSundays 12-2pm \nOther services available on a first come\, first serve basis during public hours:\nLaundry Machine\nShower\nFood Assistance \nIf you need to make an appointment outside of our public hours for any of these services\, please call the church at (401)667-0775
URL:https://lhcc.info/event/clothing-closet-public-hours-3/2025-10-23/
LOCATION:RI
CATEGORIES:Community Events
ATTACH;FMTTYPE=image/png:https://lhcc.info/wp-content/uploads/2025/06/Clothing-Closet-Facebook-Post.png
END:VEVENT
BEGIN:VEVENT
DTSTART;TZID=America/New_York:20251019T120000
DTEND;TZID=America/New_York:20251019T140000
DTSTAMP:20260423T193206
CREATED:20250612T191941Z
LAST-MODIFIED:20250826T190024Z
UID:10011340-1760875200-1760882400@lhcc.info
SUMMARY:Clothing Closet Public Hours
DESCRIPTION:Shop for free clothing for men\, women\, and children during our public hours:\nThursdays 4-7pm\nSundays 12-2pm \nOther services available on a first come\, first serve basis during public hours:\nLaundry Machine\nShower\nFood Assistance \nIf you need to make an appointment outside of our public hours for any of these services\, please call the church at (401)667-0775
URL:https://lhcc.info/event/clothing-closet-public-hours-2/2025-10-19/
LOCATION:RI
CATEGORIES:Community Events
ATTACH;FMTTYPE=image/png:https://lhcc.info/wp-content/uploads/2025/06/Clothing-Closet-Facebook-Post.png
END:VEVENT
BEGIN:VEVENT
DTSTART;TZID=America/New_York:20251016T160000
DTEND;TZID=America/New_York:20251016T190000
DTSTAMP:20260423T193206
CREATED:20250429T182819Z
LAST-MODIFIED:20250826T185912Z
UID:10011323-1760630400-1760641200@lhcc.info
SUMMARY:Clothing Closet Public Hours
DESCRIPTION:Shop for free clothing for men\, women\, and children during our public hours:\nThursdays 4-7pm\nSundays 12-2pm \nOther services available on a first come\, first serve basis during public hours:\nLaundry Machine\nShower\nFood Assistance \nIf you need to make an appointment outside of our public hours for any of these services\, please call the church at (401)667-0775
URL:https://lhcc.info/event/clothing-closet-public-hours-3/2025-10-16/
LOCATION:RI
CATEGORIES:Community Events
ATTACH;FMTTYPE=image/png:https://lhcc.info/wp-content/uploads/2025/06/Clothing-Closet-Facebook-Post.png
END:VEVENT
BEGIN:VEVENT
DTSTART;TZID=America/New_York:20251012T120000
DTEND;TZID=America/New_York:20251012T140000
DTSTAMP:20260423T193206
CREATED:20250612T191941Z
LAST-MODIFIED:20250826T190024Z
UID:10011339-1760270400-1760277600@lhcc.info
SUMMARY:Clothing Closet Public Hours
DESCRIPTION:Shop for free clothing for men\, women\, and children during our public hours:\nThursdays 4-7pm\nSundays 12-2pm \nOther services available on a first come\, first serve basis during public hours:\nLaundry Machine\nShower\nFood Assistance \nIf you need to make an appointment outside of our public hours for any of these services\, please call the church at (401)667-0775
URL:https://lhcc.info/event/clothing-closet-public-hours-2/2025-10-12/
LOCATION:RI
CATEGORIES:Community Events
ATTACH;FMTTYPE=image/png:https://lhcc.info/wp-content/uploads/2025/06/Clothing-Closet-Facebook-Post.png
END:VEVENT
BEGIN:VEVENT
DTSTART;TZID=America/New_York:20251009T160000
DTEND;TZID=America/New_York:20251009T190000
DTSTAMP:20260423T193206
CREATED:20250429T182819Z
LAST-MODIFIED:20250826T185912Z
UID:10011322-1760025600-1760036400@lhcc.info
SUMMARY:Clothing Closet Public Hours
DESCRIPTION:Shop for free clothing for men\, women\, and children during our public hours:\nThursdays 4-7pm\nSundays 12-2pm \nOther services available on a first come\, first serve basis during public hours:\nLaundry Machine\nShower\nFood Assistance \nIf you need to make an appointment outside of our public hours for any of these services\, please call the church at (401)667-0775
URL:https://lhcc.info/event/clothing-closet-public-hours-3/2025-10-09/
LOCATION:RI
CATEGORIES:Community Events
ATTACH;FMTTYPE=image/png:https://lhcc.info/wp-content/uploads/2025/06/Clothing-Closet-Facebook-Post.png
END:VEVENT
BEGIN:VEVENT
DTSTART;TZID=America/New_York:20251005T120000
DTEND;TZID=America/New_York:20251005T140000
DTSTAMP:20260423T193206
CREATED:20250612T191941Z
LAST-MODIFIED:20250826T190024Z
UID:10011338-1759665600-1759672800@lhcc.info
SUMMARY:Clothing Closet Public Hours
DESCRIPTION:Shop for free clothing for men\, women\, and children during our public hours:\nThursdays 4-7pm\nSundays 12-2pm \nOther services available on a first come\, first serve basis during public hours:\nLaundry Machine\nShower\nFood Assistance \nIf you need to make an appointment outside of our public hours for any of these services\, please call the church at (401)667-0775
URL:https://lhcc.info/event/clothing-closet-public-hours-2/2025-10-05/
LOCATION:RI
CATEGORIES:Community Events
ATTACH;FMTTYPE=image/png:https://lhcc.info/wp-content/uploads/2025/06/Clothing-Closet-Facebook-Post.png
END:VEVENT
BEGIN:VEVENT
DTSTART;TZID=America/New_York:20251002T160000
DTEND;TZID=America/New_York:20251002T190000
DTSTAMP:20260423T193206
CREATED:20250429T182819Z
LAST-MODIFIED:20250826T185912Z
UID:10011321-1759420800-1759431600@lhcc.info
SUMMARY:Clothing Closet Public Hours
DESCRIPTION:Shop for free clothing for men\, women\, and children during our public hours:\nThursdays 4-7pm\nSundays 12-2pm \nOther services available on a first come\, first serve basis during public hours:\nLaundry Machine\nShower\nFood Assistance \nIf you need to make an appointment outside of our public hours for any of these services\, please call the church at (401)667-0775
URL:https://lhcc.info/event/clothing-closet-public-hours-3/2025-10-02/
LOCATION:RI
CATEGORIES:Community Events
ATTACH;FMTTYPE=image/png:https://lhcc.info/wp-content/uploads/2025/06/Clothing-Closet-Facebook-Post.png
END:VEVENT
BEGIN:VEVENT
DTSTART;TZID=America/New_York:20250928T120000
DTEND;TZID=America/New_York:20250928T140000
DTSTAMP:20260423T193206
CREATED:20250612T191941Z
LAST-MODIFIED:20250826T190024Z
UID:10011337-1759060800-1759068000@lhcc.info
SUMMARY:Clothing Closet Public Hours
DESCRIPTION:Shop for free clothing for men\, women\, and children during our public hours:\nThursdays 4-7pm\nSundays 12-2pm \nOther services available on a first come\, first serve basis during public hours:\nLaundry Machine\nShower\nFood Assistance \nIf you need to make an appointment outside of our public hours for any of these services\, please call the church at (401)667-0775
URL:https://lhcc.info/event/clothing-closet-public-hours-2/2025-09-28/
LOCATION:RI
CATEGORIES:Community Events
ATTACH;FMTTYPE=image/png:https://lhcc.info/wp-content/uploads/2025/06/Clothing-Closet-Facebook-Post.png
END:VEVENT
BEGIN:VEVENT
DTSTART;TZID=America/New_York:20250925T160000
DTEND;TZID=America/New_York:20250925T190000
DTSTAMP:20260423T193206
CREATED:20250429T182819Z
LAST-MODIFIED:20250826T185912Z
UID:10011320-1758816000-1758826800@lhcc.info
SUMMARY:Clothing Closet Public Hours
DESCRIPTION:Shop for free clothing for men\, women\, and children during our public hours:\nThursdays 4-7pm\nSundays 12-2pm \nOther services available on a first come\, first serve basis during public hours:\nLaundry Machine\nShower\nFood Assistance \nIf you need to make an appointment outside of our public hours for any of these services\, please call the church at (401)667-0775
URL:https://lhcc.info/event/clothing-closet-public-hours-3/2025-09-25/
LOCATION:RI
CATEGORIES:Community Events
ATTACH;FMTTYPE=image/png:https://lhcc.info/wp-content/uploads/2025/06/Clothing-Closet-Facebook-Post.png
END:VEVENT
BEGIN:VEVENT
DTSTART;TZID=America/New_York:20250924T190000
DTEND;TZID=America/New_York:20250924T203000
DTSTAMP:20260423T193206
CREATED:20250916T145540Z
LAST-MODIFIED:20250916T163404Z
UID:10011363-1758740400-1758745800@lhcc.info
SUMMARY:10 Days of Prayer Gathering
DESCRIPTION:10 Days of Prayer is a worldwide prayer meeting\, dedicating 10 days\, from Rosh Hashanah to Yom Kippur\, to pray and worship Jesus with other believers in your community. \nWe are hosting a 10 Days Prayer Gathering on  Wednesday\, September 24th at 7pm \nJoin us as we stand together in unity with the global church to take a tangible step of obedience toward the answer to Jesus’ prayer in John 17:21: “Let them be one as We [the Father and the Son] are one.” 
URL:https://lhcc.info/event/10-days-of-prayer-gathering/
LOCATION:Living Hope Christian Church\, 730 South County Trail\, North Kingstown\, RI\, 02852\, United States
CATEGORIES:Church Events,Community Events,Prayer
ATTACH;FMTTYPE=image/png:https://lhcc.info/wp-content/uploads/2025/09/September-22-October-2-2025.png
GEO:41.5556183;-71.5189401
X-APPLE-STRUCTURED-LOCATION;VALUE=URI;X-ADDRESS=Living Hope Christian Church 730 South County Trail North Kingstown RI 02852 United States;X-APPLE-RADIUS=500;X-TITLE=730 South County Trail:geo:-71.5189401,41.5556183
END:VEVENT
BEGIN:VEVENT
DTSTART;TZID=America/New_York:20250921T120000
DTEND;TZID=America/New_York:20250921T140000
DTSTAMP:20260423T193206
CREATED:20250612T191941Z
LAST-MODIFIED:20250826T190024Z
UID:10011336-1758456000-1758463200@lhcc.info
SUMMARY:Clothing Closet Public Hours
DESCRIPTION:Shop for free clothing for men\, women\, and children during our public hours:\nThursdays 4-7pm\nSundays 12-2pm \nOther services available on a first come\, first serve basis during public hours:\nLaundry Machine\nShower\nFood Assistance \nIf you need to make an appointment outside of our public hours for any of these services\, please call the church at (401)667-0775
URL:https://lhcc.info/event/clothing-closet-public-hours-2/2025-09-21/
LOCATION:RI
CATEGORIES:Community Events
ATTACH;FMTTYPE=image/png:https://lhcc.info/wp-content/uploads/2025/06/Clothing-Closet-Facebook-Post.png
END:VEVENT
BEGIN:VEVENT
DTSTART;TZID=America/New_York:20250918T160000
DTEND;TZID=America/New_York:20250918T190000
DTSTAMP:20260423T193206
CREATED:20250429T182819Z
LAST-MODIFIED:20250826T185912Z
UID:10011319-1758211200-1758222000@lhcc.info
SUMMARY:Clothing Closet Public Hours
DESCRIPTION:Shop for free clothing for men\, women\, and children during our public hours:\nThursdays 4-7pm\nSundays 12-2pm \nOther services available on a first come\, first serve basis during public hours:\nLaundry Machine\nShower\nFood Assistance \nIf you need to make an appointment outside of our public hours for any of these services\, please call the church at (401)667-0775
URL:https://lhcc.info/event/clothing-closet-public-hours-3/2025-09-18/
LOCATION:RI
CATEGORIES:Community Events
ATTACH;FMTTYPE=image/png:https://lhcc.info/wp-content/uploads/2025/06/Clothing-Closet-Facebook-Post.png
END:VEVENT
BEGIN:VEVENT
DTSTART;TZID=America/New_York:20250914T120000
DTEND;TZID=America/New_York:20250914T140000
DTSTAMP:20260423T193206
CREATED:20250612T191941Z
LAST-MODIFIED:20250826T190024Z
UID:10011335-1757851200-1757858400@lhcc.info
SUMMARY:Clothing Closet Public Hours
DESCRIPTION:Shop for free clothing for men\, women\, and children during our public hours:\nThursdays 4-7pm\nSundays 12-2pm \nOther services available on a first come\, first serve basis during public hours:\nLaundry Machine\nShower\nFood Assistance \nIf you need to make an appointment outside of our public hours for any of these services\, please call the church at (401)667-0775
URL:https://lhcc.info/event/clothing-closet-public-hours-2/2025-09-14/
LOCATION:RI
CATEGORIES:Community Events
ATTACH;FMTTYPE=image/png:https://lhcc.info/wp-content/uploads/2025/06/Clothing-Closet-Facebook-Post.png
END:VEVENT
BEGIN:VEVENT
DTSTART;TZID=America/New_York:20250911T160000
DTEND;TZID=America/New_York:20250911T190000
DTSTAMP:20260423T193206
CREATED:20250429T182819Z
LAST-MODIFIED:20250826T185912Z
UID:10011318-1757606400-1757617200@lhcc.info
SUMMARY:Clothing Closet Public Hours
DESCRIPTION:Shop for free clothing for men\, women\, and children during our public hours:\nThursdays 4-7pm\nSundays 12-2pm \nOther services available on a first come\, first serve basis during public hours:\nLaundry Machine\nShower\nFood Assistance \nIf you need to make an appointment outside of our public hours for any of these services\, please call the church at (401)667-0775
URL:https://lhcc.info/event/clothing-closet-public-hours-3/2025-09-11/
LOCATION:RI
CATEGORIES:Community Events
ATTACH;FMTTYPE=image/png:https://lhcc.info/wp-content/uploads/2025/06/Clothing-Closet-Facebook-Post.png
END:VEVENT
BEGIN:VEVENT
DTSTART;TZID=America/New_York:20250907T120000
DTEND;TZID=America/New_York:20250907T140000
DTSTAMP:20260423T193206
CREATED:20250612T191941Z
LAST-MODIFIED:20250826T190024Z
UID:10011334-1757246400-1757253600@lhcc.info
SUMMARY:Clothing Closet Public Hours
DESCRIPTION:Shop for free clothing for men\, women\, and children during our public hours:\nThursdays 4-7pm\nSundays 12-2pm \nOther services available on a first come\, first serve basis during public hours:\nLaundry Machine\nShower\nFood Assistance \nIf you need to make an appointment outside of our public hours for any of these services\, please call the church at (401)667-0775
URL:https://lhcc.info/event/clothing-closet-public-hours-2/2025-09-07/
LOCATION:RI
CATEGORIES:Community Events
ATTACH;FMTTYPE=image/png:https://lhcc.info/wp-content/uploads/2025/06/Clothing-Closet-Facebook-Post.png
END:VEVENT
BEGIN:VEVENT
DTSTART;TZID=America/New_York:20250904T160000
DTEND;TZID=America/New_York:20250904T190000
DTSTAMP:20260423T193206
CREATED:20250429T182819Z
LAST-MODIFIED:20250826T185912Z
UID:10011317-1757001600-1757012400@lhcc.info
SUMMARY:Clothing Closet Public Hours
DESCRIPTION:Shop for free clothing for men\, women\, and children during our public hours:\nThursdays 4-7pm\nSundays 12-2pm \nOther services available on a first come\, first serve basis during public hours:\nLaundry Machine\nShower\nFood Assistance \nIf you need to make an appointment outside of our public hours for any of these services\, please call the church at (401)667-0775
URL:https://lhcc.info/event/clothing-closet-public-hours-3/2025-09-04/
LOCATION:RI
CATEGORIES:Community Events
ATTACH;FMTTYPE=image/png:https://lhcc.info/wp-content/uploads/2025/06/Clothing-Closet-Facebook-Post.png
END:VEVENT
BEGIN:VEVENT
DTSTART;TZID=America/New_York:20250831T120000
DTEND;TZID=America/New_York:20250831T140000
DTSTAMP:20260423T193206
CREATED:20250612T191941Z
LAST-MODIFIED:20250826T190024Z
UID:10011333-1756641600-1756648800@lhcc.info
SUMMARY:Clothing Closet Public Hours
DESCRIPTION:Shop for free clothing for men\, women\, and children during our public hours:\nThursdays 4-7pm\nSundays 12-2pm \nOther services available on a first come\, first serve basis during public hours:\nLaundry Machine\nShower\nFood Assistance \nIf you need to make an appointment outside of our public hours for any of these services\, please call the church at (401)667-0775
URL:https://lhcc.info/event/clothing-closet-public-hours-2/2025-08-31/
LOCATION:RI
CATEGORIES:Community Events
ATTACH;FMTTYPE=image/png:https://lhcc.info/wp-content/uploads/2025/06/Clothing-Closet-Facebook-Post.png
END:VEVENT
BEGIN:VEVENT
DTSTART;TZID=America/New_York:20250828T160000
DTEND;TZID=America/New_York:20250828T190000
DTSTAMP:20260423T193206
CREATED:20250429T182819Z
LAST-MODIFIED:20250826T185912Z
UID:10011316-1756396800-1756407600@lhcc.info
SUMMARY:Clothing Closet Public Hours
DESCRIPTION:Shop for free clothing for men\, women\, and children during our public hours:\nThursdays 4-7pm\nSundays 12-2pm \nOther services available on a first come\, first serve basis during public hours:\nLaundry Machine\nShower\nFood Assistance \nIf you need to make an appointment outside of our public hours for any of these services\, please call the church at (401)667-0775
URL:https://lhcc.info/event/clothing-closet-public-hours-3/2025-08-28/
LOCATION:RI
CATEGORIES:Community Events
ATTACH;FMTTYPE=image/png:https://lhcc.info/wp-content/uploads/2025/06/Clothing-Closet-Facebook-Post.png
END:VEVENT
BEGIN:VEVENT
DTSTART;TZID=America/New_York:20250824T120000
DTEND;TZID=America/New_York:20250824T140000
DTSTAMP:20260423T193206
CREATED:20250612T191941Z
LAST-MODIFIED:20250826T190024Z
UID:10011332-1756036800-1756044000@lhcc.info
SUMMARY:Clothing Closet Public Hours
DESCRIPTION:Shop for free clothing for men\, women\, and children during our public hours:\nThursdays 4-7pm\nSundays 12-2pm \nOther services available on a first come\, first serve basis during public hours:\nLaundry Machine\nShower\nFood Assistance \nIf you need to make an appointment outside of our public hours for any of these services\, please call the church at (401)667-0775
URL:https://lhcc.info/event/clothing-closet-public-hours-2/2025-08-24/
LOCATION:RI
CATEGORIES:Community Events
ATTACH;FMTTYPE=image/png:https://lhcc.info/wp-content/uploads/2025/06/Clothing-Closet-Facebook-Post.png
END:VEVENT
END:VCALENDAR