BEGIN:VCALENDAR
VERSION:2.0
PRODID:-//Living Hope Christian Church - ECPv6.15.17.1//NONSGML v1.0//EN
CALSCALE:GREGORIAN
METHOD:PUBLISH
X-WR-CALNAME:Living Hope Christian Church
X-ORIGINAL-URL:https://lhcc.info
X-WR-CALDESC:Events for Living Hope Christian Church
REFRESH-INTERVAL;VALUE=DURATION:PT1H
X-Robots-Tag:noindex
X-PUBLISHED-TTL:PT1H
BEGIN:VTIMEZONE
TZID:America/New_York
BEGIN:DAYLIGHT
TZOFFSETFROM:-0500
TZOFFSETTO:-0400
TZNAME:EDT
DTSTART:20150308T070000
END:DAYLIGHT
BEGIN:STANDARD
TZOFFSETFROM:-0400
TZOFFSETTO:-0500
TZNAME:EST
DTSTART:20151101T060000
END:STANDARD
BEGIN:DAYLIGHT
TZOFFSETFROM:-0500
TZOFFSETTO:-0400
TZNAME:EDT
DTSTART:20160313T070000
END:DAYLIGHT
BEGIN:STANDARD
TZOFFSETFROM:-0400
TZOFFSETTO:-0500
TZNAME:EST
DTSTART:20161106T060000
END:STANDARD
BEGIN:DAYLIGHT
TZOFFSETFROM:-0500
TZOFFSETTO:-0400
TZNAME:EDT
DTSTART:20170312T070000
END:DAYLIGHT
BEGIN:STANDARD
TZOFFSETFROM:-0400
TZOFFSETTO:-0500
TZNAME:EST
DTSTART:20171105T060000
END:STANDARD
BEGIN:DAYLIGHT
TZOFFSETFROM:-0500
TZOFFSETTO:-0400
TZNAME:EDT
DTSTART:20180311T070000
END:DAYLIGHT
BEGIN:STANDARD
TZOFFSETFROM:-0400
TZOFFSETTO:-0500
TZNAME:EST
DTSTART:20181104T060000
END:STANDARD
END:VTIMEZONE
BEGIN:VEVENT
DTSTART;TZID=America/New_York:20170226T090000
DTEND;TZID=America/New_York:20170226T120000
DTSTAMP:20260425T121357
CREATED:20170131T155854Z
LAST-MODIFIED:20170131T155854Z
UID:10000090-1488099600-1488110400@lhcc.info
SUMMARY:CareNet RI Baby Bottle Drop-Off
DESCRIPTION:Today is the day to bring your CareNet RI baby bottles back to Living Hope Christian Church. If you didn’t pick up an empty baby bottle to fill with loose change or paper bills\, or a check\, you can still participate\, of course. Put your fundraiser cash/check in a labeled container or envelope\, or even a baby bottle you’ve purchased\, and place it at the CareNet display on the signup table at Living Hope.
URL:https://lhcc.info/event/carenet-ri-baby-bottle-drop-off/
LOCATION:Living Hope Christian Church\, 730 South County Trail\, North Kingstown\, RI\, 02852\, United States
CATEGORIES:Community Events
GEO:41.5556183;-71.5189401
X-APPLE-STRUCTURED-LOCATION;VALUE=URI;X-ADDRESS=Living Hope Christian Church 730 South County Trail North Kingstown RI 02852 United States;X-APPLE-RADIUS=500;X-TITLE=730 South County Trail:geo:-71.5189401,41.5556183
END:VEVENT
BEGIN:VEVENT
DTSTART;TZID=America/New_York:20161210T110000
DTEND;TZID=America/New_York:20161210T130000
DTSTAMP:20260425T121357
CREATED:20161129T045706Z
LAST-MODIFIED:20161202T214651Z
UID:10004082-1481367600-1481374800@lhcc.info
SUMMARY:Christmas for Kingstown Crossings Party
DESCRIPTION:Saturday\, December 10th\, is our Christmas for Kingstown Crossings Party at Living Hope! Members of the College & Career Group have been working hard behind the scenes to fill this year’s event with as much joy as last year’s\, with great games\, delicious food\, and more!  \nWe need unwrapped gifts (value of between $15-$20) for children ages 2 through 12. You’ll find a box for your gifts in the lobby. The FoY Teens will be wrapping and tagging all your gifts Wednesday\, December 7th\, so that’s the deadline! \nLiving Hope family\, please come to the party and reach out to our guests from Kingstown Crossings! And if you’re bringing your own children\, let Pastor Peter know by emailing him.
URL:https://lhcc.info/event/christmas-kingstown-crossings-party/
LOCATION:Living Hope Christian Church\, 730 South County Trail\, North Kingstown\, RI\, 02852\, United States
CATEGORIES:Church Events,Community Events
ATTACH;FMTTYPE=image/jpeg:https://lhcc.info/wp-content/uploads/2015/01/Christmas-for-Kingstown-Crossings-north-kingstown-ri.jpg
GEO:41.5556183;-71.5189401
X-APPLE-STRUCTURED-LOCATION;VALUE=URI;X-ADDRESS=Living Hope Christian Church 730 South County Trail North Kingstown RI 02852 United States;X-APPLE-RADIUS=500;X-TITLE=730 South County Trail:geo:-71.5189401,41.5556183
END:VEVENT
BEGIN:VEVENT
DTSTART;TZID=America/New_York:20161129T180000
DTEND;TZID=America/New_York:20161129T200000
DTSTAMP:20260425T121357
CREATED:20161115T075355Z
LAST-MODIFIED:20161115T075453Z
UID:10004070-1480442400-1480449600@lhcc.info
SUMMARY:John Waller Christmas Tour
DESCRIPTION:Living Hope Christian Church is excited to host Christian singer-songwriter and recording artist John Waller and his family as they bring their Waller Family Christmas Tour through New England! This is a FREE concert. Doors open at 6:30 pm\, so get there early to secure your seats. \nThere will be a free will offering taken for the tour at the concert. \nLearn more about John Waller on his website\, and share our Facebook Event Page to spread the word to all your friends!
URL:https://lhcc.info/event/john-waller-christmas-tour/
LOCATION:Living Hope Christian Church\, 730 South County Trail\, North Kingstown\, RI\, 02852\, United States
CATEGORIES:Church Events,Community Events
ATTACH;FMTTYPE=image/jpeg:https://lhcc.info/wp-content/uploads/2016/11/john-waller-merry-christmas-tour-e1479178524601.jpg
GEO:41.5556183;-71.5189401
X-APPLE-STRUCTURED-LOCATION;VALUE=URI;X-ADDRESS=Living Hope Christian Church 730 South County Trail North Kingstown RI 02852 United States;X-APPLE-RADIUS=500;X-TITLE=730 South County Trail:geo:-71.5189401,41.5556183
END:VEVENT
BEGIN:VEVENT
DTSTART;VALUE=DATE:20161123
DTEND;VALUE=DATE:20161125
DTSTAMP:20260425T121357
CREATED:20161102T225249Z
LAST-MODIFIED:20161112T220217Z
UID:10004069-1479942000-1480028399@lhcc.info
SUMMARY:Thanksgiving Day Dinner
DESCRIPTION:JOIN US at Living Hope Christian Church this Thanksgiving for a wonderful and traditional family-style meal with turkey and all the fixings\, enjoyed in community and friendship as we celebrate our blessings together. \nAll are welcome! So spread the word by sharing our Facebook Event Page\, and inviting your friends\, family\, and neighbors. \nPlease let us know you’ll be there by doing one of the following: \n1) Click “Going” on the Facebook Event page\, and in a comment let us know how many will be joining you.\n2) Sign up on our sign-up table at the church building.\n3) Call 401-667-0775 and leave a voicemail with your name\, phone number\, and the number of guests attending with you. \n*NOTE: If you are a member of Living Hope Christian Church and would like to participate as more than a guest\, also let us know if you’d like to serve in any of the following areas: \nFood Prep\nServer\nDecorate\nSet Up\nClean Up \nLiving Hope Christian Church\n730 South County Trail\nNorth Kingstown\, RI 02852\n401-667-0775
URL:https://lhcc.info/event/thanksgiving-day-dinner/
LOCATION:Living Hope Christian Church\, 730 South County Trail\, North Kingstown\, RI\, 02852\, United States
CATEGORIES:Church Events,Community Events
ATTACH;FMTTYPE=image/jpeg:https://lhcc.info/wp-content/uploads/2016/11/Thanksgiving-Dinner-north-kingstown-ri-church.jpg
GEO:41.5556183;-71.5189401
X-APPLE-STRUCTURED-LOCATION;VALUE=URI;X-ADDRESS=Living Hope Christian Church 730 South County Trail North Kingstown RI 02852 United States;X-APPLE-RADIUS=500;X-TITLE=730 South County Trail:geo:-71.5189401,41.5556183
END:VEVENT
BEGIN:VEVENT
DTSTART;TZID=America/New_York:20161105T170000
DTEND;TZID=America/New_York:20161105T190000
DTSTAMP:20260425T121357
CREATED:20160924T194946Z
LAST-MODIFIED:20160924T194946Z
UID:10000007-1478365200-1478372400@lhcc.info
SUMMARY:Harvest Supper
DESCRIPTION:We are surrounded by God’s blessings\, revealed to us in so many forms! This is the season of thanksgiving\, a time to focus our hearts and attention on all that He has given. At our annual Harvest Supper\, we publicly celebrate God’s blessings and thank Him together as we share in the bountiful provisions from our own kitchens. \nOne of our favorites: The Living Hope Bake-Off! Bake a delicious dessert for our Harvest Supper using autumn-themed ingredients\, and enter it into our competition. What’s YOUR favorite recipe? We can’t wait to taste it! \nPlease sign up at the church\, over on the signup table in the lobby.
URL:https://lhcc.info/event/harvest-supper/
LOCATION:Living Hope Christian Church\, 730 South County Trail\, North Kingstown\, RI\, 02852\, United States
CATEGORIES:Church Events,Community Events
ATTACH;FMTTYPE=image/jpeg:https://lhcc.info/wp-content/uploads/2016/09/harvest-supper-living-hope-christian-church-ri.jpg
GEO:41.5556183;-71.5189401
X-APPLE-STRUCTURED-LOCATION;VALUE=URI;X-ADDRESS=Living Hope Christian Church 730 South County Trail North Kingstown RI 02852 United States;X-APPLE-RADIUS=500;X-TITLE=730 South County Trail:geo:-71.5189401,41.5556183
END:VEVENT
BEGIN:VEVENT
DTSTART;TZID=America/New_York:20161030T163000
DTEND;TZID=America/New_York:20161030T183000
DTSTAMP:20260425T121357
CREATED:20161004T094924Z
LAST-MODIFIED:20161029T174415Z
UID:10004054-1477845000-1477852200@lhcc.info
SUMMARY:Trunk or Treat!
DESCRIPTION:You and your family will have SO much fun at Living Hope Christian Church’s 2nd Annual Trunk-a-Treat!  \nCome out in your costumes and walk through our parking lot\, visiting 20+ cars and minivans decorated to the hilt\, and filled with candy and treats for the kids! If it rains\, we’ll move the whole event indoors!  \nOther Highlights:\nBalloon Animals\nPhoto Station\nPopcorn\nHot Dogs\nApple Cider…\nand Kid-Approved Raffle Prizes!\n\nInvite your friends and neighbors\, and share this event on your Facebook walls. We’re looking forward to seeing you! \nLiving Hope Christian Church\n730 South County Trail\nNorth Kingstown\, RI 02852\n401-667-0775
URL:https://lhcc.info/event/trunk-or-treat/
LOCATION:Living Hope Christian Church\, 730 South County Trail\, North Kingstown\, RI\, 02852\, United States
CATEGORIES:Community Events
ATTACH;FMTTYPE=image/jpeg:https://lhcc.info/wp-content/uploads/2015/01/halloween-event-north-kingstown-trunk-or-treat.jpg
GEO:41.5556183;-71.5189401
X-APPLE-STRUCTURED-LOCATION;VALUE=URI;X-ADDRESS=Living Hope Christian Church 730 South County Trail North Kingstown RI 02852 United States;X-APPLE-RADIUS=500;X-TITLE=730 South County Trail:geo:-71.5189401,41.5556183
END:VEVENT
BEGIN:VEVENT
DTSTART;TZID=America/New_York:20161020T180000
DTEND;TZID=America/New_York:20161020T210000
DTSTAMP:20260425T121357
CREATED:20160921T193533Z
LAST-MODIFIED:20161001T201534Z
UID:10000009-1476986400-1476997200@lhcc.info
SUMMARY:OBB Concert - with Seth & Nirva and Vanessa Honea
DESCRIPTION:In an incredible answer to the prayer of a Fountain of Youth teen 2 years ago\, God has united Ignite Outreach and Living Hope Christian Church to bring Atlanta-based Christian band OBB\, PLUS Seth & Nirva and Vanessa Honea\, to North Kingstown\, Rhode Island! \nTickets are limited\, so get your tickets today! \nTwo ways to get your tickets NOW:\n1) Purchase online at http://igniteoutreach.org/event/obb-with-seth-and-nirva/ \n2) Purchase in person at Living Hope on Sunday mornings from 11:30 am-12:30 pm\, at the FoY Teens display in the lobby \n  \nIf you have any questions\, contact Scott Quillin. \nVIP Tickets: $30\nGeneral Admission: $20\nVIP Entry at 5:30 pm\nDoors Open at 6:30 pm\n Concert Begins at 7 pm\nMUSIC VIDEOS: \n“I Need You” (Official) – OBB\n \n“I Need You” (Live at Camp Berea\, March 2016) \n \n“Brother” (Lyric Video) – Seth & Nirva \n \n“Arms Open Wide” (Live) – Vanessa Honea 
URL:https://lhcc.info/event/obb-concert-seth-nirva-vanessa-honea/
LOCATION:Living Hope Christian Church\, 730 South County Trail\, North Kingstown\, RI\, 02852\, United States
CATEGORIES:Church Events,Community Events
GEO:41.5556183;-71.5189401
X-APPLE-STRUCTURED-LOCATION;VALUE=URI;X-ADDRESS=Living Hope Christian Church 730 South County Trail North Kingstown RI 02852 United States;X-APPLE-RADIUS=500;X-TITLE=730 South County Trail:geo:-71.5189401,41.5556183
END:VEVENT
END:VCALENDAR