BEGIN:VCALENDAR
VERSION:2.0
PRODID:-//Living Hope Christian Church - ECPv6.15.17.1//NONSGML v1.0//EN
CALSCALE:GREGORIAN
METHOD:PUBLISH
X-WR-CALNAME:Living Hope Christian Church
X-ORIGINAL-URL:https://lhcc.info
X-WR-CALDESC:Events for Living Hope Christian Church
REFRESH-INTERVAL;VALUE=DURATION:PT1H
X-Robots-Tag:noindex
X-PUBLISHED-TTL:PT1H
BEGIN:VTIMEZONE
TZID:America/New_York
BEGIN:DAYLIGHT
TZOFFSETFROM:-0500
TZOFFSETTO:-0400
TZNAME:EDT
DTSTART:20240310T070000
END:DAYLIGHT
BEGIN:STANDARD
TZOFFSETFROM:-0400
TZOFFSETTO:-0500
TZNAME:EST
DTSTART:20241103T060000
END:STANDARD
BEGIN:DAYLIGHT
TZOFFSETFROM:-0500
TZOFFSETTO:-0400
TZNAME:EDT
DTSTART:20250309T070000
END:DAYLIGHT
BEGIN:STANDARD
TZOFFSETFROM:-0400
TZOFFSETTO:-0500
TZNAME:EST
DTSTART:20251102T060000
END:STANDARD
BEGIN:DAYLIGHT
TZOFFSETFROM:-0500
TZOFFSETTO:-0400
TZNAME:EDT
DTSTART:20260308T070000
END:DAYLIGHT
BEGIN:STANDARD
TZOFFSETFROM:-0400
TZOFFSETTO:-0500
TZNAME:EST
DTSTART:20261101T060000
END:STANDARD
END:VTIMEZONE
BEGIN:VEVENT
DTSTART;TZID=America/New_York:20250312T120000
DTEND;TZID=America/New_York:20250312T130000
DTSTAMP:20260425T104458
CREATED:20250220T190320Z
LAST-MODIFIED:20250220T190320Z
UID:10007079-1741780800-1741784400@lhcc.info
SUMMARY:Lenten Soup Luncheon
DESCRIPTION:We are excited to be hosting one of the six Lenten Soup Luncheon organized by the North Kingstown Clergy Association on Wednesday\, March 12th from 12-1pm at the church.\nThese lunches are free and open to the public. Donations to benefit the North Kingstown Food Pantry will gladly be accepted that day.\n**If you would be interested in helping by making a soup or bringing bread that day please contact Kelly.\n  \nThis is the complete list of Lenten Soup Luncheons and the locations: \n\nWednesday\, March 5th from 1:30-2:30pm – St. Paul’s Epicopal Church (76 Main Street\, Wickford)\nWednesday\, March 12th from 12-1pm – LHCC (730 So County Trail\, North Kingstown)\nWednesday\, March 19th from 12-1pm – NK United Methodist Church (450 Boston Neck Road\, North Kingstown)\nWednesday\, March 26th from 12-1pm – St Bernard RC Church (275 Tower Hill Road\, North Kiingstown)\nWednesday\, April 2nd from 12-1pm – First Baptist Churc of Wickford (44 Main Street\, Wickford)\nWednesday\, April 9th from 12-1pm – Wickford Seventh Day Adventist (8050 Post road\, North Kingstown)
URL:https://lhcc.info/event/lenten-soup-luncheon/
LOCATION:Living Hope Christian Church\, 730 South County Trail\, North Kingstown\, RI\, 02852\, United States
CATEGORIES:Community Events
ATTACH;FMTTYPE=image/png:https://lhcc.info/wp-content/uploads/2025/02/2025-NK-Lenten-Soup-Luncheon-Flyer-2.png
GEO:41.5556183;-71.5189401
X-APPLE-STRUCTURED-LOCATION;VALUE=URI;X-ADDRESS=Living Hope Christian Church 730 South County Trail North Kingstown RI 02852 United States;X-APPLE-RADIUS=500;X-TITLE=730 South County Trail:geo:-71.5189401,41.5556183
END:VEVENT
BEGIN:VEVENT
DTSTART;TZID=America/New_York:20250501T160000
DTEND;TZID=America/New_York:20250501T190000
DTSTAMP:20260425T104458
CREATED:20250429T182819Z
LAST-MODIFIED:20250826T185912Z
UID:10005994-1746115200-1746126000@lhcc.info
SUMMARY:Clothing Closet Public Hours
DESCRIPTION:Shop for free clothing for men\, women\, and children during our public hours:\nThursdays 4-7pm\nSundays 12-2pm \nOther services available on a first come\, first serve basis during public hours:\nLaundry Machine\nShower\nFood Assistance \nIf you need to make an appointment outside of our public hours for any of these services\, please call the church at (401)667-0775
URL:https://lhcc.info/event/clothing-closet-public-hours-3/2025-05-01/
LOCATION:RI
CATEGORIES:Community Events
ATTACH;FMTTYPE=image/png:https://lhcc.info/wp-content/uploads/2025/06/Clothing-Closet-Facebook-Post.png
END:VEVENT
BEGIN:VEVENT
DTSTART;TZID=America/New_York:20250504T123000
DTEND;TZID=America/New_York:20250504T143000
DTSTAMP:20260425T104458
CREATED:20250606T150556Z
LAST-MODIFIED:20250606T150556Z
UID:10006009-1746361800-1746369000@lhcc.info
SUMMARY:Clothing Closet Public Hours
DESCRIPTION:Shop for free clothing for men\, women\, and children during our public hours:\nThursdays 4-7pm\nSundays 12:30-2:30pm\nOther services available on a first come\, first serve basis during public hours:\nLaundry Machine\nShower\nGrab-n-go Bagged Lunches\nIf you need to make an appointment outside of our public hours for any of these services\, please call the church at (401)667-0775
URL:https://lhcc.info/event/clothing-closet-public-hours/2025-05-04/
LOCATION:RI
CATEGORIES:Community Events
ATTACH;FMTTYPE=image/png:https://lhcc.info/wp-content/uploads/2025/04/Clothing-Closet-Facebook-Post.png
END:VEVENT
BEGIN:VEVENT
DTSTART;TZID=America/New_York:20250508T160000
DTEND;TZID=America/New_York:20250508T190000
DTSTAMP:20260425T104458
CREATED:20250429T182819Z
LAST-MODIFIED:20250826T185912Z
UID:10005995-1746720000-1746730800@lhcc.info
SUMMARY:Clothing Closet Public Hours
DESCRIPTION:Shop for free clothing for men\, women\, and children during our public hours:\nThursdays 4-7pm\nSundays 12-2pm \nOther services available on a first come\, first serve basis during public hours:\nLaundry Machine\nShower\nFood Assistance \nIf you need to make an appointment outside of our public hours for any of these services\, please call the church at (401)667-0775
URL:https://lhcc.info/event/clothing-closet-public-hours-3/2025-05-08/
LOCATION:RI
CATEGORIES:Community Events
ATTACH;FMTTYPE=image/png:https://lhcc.info/wp-content/uploads/2025/06/Clothing-Closet-Facebook-Post.png
END:VEVENT
BEGIN:VEVENT
DTSTART;TZID=America/New_York:20250515T160000
DTEND;TZID=America/New_York:20250515T190000
DTSTAMP:20260425T104458
CREATED:20250429T182819Z
LAST-MODIFIED:20250826T185912Z
UID:10005996-1747324800-1747335600@lhcc.info
SUMMARY:Clothing Closet Public Hours
DESCRIPTION:Shop for free clothing for men\, women\, and children during our public hours:\nThursdays 4-7pm\nSundays 12-2pm \nOther services available on a first come\, first serve basis during public hours:\nLaundry Machine\nShower\nFood Assistance \nIf you need to make an appointment outside of our public hours for any of these services\, please call the church at (401)667-0775
URL:https://lhcc.info/event/clothing-closet-public-hours-3/2025-05-15/
LOCATION:RI
CATEGORIES:Community Events
ATTACH;FMTTYPE=image/png:https://lhcc.info/wp-content/uploads/2025/06/Clothing-Closet-Facebook-Post.png
END:VEVENT
BEGIN:VEVENT
DTSTART;TZID=America/New_York:20250518T123000
DTEND;TZID=America/New_York:20250518T143000
DTSTAMP:20260425T104458
CREATED:20250606T150556Z
LAST-MODIFIED:20250606T150556Z
UID:10006010-1747571400-1747578600@lhcc.info
SUMMARY:Clothing Closet Public Hours
DESCRIPTION:Shop for free clothing for men\, women\, and children during our public hours:\nThursdays 4-7pm\nSundays 12:30-2:30pm\nOther services available on a first come\, first serve basis during public hours:\nLaundry Machine\nShower\nGrab-n-go Bagged Lunches\nIf you need to make an appointment outside of our public hours for any of these services\, please call the church at (401)667-0775
URL:https://lhcc.info/event/clothing-closet-public-hours/2025-05-18/
LOCATION:RI
CATEGORIES:Community Events
ATTACH;FMTTYPE=image/png:https://lhcc.info/wp-content/uploads/2025/04/Clothing-Closet-Facebook-Post.png
END:VEVENT
BEGIN:VEVENT
DTSTART;TZID=America/New_York:20250522T160000
DTEND;TZID=America/New_York:20250522T190000
DTSTAMP:20260425T104458
CREATED:20250429T182819Z
LAST-MODIFIED:20250826T185912Z
UID:10005997-1747929600-1747940400@lhcc.info
SUMMARY:Clothing Closet Public Hours
DESCRIPTION:Shop for free clothing for men\, women\, and children during our public hours:\nThursdays 4-7pm\nSundays 12-2pm \nOther services available on a first come\, first serve basis during public hours:\nLaundry Machine\nShower\nFood Assistance \nIf you need to make an appointment outside of our public hours for any of these services\, please call the church at (401)667-0775
URL:https://lhcc.info/event/clothing-closet-public-hours-3/2025-05-22/
LOCATION:RI
CATEGORIES:Community Events
ATTACH;FMTTYPE=image/png:https://lhcc.info/wp-content/uploads/2025/06/Clothing-Closet-Facebook-Post.png
END:VEVENT
BEGIN:VEVENT
DTSTART;TZID=America/New_York:20250525T123000
DTEND;TZID=America/New_York:20250525T143000
DTSTAMP:20260425T104458
CREATED:20250606T150556Z
LAST-MODIFIED:20250606T150556Z
UID:10006011-1748176200-1748183400@lhcc.info
SUMMARY:Clothing Closet Public Hours
DESCRIPTION:Shop for free clothing for men\, women\, and children during our public hours:\nThursdays 4-7pm\nSundays 12:30-2:30pm\nOther services available on a first come\, first serve basis during public hours:\nLaundry Machine\nShower\nGrab-n-go Bagged Lunches\nIf you need to make an appointment outside of our public hours for any of these services\, please call the church at (401)667-0775
URL:https://lhcc.info/event/clothing-closet-public-hours/2025-05-25/
LOCATION:RI
CATEGORIES:Community Events
ATTACH;FMTTYPE=image/png:https://lhcc.info/wp-content/uploads/2025/04/Clothing-Closet-Facebook-Post.png
END:VEVENT
BEGIN:VEVENT
DTSTART;TZID=America/New_York:20250529T160000
DTEND;TZID=America/New_York:20250529T190000
DTSTAMP:20260425T104458
CREATED:20250429T182819Z
LAST-MODIFIED:20250826T185912Z
UID:10005998-1748534400-1748545200@lhcc.info
SUMMARY:Clothing Closet Public Hours
DESCRIPTION:Shop for free clothing for men\, women\, and children during our public hours:\nThursdays 4-7pm\nSundays 12-2pm \nOther services available on a first come\, first serve basis during public hours:\nLaundry Machine\nShower\nFood Assistance \nIf you need to make an appointment outside of our public hours for any of these services\, please call the church at (401)667-0775
URL:https://lhcc.info/event/clothing-closet-public-hours-3/2025-05-29/
LOCATION:RI
CATEGORIES:Community Events
ATTACH;FMTTYPE=image/png:https://lhcc.info/wp-content/uploads/2025/06/Clothing-Closet-Facebook-Post.png
END:VEVENT
BEGIN:VEVENT
DTSTART;TZID=America/New_York:20250601T123000
DTEND;TZID=America/New_York:20250601T143000
DTSTAMP:20260425T104458
CREATED:20250606T150556Z
LAST-MODIFIED:20250606T150556Z
UID:10006012-1748781000-1748788200@lhcc.info
SUMMARY:Clothing Closet Public Hours
DESCRIPTION:Shop for free clothing for men\, women\, and children during our public hours:\nThursdays 4-7pm\nSundays 12:30-2:30pm\nOther services available on a first come\, first serve basis during public hours:\nLaundry Machine\nShower\nGrab-n-go Bagged Lunches\nIf you need to make an appointment outside of our public hours for any of these services\, please call the church at (401)667-0775
URL:https://lhcc.info/event/clothing-closet-public-hours/2025-06-01/
LOCATION:RI
CATEGORIES:Community Events
ATTACH;FMTTYPE=image/png:https://lhcc.info/wp-content/uploads/2025/04/Clothing-Closet-Facebook-Post.png
END:VEVENT
BEGIN:VEVENT
DTSTART;TZID=America/New_York:20250605T160000
DTEND;TZID=America/New_York:20250605T190000
DTSTAMP:20260425T104458
CREATED:20250429T182819Z
LAST-MODIFIED:20250826T185912Z
UID:10005999-1749139200-1749150000@lhcc.info
SUMMARY:Clothing Closet Public Hours
DESCRIPTION:Shop for free clothing for men\, women\, and children during our public hours:\nThursdays 4-7pm\nSundays 12-2pm \nOther services available on a first come\, first serve basis during public hours:\nLaundry Machine\nShower\nFood Assistance \nIf you need to make an appointment outside of our public hours for any of these services\, please call the church at (401)667-0775
URL:https://lhcc.info/event/clothing-closet-public-hours-3/2025-06-05/
LOCATION:RI
CATEGORIES:Community Events
ATTACH;FMTTYPE=image/png:https://lhcc.info/wp-content/uploads/2025/06/Clothing-Closet-Facebook-Post.png
END:VEVENT
BEGIN:VEVENT
DTSTART;TZID=America/New_York:20250608T123000
DTEND;TZID=America/New_York:20250608T143000
DTSTAMP:20260425T104458
CREATED:20250606T150556Z
LAST-MODIFIED:20250606T150556Z
UID:10006013-1749385800-1749393000@lhcc.info
SUMMARY:Clothing Closet Public Hours
DESCRIPTION:Shop for free clothing for men\, women\, and children during our public hours:\nThursdays 4-7pm\nSundays 12:30-2:30pm\nOther services available on a first come\, first serve basis during public hours:\nLaundry Machine\nShower\nGrab-n-go Bagged Lunches\nIf you need to make an appointment outside of our public hours for any of these services\, please call the church at (401)667-0775
URL:https://lhcc.info/event/clothing-closet-public-hours/2025-06-08/
LOCATION:RI
CATEGORIES:Community Events
ATTACH;FMTTYPE=image/png:https://lhcc.info/wp-content/uploads/2025/04/Clothing-Closet-Facebook-Post.png
END:VEVENT
BEGIN:VEVENT
DTSTART;TZID=America/New_York:20250612T160000
DTEND;TZID=America/New_York:20250612T190000
DTSTAMP:20260425T104458
CREATED:20250429T182819Z
LAST-MODIFIED:20250826T185912Z
UID:10006000-1749744000-1749754800@lhcc.info
SUMMARY:Clothing Closet Public Hours
DESCRIPTION:Shop for free clothing for men\, women\, and children during our public hours:\nThursdays 4-7pm\nSundays 12-2pm \nOther services available on a first come\, first serve basis during public hours:\nLaundry Machine\nShower\nFood Assistance \nIf you need to make an appointment outside of our public hours for any of these services\, please call the church at (401)667-0775
URL:https://lhcc.info/event/clothing-closet-public-hours-3/2025-06-12/
LOCATION:RI
CATEGORIES:Community Events
ATTACH;FMTTYPE=image/png:https://lhcc.info/wp-content/uploads/2025/06/Clothing-Closet-Facebook-Post.png
END:VEVENT
BEGIN:VEVENT
DTSTART;TZID=America/New_York:20250619T160000
DTEND;TZID=America/New_York:20250619T190000
DTSTAMP:20260425T104458
CREATED:20250429T182819Z
LAST-MODIFIED:20250826T185912Z
UID:10006001-1750348800-1750359600@lhcc.info
SUMMARY:Clothing Closet Public Hours
DESCRIPTION:Shop for free clothing for men\, women\, and children during our public hours:\nThursdays 4-7pm\nSundays 12-2pm \nOther services available on a first come\, first serve basis during public hours:\nLaundry Machine\nShower\nFood Assistance \nIf you need to make an appointment outside of our public hours for any of these services\, please call the church at (401)667-0775
URL:https://lhcc.info/event/clothing-closet-public-hours-3/2025-06-19/
LOCATION:RI
CATEGORIES:Community Events
ATTACH;FMTTYPE=image/png:https://lhcc.info/wp-content/uploads/2025/06/Clothing-Closet-Facebook-Post.png
END:VEVENT
BEGIN:VEVENT
DTSTART;TZID=America/New_York:20250622T120000
DTEND;TZID=America/New_York:20250622T140000
DTSTAMP:20260425T104458
CREATED:20250612T191941Z
LAST-MODIFIED:20250826T190024Z
UID:10011307-1750593600-1750600800@lhcc.info
SUMMARY:Clothing Closet Public Hours
DESCRIPTION:Shop for free clothing for men\, women\, and children during our public hours:\nThursdays 4-7pm\nSundays 12-2pm \nOther services available on a first come\, first serve basis during public hours:\nLaundry Machine\nShower\nFood Assistance \nIf you need to make an appointment outside of our public hours for any of these services\, please call the church at (401)667-0775
URL:https://lhcc.info/event/clothing-closet-public-hours-2/2025-06-22/
LOCATION:RI
CATEGORIES:Community Events
ATTACH;FMTTYPE=image/png:https://lhcc.info/wp-content/uploads/2025/06/Clothing-Closet-Facebook-Post.png
END:VEVENT
BEGIN:VEVENT
DTSTART;TZID=America/New_York:20250626T160000
DTEND;TZID=America/New_York:20250626T190000
DTSTAMP:20260425T104458
CREATED:20250429T182819Z
LAST-MODIFIED:20250826T185912Z
UID:10006002-1750953600-1750964400@lhcc.info
SUMMARY:Clothing Closet Public Hours
DESCRIPTION:Shop for free clothing for men\, women\, and children during our public hours:\nThursdays 4-7pm\nSundays 12-2pm \nOther services available on a first come\, first serve basis during public hours:\nLaundry Machine\nShower\nFood Assistance \nIf you need to make an appointment outside of our public hours for any of these services\, please call the church at (401)667-0775
URL:https://lhcc.info/event/clothing-closet-public-hours-3/2025-06-26/
LOCATION:RI
CATEGORIES:Community Events
ATTACH;FMTTYPE=image/png:https://lhcc.info/wp-content/uploads/2025/06/Clothing-Closet-Facebook-Post.png
END:VEVENT
BEGIN:VEVENT
DTSTART;TZID=America/New_York:20250629T100000
DTEND;TZID=America/New_York:20250629T150000
DTSTAMP:20260425T104458
CREATED:20250522T195203Z
LAST-MODIFIED:20250522T195203Z
UID:10006023-1751191200-1751209200@lhcc.info
SUMMARY:Summer Celebration
DESCRIPTION:Sunday\, June 29th will be our annual outdoor service at 10am followed by a great day of FREE family fun! \nWe will have Clam Cakes & Chowder\, Hot Dogs\, Music\, Bounce House\, Face Painting\, Games\, Crafts\, and more! \nDon’t miss the annual Cornhole Tournament where you can win CASH prizes! \nInvite your family and friends and join us at the NK Bandstand (30 Beach Street\, North Kingstown\, RI o28532)
URL:https://lhcc.info/event/summer-celebration/
LOCATION:North Kingstown Town Beach\, 10 Beach Street\, North Kingstown\, RI\, 02852\, United States
CATEGORIES:Community Events
ATTACH;FMTTYPE=image/png:https://lhcc.info/wp-content/uploads/2025/05/Celebration.png
GEO:41.565885;-71.443897
X-APPLE-STRUCTURED-LOCATION;VALUE=URI;X-ADDRESS=North Kingstown Town Beach 10 Beach Street North Kingstown RI 02852 United States;X-APPLE-RADIUS=500;X-TITLE=10 Beach Street:geo:-71.443897,41.565885
END:VEVENT
BEGIN:VEVENT
DTSTART;TZID=America/New_York:20250629T120000
DTEND;TZID=America/New_York:20250629T140000
DTSTAMP:20260425T104458
CREATED:20250612T191941Z
LAST-MODIFIED:20250826T190024Z
UID:10011308-1751198400-1751205600@lhcc.info
SUMMARY:Clothing Closet Public Hours
DESCRIPTION:Shop for free clothing for men\, women\, and children during our public hours:\nThursdays 4-7pm\nSundays 12-2pm \nOther services available on a first come\, first serve basis during public hours:\nLaundry Machine\nShower\nFood Assistance \nIf you need to make an appointment outside of our public hours for any of these services\, please call the church at (401)667-0775
URL:https://lhcc.info/event/clothing-closet-public-hours-2/2025-06-29/
LOCATION:RI
CATEGORIES:Community Events
ATTACH;FMTTYPE=image/png:https://lhcc.info/wp-content/uploads/2025/06/Clothing-Closet-Facebook-Post.png
END:VEVENT
BEGIN:VEVENT
DTSTART;TZID=America/New_York:20250703T160000
DTEND;TZID=America/New_York:20250703T190000
DTSTAMP:20260425T104458
CREATED:20250429T182819Z
LAST-MODIFIED:20250826T185912Z
UID:10006003-1751558400-1751569200@lhcc.info
SUMMARY:Clothing Closet Public Hours
DESCRIPTION:Shop for free clothing for men\, women\, and children during our public hours:\nThursdays 4-7pm\nSundays 12-2pm \nOther services available on a first come\, first serve basis during public hours:\nLaundry Machine\nShower\nFood Assistance \nIf you need to make an appointment outside of our public hours for any of these services\, please call the church at (401)667-0775
URL:https://lhcc.info/event/clothing-closet-public-hours-3/2025-07-03/
LOCATION:RI
CATEGORIES:Community Events
ATTACH;FMTTYPE=image/png:https://lhcc.info/wp-content/uploads/2025/06/Clothing-Closet-Facebook-Post.png
END:VEVENT
BEGIN:VEVENT
DTSTART;TZID=America/New_York:20250706T120000
DTEND;TZID=America/New_York:20250706T140000
DTSTAMP:20260425T104458
CREATED:20250612T191941Z
LAST-MODIFIED:20250826T190024Z
UID:10011309-1751803200-1751810400@lhcc.info
SUMMARY:Clothing Closet Public Hours
DESCRIPTION:Shop for free clothing for men\, women\, and children during our public hours:\nThursdays 4-7pm\nSundays 12-2pm \nOther services available on a first come\, first serve basis during public hours:\nLaundry Machine\nShower\nFood Assistance \nIf you need to make an appointment outside of our public hours for any of these services\, please call the church at (401)667-0775
URL:https://lhcc.info/event/clothing-closet-public-hours-2/2025-07-06/
LOCATION:RI
CATEGORIES:Community Events
ATTACH;FMTTYPE=image/png:https://lhcc.info/wp-content/uploads/2025/06/Clothing-Closet-Facebook-Post.png
END:VEVENT
BEGIN:VEVENT
DTSTART;TZID=America/New_York:20250710T160000
DTEND;TZID=America/New_York:20250710T190000
DTSTAMP:20260425T104458
CREATED:20250429T182819Z
LAST-MODIFIED:20250826T185912Z
UID:10006004-1752163200-1752174000@lhcc.info
SUMMARY:Clothing Closet Public Hours
DESCRIPTION:Shop for free clothing for men\, women\, and children during our public hours:\nThursdays 4-7pm\nSundays 12-2pm \nOther services available on a first come\, first serve basis during public hours:\nLaundry Machine\nShower\nFood Assistance \nIf you need to make an appointment outside of our public hours for any of these services\, please call the church at (401)667-0775
URL:https://lhcc.info/event/clothing-closet-public-hours-3/2025-07-10/
LOCATION:RI
CATEGORIES:Community Events
ATTACH;FMTTYPE=image/png:https://lhcc.info/wp-content/uploads/2025/06/Clothing-Closet-Facebook-Post.png
END:VEVENT
BEGIN:VEVENT
DTSTART;TZID=America/New_York:20250713T120000
DTEND;TZID=America/New_York:20250713T140000
DTSTAMP:20260425T104458
CREATED:20250612T191941Z
LAST-MODIFIED:20250826T190024Z
UID:10011310-1752408000-1752415200@lhcc.info
SUMMARY:Clothing Closet Public Hours
DESCRIPTION:Shop for free clothing for men\, women\, and children during our public hours:\nThursdays 4-7pm\nSundays 12-2pm \nOther services available on a first come\, first serve basis during public hours:\nLaundry Machine\nShower\nFood Assistance \nIf you need to make an appointment outside of our public hours for any of these services\, please call the church at (401)667-0775
URL:https://lhcc.info/event/clothing-closet-public-hours-2/2025-07-13/
LOCATION:RI
CATEGORIES:Community Events
ATTACH;FMTTYPE=image/png:https://lhcc.info/wp-content/uploads/2025/06/Clothing-Closet-Facebook-Post.png
END:VEVENT
BEGIN:VEVENT
DTSTART;TZID=America/New_York:20250717T160000
DTEND;TZID=America/New_York:20250717T190000
DTSTAMP:20260425T104458
CREATED:20250429T182819Z
LAST-MODIFIED:20250826T185912Z
UID:10006005-1752768000-1752778800@lhcc.info
SUMMARY:Clothing Closet Public Hours
DESCRIPTION:Shop for free clothing for men\, women\, and children during our public hours:\nThursdays 4-7pm\nSundays 12-2pm \nOther services available on a first come\, first serve basis during public hours:\nLaundry Machine\nShower\nFood Assistance \nIf you need to make an appointment outside of our public hours for any of these services\, please call the church at (401)667-0775
URL:https://lhcc.info/event/clothing-closet-public-hours-3/2025-07-17/
LOCATION:RI
CATEGORIES:Community Events
ATTACH;FMTTYPE=image/png:https://lhcc.info/wp-content/uploads/2025/06/Clothing-Closet-Facebook-Post.png
END:VEVENT
BEGIN:VEVENT
DTSTART;TZID=America/New_York:20250720T120000
DTEND;TZID=America/New_York:20250720T140000
DTSTAMP:20260425T104458
CREATED:20250612T191941Z
LAST-MODIFIED:20250826T190024Z
UID:10011311-1753012800-1753020000@lhcc.info
SUMMARY:Clothing Closet Public Hours
DESCRIPTION:Shop for free clothing for men\, women\, and children during our public hours:\nThursdays 4-7pm\nSundays 12-2pm \nOther services available on a first come\, first serve basis during public hours:\nLaundry Machine\nShower\nFood Assistance \nIf you need to make an appointment outside of our public hours for any of these services\, please call the church at (401)667-0775
URL:https://lhcc.info/event/clothing-closet-public-hours-2/2025-07-20/
LOCATION:RI
CATEGORIES:Community Events
ATTACH;FMTTYPE=image/png:https://lhcc.info/wp-content/uploads/2025/06/Clothing-Closet-Facebook-Post.png
END:VEVENT
BEGIN:VEVENT
DTSTART;TZID=America/New_York:20250724T160000
DTEND;TZID=America/New_York:20250724T190000
DTSTAMP:20260425T104458
CREATED:20250429T182819Z
LAST-MODIFIED:20250826T185912Z
UID:10006006-1753372800-1753383600@lhcc.info
SUMMARY:Clothing Closet Public Hours
DESCRIPTION:Shop for free clothing for men\, women\, and children during our public hours:\nThursdays 4-7pm\nSundays 12-2pm \nOther services available on a first come\, first serve basis during public hours:\nLaundry Machine\nShower\nFood Assistance \nIf you need to make an appointment outside of our public hours for any of these services\, please call the church at (401)667-0775
URL:https://lhcc.info/event/clothing-closet-public-hours-3/2025-07-24/
LOCATION:RI
CATEGORIES:Community Events
ATTACH;FMTTYPE=image/png:https://lhcc.info/wp-content/uploads/2025/06/Clothing-Closet-Facebook-Post.png
END:VEVENT
BEGIN:VEVENT
DTSTART;TZID=America/New_York:20250727T120000
DTEND;TZID=America/New_York:20250727T140000
DTSTAMP:20260425T104458
CREATED:20250612T191941Z
LAST-MODIFIED:20250826T190024Z
UID:10011312-1753617600-1753624800@lhcc.info
SUMMARY:Clothing Closet Public Hours
DESCRIPTION:Shop for free clothing for men\, women\, and children during our public hours:\nThursdays 4-7pm\nSundays 12-2pm \nOther services available on a first come\, first serve basis during public hours:\nLaundry Machine\nShower\nFood Assistance \nIf you need to make an appointment outside of our public hours for any of these services\, please call the church at (401)667-0775
URL:https://lhcc.info/event/clothing-closet-public-hours-2/2025-07-27/
LOCATION:RI
CATEGORIES:Community Events
ATTACH;FMTTYPE=image/png:https://lhcc.info/wp-content/uploads/2025/06/Clothing-Closet-Facebook-Post.png
END:VEVENT
BEGIN:VEVENT
DTSTART;TZID=America/New_York:20250731T160000
DTEND;TZID=America/New_York:20250731T190000
DTSTAMP:20260425T104458
CREATED:20250429T182819Z
LAST-MODIFIED:20250826T185912Z
UID:10006007-1753977600-1753988400@lhcc.info
SUMMARY:Clothing Closet Public Hours
DESCRIPTION:Shop for free clothing for men\, women\, and children during our public hours:\nThursdays 4-7pm\nSundays 12-2pm \nOther services available on a first come\, first serve basis during public hours:\nLaundry Machine\nShower\nFood Assistance \nIf you need to make an appointment outside of our public hours for any of these services\, please call the church at (401)667-0775
URL:https://lhcc.info/event/clothing-closet-public-hours-3/2025-07-31/
LOCATION:RI
CATEGORIES:Community Events
ATTACH;FMTTYPE=image/png:https://lhcc.info/wp-content/uploads/2025/06/Clothing-Closet-Facebook-Post.png
END:VEVENT
BEGIN:VEVENT
DTSTART;TZID=America/New_York:20250803T120000
DTEND;TZID=America/New_York:20250803T140000
DTSTAMP:20260425T104458
CREATED:20250612T191941Z
LAST-MODIFIED:20250826T190024Z
UID:10011329-1754222400-1754229600@lhcc.info
SUMMARY:Clothing Closet Public Hours
DESCRIPTION:Shop for free clothing for men\, women\, and children during our public hours:\nThursdays 4-7pm\nSundays 12-2pm \nOther services available on a first come\, first serve basis during public hours:\nLaundry Machine\nShower\nFood Assistance \nIf you need to make an appointment outside of our public hours for any of these services\, please call the church at (401)667-0775
URL:https://lhcc.info/event/clothing-closet-public-hours-2/2025-08-03/
LOCATION:RI
CATEGORIES:Community Events
ATTACH;FMTTYPE=image/png:https://lhcc.info/wp-content/uploads/2025/06/Clothing-Closet-Facebook-Post.png
END:VEVENT
BEGIN:VEVENT
DTSTART;TZID=America/New_York:20250807T160000
DTEND;TZID=America/New_York:20250807T190000
DTSTAMP:20260425T104458
CREATED:20250429T182819Z
LAST-MODIFIED:20250826T185912Z
UID:10011313-1754582400-1754593200@lhcc.info
SUMMARY:Clothing Closet Public Hours
DESCRIPTION:Shop for free clothing for men\, women\, and children during our public hours:\nThursdays 4-7pm\nSundays 12-2pm \nOther services available on a first come\, first serve basis during public hours:\nLaundry Machine\nShower\nFood Assistance \nIf you need to make an appointment outside of our public hours for any of these services\, please call the church at (401)667-0775
URL:https://lhcc.info/event/clothing-closet-public-hours-3/2025-08-07/
LOCATION:RI
CATEGORIES:Community Events
ATTACH;FMTTYPE=image/png:https://lhcc.info/wp-content/uploads/2025/06/Clothing-Closet-Facebook-Post.png
END:VEVENT
BEGIN:VEVENT
DTSTART;TZID=America/New_York:20250810T120000
DTEND;TZID=America/New_York:20250810T140000
DTSTAMP:20260425T104458
CREATED:20250612T191941Z
LAST-MODIFIED:20250826T190024Z
UID:10011330-1754827200-1754834400@lhcc.info
SUMMARY:Clothing Closet Public Hours
DESCRIPTION:Shop for free clothing for men\, women\, and children during our public hours:\nThursdays 4-7pm\nSundays 12-2pm \nOther services available on a first come\, first serve basis during public hours:\nLaundry Machine\nShower\nFood Assistance \nIf you need to make an appointment outside of our public hours for any of these services\, please call the church at (401)667-0775
URL:https://lhcc.info/event/clothing-closet-public-hours-2/2025-08-10/
LOCATION:RI
CATEGORIES:Community Events
ATTACH;FMTTYPE=image/png:https://lhcc.info/wp-content/uploads/2025/06/Clothing-Closet-Facebook-Post.png
END:VEVENT
END:VCALENDAR