BEGIN:VCALENDAR
VERSION:2.0
PRODID:-//Living Hope Christian Church - ECPv6.15.17.1//NONSGML v1.0//EN
CALSCALE:GREGORIAN
METHOD:PUBLISH
X-ORIGINAL-URL:https://lhcc.info
X-WR-CALDESC:Events for Living Hope Christian Church
REFRESH-INTERVAL;VALUE=DURATION:PT1H
X-Robots-Tag:noindex
X-PUBLISHED-TTL:PT1H
BEGIN:VTIMEZONE
TZID:America/New_York
BEGIN:DAYLIGHT
TZOFFSETFROM:-0500
TZOFFSETTO:-0400
TZNAME:EDT
DTSTART:20250309T070000
END:DAYLIGHT
BEGIN:STANDARD
TZOFFSETFROM:-0400
TZOFFSETTO:-0500
TZNAME:EST
DTSTART:20251102T060000
END:STANDARD
BEGIN:DAYLIGHT
TZOFFSETFROM:-0500
TZOFFSETTO:-0400
TZNAME:EDT
DTSTART:20260308T070000
END:DAYLIGHT
BEGIN:STANDARD
TZOFFSETFROM:-0400
TZOFFSETTO:-0500
TZNAME:EST
DTSTART:20261101T060000
END:STANDARD
BEGIN:DAYLIGHT
TZOFFSETFROM:-0500
TZOFFSETTO:-0400
TZNAME:EDT
DTSTART:20270314T070000
END:DAYLIGHT
BEGIN:STANDARD
TZOFFSETFROM:-0400
TZOFFSETTO:-0500
TZNAME:EST
DTSTART:20271107T060000
END:STANDARD
END:VTIMEZONE
BEGIN:VEVENT
DTSTART;TZID=America/New_York:20260706T190000
DTEND;TZID=America/New_York:20260706T203000
DTSTAMP:20260423T163509
CREATED:20260122T202425Z
LAST-MODIFIED:20260122T202425Z
UID:10011605-1783364400-1783369800@lhcc.info
SUMMARY:Creating Hope Paint  Night
DESCRIPTION:Our monthly Creating Hope Paint Nights hosted by Tony Mattera are a wonderful time for anyone 13 years or older to come relax\, fellowship\, and explore your creative side. There is no artistic skill required\, just a desire to try your best and see how God might help you create a masterpiece each month. \nWe start promptly at 7pm and finish at 8:30pm. There is no cost to join but we do ask that you Sign Up in advance so we can ensure seating and materials for everyone there.
URL:https://lhcc.info/event/creating-hope-paint-night-5/2026-07-06/
LOCATION:Living Hope Christian Church\, 730 South County Trail\, North Kingstown\, RI\, 02852\, United States
CATEGORIES:Church Events,Community Events
ATTACH;FMTTYPE=image/png:https://lhcc.info/wp-content/uploads/2024/06/paint-night.png
GEO:41.5556183;-71.5189401
X-APPLE-STRUCTURED-LOCATION;VALUE=URI;X-ADDRESS=Living Hope Christian Church 730 South County Trail North Kingstown RI 02852 United States;X-APPLE-RADIUS=500;X-TITLE=730 South County Trail:geo:-71.5189401,41.5556183
END:VEVENT
BEGIN:VEVENT
DTSTART;TZID=America/New_York:20260712T180000
DTEND;TZID=America/New_York:20260712T190000
DTSTAMP:20260423T163509
CREATED:20260115T205204Z
LAST-MODIFIED:20260115T223733Z
UID:10011575-1783879200-1783882800@lhcc.info
SUMMARY:Coping with Loved One's Addictions Support Group
DESCRIPTION:Loving someone who struggles with addiction can be heartbreaking\, exhausting\, and isolating — but you do not have to face it alone. LHCC’s Coping with Loved Ones Addiction’s Support Group is a safe\, confidential space for family members and friends impacted by a loved one’s addiction. \nThrough biblical perspective\, faith-based encouragement\, prayer\, and shared experiences we offer support\, understanding\, and hope for the journey. Whether you are seeking guidance\, strength\, or simply a place to be heard\, you are welcome to join us. \nIf you would like more information or plan to join us\, click here.
URL:https://lhcc.info/event/coping-with-loved-ones-addictions-2/2026-07-12/
LOCATION:Living Hope Christian Church\, 730 South County Trail\, North Kingstown\, RI\, 02852\, United States
CATEGORIES:Church Events,Community Events
ATTACH;FMTTYPE=image/png:https://lhcc.info/wp-content/uploads/2026/01/Support-Groups-1.png
GEO:41.5556183;-71.5189401
X-APPLE-STRUCTURED-LOCATION;VALUE=URI;X-ADDRESS=Living Hope Christian Church 730 South County Trail North Kingstown RI 02852 United States;X-APPLE-RADIUS=500;X-TITLE=730 South County Trail:geo:-71.5189401,41.5556183
END:VEVENT
BEGIN:VEVENT
DTSTART;TZID=America/New_York:20260726T180000
DTEND;TZID=America/New_York:20260726T190000
DTSTAMP:20260423T163509
CREATED:20260115T205026Z
LAST-MODIFIED:20260115T223656Z
UID:10011558-1785088800-1785092400@lhcc.info
SUMMARY:Coping with Loved One's Addictions Support Group
DESCRIPTION:Loving someone who struggles with addiction can be heartbreaking\, exhausting\, and isolating — but you do not have to face it alone. LHCC’s Coping with Loved Ones Addiction’s Support Group is a safe\, confidential space for family members and friends impacted by a loved one’s addiction. \nThrough biblical perspective\, faith-based encouragement\, prayer\, and shared experiences we offer support\, understanding\, and hope for the journey. Whether you are seeking guidance\, strength\, or simply a place to be heard\, you are welcome to join us. \nIf you would like more information or plan to join us\, click here.
URL:https://lhcc.info/event/coping-with-loved-ones-addictions/2026-07-26/
LOCATION:Living Hope Christian Church\, 730 South County Trail\, North Kingstown\, RI\, 02852\, United States
CATEGORIES:Church Events,Community Events
ATTACH;FMTTYPE=image/png:https://lhcc.info/wp-content/uploads/2026/01/Support-Groups-1.png
GEO:41.5556183;-71.5189401
X-APPLE-STRUCTURED-LOCATION;VALUE=URI;X-ADDRESS=Living Hope Christian Church 730 South County Trail North Kingstown RI 02852 United States;X-APPLE-RADIUS=500;X-TITLE=730 South County Trail:geo:-71.5189401,41.5556183
END:VEVENT
END:VCALENDAR