BEGIN:VCALENDAR
VERSION:2.0
PRODID:-//Living Hope Christian Church - ECPv6.15.17.1//NONSGML v1.0//EN
CALSCALE:GREGORIAN
METHOD:PUBLISH
X-ORIGINAL-URL:https://lhcc.info
X-WR-CALDESC:Events for Living Hope Christian Church
REFRESH-INTERVAL;VALUE=DURATION:PT1H
X-Robots-Tag:noindex
X-PUBLISHED-TTL:PT1H
BEGIN:VTIMEZONE
TZID:America/New_York
BEGIN:DAYLIGHT
TZOFFSETFROM:-0500
TZOFFSETTO:-0400
TZNAME:EDT
DTSTART:20250309T070000
END:DAYLIGHT
BEGIN:STANDARD
TZOFFSETFROM:-0400
TZOFFSETTO:-0500
TZNAME:EST
DTSTART:20251102T060000
END:STANDARD
BEGIN:DAYLIGHT
TZOFFSETFROM:-0500
TZOFFSETTO:-0400
TZNAME:EDT
DTSTART:20260308T070000
END:DAYLIGHT
BEGIN:STANDARD
TZOFFSETFROM:-0400
TZOFFSETTO:-0500
TZNAME:EST
DTSTART:20261101T060000
END:STANDARD
BEGIN:DAYLIGHT
TZOFFSETFROM:-0500
TZOFFSETTO:-0400
TZNAME:EDT
DTSTART:20270314T070000
END:DAYLIGHT
BEGIN:STANDARD
TZOFFSETFROM:-0400
TZOFFSETTO:-0500
TZNAME:EST
DTSTART:20271107T060000
END:STANDARD
END:VTIMEZONE
BEGIN:VEVENT
DTSTART;TZID=America/New_York:20260104T183000
DTEND;TZID=America/New_York:20260104T193000
DTSTAMP:20260423T163509
CREATED:20251230T175153Z
LAST-MODIFIED:20251230T195223Z
UID:10011411-1767551400-1767555000@lhcc.info
SUMMARY:Dealing with Grief Support Group
DESCRIPTION:“The LORD is close to the brokenhearted and saves those who are crushed in spirit.” Psalm 34:18 \nGrief can feel overwhelming and isolating\, but you do not have to walk it alone. We believe God meets us in our pain and brings comfort through His presence and the love of others. LHCC’s Grief Support Group is a safe\, caring space for anyone who has experienced loss. This group offers encouragement\, biblical perspective\, and practical tools to navigate the many emotions that come with loss. \nWhether your grief is recent or many years old\, you are welcome to join us as we journey toward healing one step at a time. \nFor more information or to let us know you are coming\, click here. \n 
URL:https://lhcc.info/event/dealing-with-grief-support-group/
LOCATION:Living Hope Christian Church\, 730 South County Trail\, North Kingstown\, RI\, 02852\, United States
CATEGORIES:Church Events,Community Events
ATTACH;FMTTYPE=image/png:https://lhcc.info/wp-content/uploads/2025/12/Support-Groups.png
GEO:41.5556183;-71.5189401
X-APPLE-STRUCTURED-LOCATION;VALUE=URI;X-ADDRESS=Living Hope Christian Church 730 South County Trail North Kingstown RI 02852 United States;X-APPLE-RADIUS=500;X-TITLE=730 South County Trail:geo:-71.5189401,41.5556183
END:VEVENT
BEGIN:VEVENT
DTSTART;TZID=America/New_York:20260111T180000
DTEND;TZID=America/New_York:20260111T190000
DTSTAMP:20260423T163509
CREATED:20251230T180220Z
LAST-MODIFIED:20251230T183131Z
UID:10011412-1768154400-1768158000@lhcc.info
SUMMARY:Coping with Loved Ones Addictions Support Group
DESCRIPTION:Loving someone who struggles with addiction can be heartbreaking\, exhausting\, and isolating — but you do not have to face it alone. LHCC’s Coping with Loved Ones Addiction’s Support Group is a safe\, confidential space for family members and friends impacted by a loved one’s addiction. \nThrough biblical perspective\, faith-based encouragement\, prayer\, and shared experiences we offer support\, understanding\, and hope for the journey. Whether you are seeking guidance\, strength\, or simply a place to be heard\, you are welcome to join us. \nIf you would like more information or plan to join us\, click here.
URL:https://lhcc.info/event/coping-with-loved-ones-addictions-support-group/
LOCATION:Living Hope Christian Church\, 730 South County Trail\, North Kingstown\, RI\, 02852\, United States
CATEGORIES:Church Events,Community Events
ATTACH;FMTTYPE=image/png:https://lhcc.info/wp-content/uploads/2025/12/Support-Groups-3.png
GEO:41.5556183;-71.5189401
X-APPLE-STRUCTURED-LOCATION;VALUE=URI;X-ADDRESS=Living Hope Christian Church 730 South County Trail North Kingstown RI 02852 United States;X-APPLE-RADIUS=500;X-TITLE=730 South County Trail:geo:-71.5189401,41.5556183
END:VEVENT
END:VCALENDAR