BEGIN:VCALENDAR
VERSION:2.0
PRODID:-//Living Hope Christian Church - ECPv6.15.17.1//NONSGML v1.0//EN
CALSCALE:GREGORIAN
METHOD:PUBLISH
X-ORIGINAL-URL:https://lhcc.info
X-WR-CALDESC:Events for Living Hope Christian Church
REFRESH-INTERVAL;VALUE=DURATION:PT1H
X-Robots-Tag:noindex
X-PUBLISHED-TTL:PT1H
BEGIN:VTIMEZONE
TZID:America/New_York
BEGIN:DAYLIGHT
TZOFFSETFROM:-0500
TZOFFSETTO:-0400
TZNAME:EDT
DTSTART:20240310T070000
END:DAYLIGHT
BEGIN:STANDARD
TZOFFSETFROM:-0400
TZOFFSETTO:-0500
TZNAME:EST
DTSTART:20241103T060000
END:STANDARD
BEGIN:DAYLIGHT
TZOFFSETFROM:-0500
TZOFFSETTO:-0400
TZNAME:EDT
DTSTART:20250309T070000
END:DAYLIGHT
BEGIN:STANDARD
TZOFFSETFROM:-0400
TZOFFSETTO:-0500
TZNAME:EST
DTSTART:20251102T060000
END:STANDARD
BEGIN:DAYLIGHT
TZOFFSETFROM:-0500
TZOFFSETTO:-0400
TZNAME:EDT
DTSTART:20260308T070000
END:DAYLIGHT
BEGIN:STANDARD
TZOFFSETFROM:-0400
TZOFFSETTO:-0500
TZNAME:EST
DTSTART:20261101T060000
END:STANDARD
END:VTIMEZONE
BEGIN:VEVENT
DTSTART;TZID=America/New_York:20251102T120000
DTEND;TZID=America/New_York:20251102T140000
DTSTAMP:20260423T193235
CREATED:20250612T191941Z
LAST-MODIFIED:20250826T190024Z
UID:10011342-1762084800-1762092000@lhcc.info
SUMMARY:Clothing Closet Public Hours
DESCRIPTION:Shop for free clothing for men\, women\, and children during our public hours:\nThursdays 4-7pm\nSundays 12-2pm \nOther services available on a first come\, first serve basis during public hours:\nLaundry Machine\nShower\nFood Assistance \nIf you need to make an appointment outside of our public hours for any of these services\, please call the church at (401)667-0775
URL:https://lhcc.info/event/clothing-closet-public-hours-2/2025-11-02/
LOCATION:RI
CATEGORIES:Community Events
ATTACH;FMTTYPE=image/png:https://lhcc.info/wp-content/uploads/2025/06/Clothing-Closet-Facebook-Post.png
END:VEVENT
BEGIN:VEVENT
DTSTART;TZID=America/New_York:20251106T160000
DTEND;TZID=America/New_York:20251106T190000
DTSTAMP:20260423T193235
CREATED:20250429T182819Z
LAST-MODIFIED:20250826T185912Z
UID:10011326-1762444800-1762455600@lhcc.info
SUMMARY:Clothing Closet Public Hours
DESCRIPTION:Shop for free clothing for men\, women\, and children during our public hours:\nThursdays 4-7pm\nSundays 12-2pm \nOther services available on a first come\, first serve basis during public hours:\nLaundry Machine\nShower\nFood Assistance \nIf you need to make an appointment outside of our public hours for any of these services\, please call the church at (401)667-0775
URL:https://lhcc.info/event/clothing-closet-public-hours-3/2025-11-06/
LOCATION:RI
CATEGORIES:Community Events
ATTACH;FMTTYPE=image/png:https://lhcc.info/wp-content/uploads/2025/06/Clothing-Closet-Facebook-Post.png
END:VEVENT
BEGIN:VEVENT
DTSTART;TZID=America/New_York:20251109T120000
DTEND;TZID=America/New_York:20251109T140000
DTSTAMP:20260423T193235
CREATED:20250612T191941Z
LAST-MODIFIED:20250826T190024Z
UID:10011343-1762689600-1762696800@lhcc.info
SUMMARY:Clothing Closet Public Hours
DESCRIPTION:Shop for free clothing for men\, women\, and children during our public hours:\nThursdays 4-7pm\nSundays 12-2pm \nOther services available on a first come\, first serve basis during public hours:\nLaundry Machine\nShower\nFood Assistance \nIf you need to make an appointment outside of our public hours for any of these services\, please call the church at (401)667-0775
URL:https://lhcc.info/event/clothing-closet-public-hours-2/2025-11-09/
LOCATION:RI
CATEGORIES:Community Events
ATTACH;FMTTYPE=image/png:https://lhcc.info/wp-content/uploads/2025/06/Clothing-Closet-Facebook-Post.png
END:VEVENT
BEGIN:VEVENT
DTSTART;TZID=America/New_York:20251113T160000
DTEND;TZID=America/New_York:20251113T190000
DTSTAMP:20260423T193235
CREATED:20250429T182819Z
LAST-MODIFIED:20250826T185912Z
UID:10011327-1763049600-1763060400@lhcc.info
SUMMARY:Clothing Closet Public Hours
DESCRIPTION:Shop for free clothing for men\, women\, and children during our public hours:\nThursdays 4-7pm\nSundays 12-2pm \nOther services available on a first come\, first serve basis during public hours:\nLaundry Machine\nShower\nFood Assistance \nIf you need to make an appointment outside of our public hours for any of these services\, please call the church at (401)667-0775
URL:https://lhcc.info/event/clothing-closet-public-hours-3/2025-11-13/
LOCATION:RI
CATEGORIES:Community Events
ATTACH;FMTTYPE=image/png:https://lhcc.info/wp-content/uploads/2025/06/Clothing-Closet-Facebook-Post.png
END:VEVENT
BEGIN:VEVENT
DTSTART;TZID=America/New_York:20251116T120000
DTEND;TZID=America/New_York:20251116T140000
DTSTAMP:20260423T193235
CREATED:20250612T191941Z
LAST-MODIFIED:20250826T190024Z
UID:10011344-1763294400-1763301600@lhcc.info
SUMMARY:Clothing Closet Public Hours
DESCRIPTION:Shop for free clothing for men\, women\, and children during our public hours:\nThursdays 4-7pm\nSundays 12-2pm \nOther services available on a first come\, first serve basis during public hours:\nLaundry Machine\nShower\nFood Assistance \nIf you need to make an appointment outside of our public hours for any of these services\, please call the church at (401)667-0775
URL:https://lhcc.info/event/clothing-closet-public-hours-2/2025-11-16/
LOCATION:RI
CATEGORIES:Community Events
ATTACH;FMTTYPE=image/png:https://lhcc.info/wp-content/uploads/2025/06/Clothing-Closet-Facebook-Post.png
END:VEVENT
BEGIN:VEVENT
DTSTART;TZID=America/New_York:20251120T160000
DTEND;TZID=America/New_York:20251120T190000
DTSTAMP:20260423T193235
CREATED:20250429T182819Z
LAST-MODIFIED:20250826T185912Z
UID:10011328-1763654400-1763665200@lhcc.info
SUMMARY:Clothing Closet Public Hours
DESCRIPTION:Shop for free clothing for men\, women\, and children during our public hours:\nThursdays 4-7pm\nSundays 12-2pm \nOther services available on a first come\, first serve basis during public hours:\nLaundry Machine\nShower\nFood Assistance \nIf you need to make an appointment outside of our public hours for any of these services\, please call the church at (401)667-0775
URL:https://lhcc.info/event/clothing-closet-public-hours-3/2025-11-20/
LOCATION:RI
CATEGORIES:Community Events
ATTACH;FMTTYPE=image/png:https://lhcc.info/wp-content/uploads/2025/06/Clothing-Closet-Facebook-Post.png
END:VEVENT
BEGIN:VEVENT
DTSTART;TZID=America/New_York:20251123T120000
DTEND;TZID=America/New_York:20251123T140000
DTSTAMP:20260423T193235
CREATED:20250612T191941Z
LAST-MODIFIED:20250826T190024Z
UID:10011345-1763899200-1763906400@lhcc.info
SUMMARY:Clothing Closet Public Hours
DESCRIPTION:Shop for free clothing for men\, women\, and children during our public hours:\nThursdays 4-7pm\nSundays 12-2pm \nOther services available on a first come\, first serve basis during public hours:\nLaundry Machine\nShower\nFood Assistance \nIf you need to make an appointment outside of our public hours for any of these services\, please call the church at (401)667-0775
URL:https://lhcc.info/event/clothing-closet-public-hours-2/2025-11-23/
LOCATION:RI
CATEGORIES:Community Events
ATTACH;FMTTYPE=image/png:https://lhcc.info/wp-content/uploads/2025/06/Clothing-Closet-Facebook-Post.png
END:VEVENT
END:VCALENDAR