BEGIN:VCALENDAR
VERSION:2.0
PRODID:-//Living Hope Christian Church - ECPv6.15.17.1//NONSGML v1.0//EN
CALSCALE:GREGORIAN
METHOD:PUBLISH
X-ORIGINAL-URL:https://lhcc.info
X-WR-CALDESC:Events for Living Hope Christian Church
REFRESH-INTERVAL;VALUE=DURATION:PT1H
X-Robots-Tag:noindex
X-PUBLISHED-TTL:PT1H
BEGIN:VTIMEZONE
TZID:America/New_York
BEGIN:DAYLIGHT
TZOFFSETFROM:-0500
TZOFFSETTO:-0400
TZNAME:EDT
DTSTART:20230312T070000
END:DAYLIGHT
BEGIN:STANDARD
TZOFFSETFROM:-0400
TZOFFSETTO:-0500
TZNAME:EST
DTSTART:20231105T060000
END:STANDARD
BEGIN:DAYLIGHT
TZOFFSETFROM:-0500
TZOFFSETTO:-0400
TZNAME:EDT
DTSTART:20240310T070000
END:DAYLIGHT
BEGIN:STANDARD
TZOFFSETFROM:-0400
TZOFFSETTO:-0500
TZNAME:EST
DTSTART:20241103T060000
END:STANDARD
BEGIN:DAYLIGHT
TZOFFSETFROM:-0500
TZOFFSETTO:-0400
TZNAME:EDT
DTSTART:20250309T070000
END:DAYLIGHT
BEGIN:STANDARD
TZOFFSETFROM:-0400
TZOFFSETTO:-0500
TZNAME:EST
DTSTART:20251102T060000
END:STANDARD
END:VTIMEZONE
BEGIN:VEVENT
DTSTART;TZID=America/New_York:20241215T140000
DTEND;TZID=America/New_York:20241215T170000
DTSTAMP:20260425T000240
CREATED:20241025T000536Z
LAST-MODIFIED:20241126T174426Z
UID:10006888-1734271200-1734282000@lhcc.info
SUMMARY:Birthday Party for Jesus
DESCRIPTION:Families come celebrate the birth of our Savior\, Jesus Christ at his birthday party! \nJesus is the reason for the season so we are throwing Him the ultimate birthday party with games\, crafts\, food\, prizes\, raffles\, face painting\, balloon animals and MORE and everything is FREE! \nInvite your friends and family to join us and celebrate together!
URL:https://lhcc.info/event/birthday-party-for-jesus/
LOCATION:Living Hope Christian Church\, 730 South County Trail\, North Kingstown\, RI\, 02852\, United States
CATEGORIES:Community Events
ATTACH;FMTTYPE=image/png:https://lhcc.info/wp-content/uploads/2024/10/Happy-Birthday-Jesus-1.png
GEO:41.5556183;-71.5189401
X-APPLE-STRUCTURED-LOCATION;VALUE=URI;X-ADDRESS=Living Hope Christian Church 730 South County Trail North Kingstown RI 02852 United States;X-APPLE-RADIUS=500;X-TITLE=730 South County Trail:geo:-71.5189401,41.5556183
END:VEVENT
BEGIN:VEVENT
DTSTART;TZID=America/New_York:20241221T160000
DTEND;TZID=America/New_York:20241221T170000
DTSTAMP:20260425T000240
CREATED:20241121T225811Z
LAST-MODIFIED:20241121T225811Z
UID:10006893-1734796800-1734800400@lhcc.info
SUMMARY:Blue Christmas Service
DESCRIPTION:For some people Christmas can be a difficult time of year due to loss\, hurts\, and broken relationships. Our Blue Christmas Service is a special recognition of the struggles people face and a chance to acknowledge them in a safe place of rest\, comfort\, and healing. \nMatthew 11:28-29 says\, “Come to me\, all you who are weary and burdened\, and I will give you rest. Take my yoke upon you and learn from me\, for I am gentle and humble in heart\, and you will find rest for your souls.” this service will show us how God can lift our burdens and bring beauty from ashes. \n 
URL:https://lhcc.info/event/blue-christmas-service-3/
LOCATION:Living Hope Christian Church\, 730 South County Trail\, North Kingstown\, RI\, 02852\, United States
CATEGORIES:Church Events,Community Events
ATTACH;FMTTYPE=image/png:https://lhcc.info/wp-content/uploads/2024/11/Blue-Christmas-Service.png
GEO:41.5556183;-71.5189401
X-APPLE-STRUCTURED-LOCATION;VALUE=URI;X-ADDRESS=Living Hope Christian Church 730 South County Trail North Kingstown RI 02852 United States;X-APPLE-RADIUS=500;X-TITLE=730 South County Trail:geo:-71.5189401,41.5556183
END:VEVENT
END:VCALENDAR