BEGIN:VCALENDAR
VERSION:2.0
PRODID:-//Living Hope Christian Church - ECPv6.15.17.1//NONSGML v1.0//EN
CALSCALE:GREGORIAN
METHOD:PUBLISH
X-ORIGINAL-URL:https://lhcc.info
X-WR-CALDESC:Events for Living Hope Christian Church
REFRESH-INTERVAL;VALUE=DURATION:PT1H
X-Robots-Tag:noindex
X-PUBLISHED-TTL:PT1H
BEGIN:VTIMEZONE
TZID:America/New_York
BEGIN:DAYLIGHT
TZOFFSETFROM:-0500
TZOFFSETTO:-0400
TZNAME:EDT
DTSTART:20250309T070000
END:DAYLIGHT
BEGIN:STANDARD
TZOFFSETFROM:-0400
TZOFFSETTO:-0500
TZNAME:EST
DTSTART:20251102T060000
END:STANDARD
BEGIN:DAYLIGHT
TZOFFSETFROM:-0500
TZOFFSETTO:-0400
TZNAME:EDT
DTSTART:20260308T070000
END:DAYLIGHT
BEGIN:STANDARD
TZOFFSETFROM:-0400
TZOFFSETTO:-0500
TZNAME:EST
DTSTART:20261101T060000
END:STANDARD
BEGIN:DAYLIGHT
TZOFFSETFROM:-0500
TZOFFSETTO:-0400
TZNAME:EDT
DTSTART:20270314T070000
END:DAYLIGHT
BEGIN:STANDARD
TZOFFSETFROM:-0400
TZOFFSETTO:-0500
TZNAME:EST
DTSTART:20271107T060000
END:STANDARD
END:VTIMEZONE
BEGIN:VEVENT
DTSTART;TZID=America/New_York:20260712T190000
DTEND;TZID=America/New_York:20260712T203000
DTSTAMP:20260423T174625
CREATED:20250923T204550Z
LAST-MODIFIED:20250923T204550Z
UID:10011400-1783882800-1783888200@lhcc.info
SUMMARY:College & Career Meeting
DESCRIPTION:Our College & Career group is for young adults ages 18 to 20 something and we seek to apply God’s word to everyday life\, encouraging fellowship and growth in Christ as we attend college\, work\, develop careers\, and build families. \nJoin us on the 2nd and 4th Sunday of each month at 7pm at LHCC
URL:https://lhcc.info/event/college-career-meeting-6/2026-07-12/
LOCATION:Living Hope Christian Church\, 730 South County Trail\, North Kingstown\, RI\, 02852\, United States
CATEGORIES:College and Career
ATTACH;FMTTYPE=image/png:https://lhcc.info/wp-content/uploads/2025/09/College-Career.png
GEO:41.5556183;-71.5189401
X-APPLE-STRUCTURED-LOCATION;VALUE=URI;X-ADDRESS=Living Hope Christian Church 730 South County Trail North Kingstown RI 02852 United States;X-APPLE-RADIUS=500;X-TITLE=730 South County Trail:geo:-71.5189401,41.5556183
END:VEVENT
BEGIN:VEVENT
DTSTART;TZID=America/New_York:20260726T190000
DTEND;TZID=America/New_York:20260726T203000
DTSTAMP:20260423T174625
CREATED:20250923T204422Z
LAST-MODIFIED:20250923T204422Z
UID:10011385-1785092400-1785097800@lhcc.info
SUMMARY:College & Career Meeting
DESCRIPTION:Our College & Career group is for young adults ages 18 to 20 something and we seek to apply God’s word to everyday life\, encouraging fellowship and growth in Christ as we attend college\, work\, develop careers\, and build families. \nJoin us on the 2nd and 4th Sunday of each month at 7pm at LHCC
URL:https://lhcc.info/event/college-career-meeting-5/2026-07-26/
LOCATION:Living Hope Christian Church\, 730 South County Trail\, North Kingstown\, RI\, 02852\, United States
CATEGORIES:College and Career
ATTACH;FMTTYPE=image/png:https://lhcc.info/wp-content/uploads/2025/09/College-Career.png
GEO:41.5556183;-71.5189401
X-APPLE-STRUCTURED-LOCATION;VALUE=URI;X-ADDRESS=Living Hope Christian Church 730 South County Trail North Kingstown RI 02852 United States;X-APPLE-RADIUS=500;X-TITLE=730 South County Trail:geo:-71.5189401,41.5556183
END:VEVENT
BEGIN:VEVENT
DTSTART;TZID=America/New_York:20260809T190000
DTEND;TZID=America/New_York:20260809T203000
DTSTAMP:20260423T174625
CREATED:20250923T204550Z
LAST-MODIFIED:20250923T204550Z
UID:10011401-1786302000-1786307400@lhcc.info
SUMMARY:College & Career Meeting
DESCRIPTION:Our College & Career group is for young adults ages 18 to 20 something and we seek to apply God’s word to everyday life\, encouraging fellowship and growth in Christ as we attend college\, work\, develop careers\, and build families. \nJoin us on the 2nd and 4th Sunday of each month at 7pm at LHCC
URL:https://lhcc.info/event/college-career-meeting-6/2026-08-09/
LOCATION:Living Hope Christian Church\, 730 South County Trail\, North Kingstown\, RI\, 02852\, United States
CATEGORIES:College and Career
ATTACH;FMTTYPE=image/png:https://lhcc.info/wp-content/uploads/2025/09/College-Career.png
GEO:41.5556183;-71.5189401
X-APPLE-STRUCTURED-LOCATION;VALUE=URI;X-ADDRESS=Living Hope Christian Church 730 South County Trail North Kingstown RI 02852 United States;X-APPLE-RADIUS=500;X-TITLE=730 South County Trail:geo:-71.5189401,41.5556183
END:VEVENT
BEGIN:VEVENT
DTSTART;TZID=America/New_York:20260823T190000
DTEND;TZID=America/New_York:20260823T203000
DTSTAMP:20260423T174625
CREATED:20250923T204422Z
LAST-MODIFIED:20250923T204422Z
UID:10011386-1787511600-1787517000@lhcc.info
SUMMARY:College & Career Meeting
DESCRIPTION:Our College & Career group is for young adults ages 18 to 20 something and we seek to apply God’s word to everyday life\, encouraging fellowship and growth in Christ as we attend college\, work\, develop careers\, and build families. \nJoin us on the 2nd and 4th Sunday of each month at 7pm at LHCC
URL:https://lhcc.info/event/college-career-meeting-5/2026-08-23/
LOCATION:Living Hope Christian Church\, 730 South County Trail\, North Kingstown\, RI\, 02852\, United States
CATEGORIES:College and Career
ATTACH;FMTTYPE=image/png:https://lhcc.info/wp-content/uploads/2025/09/College-Career.png
GEO:41.5556183;-71.5189401
X-APPLE-STRUCTURED-LOCATION;VALUE=URI;X-ADDRESS=Living Hope Christian Church 730 South County Trail North Kingstown RI 02852 United States;X-APPLE-RADIUS=500;X-TITLE=730 South County Trail:geo:-71.5189401,41.5556183
END:VEVENT
BEGIN:VEVENT
DTSTART;TZID=America/New_York:20260913T190000
DTEND;TZID=America/New_York:20260913T203000
DTSTAMP:20260423T174625
CREATED:20250923T204550Z
LAST-MODIFIED:20250923T204550Z
UID:10011402-1789326000-1789331400@lhcc.info
SUMMARY:College & Career Meeting
DESCRIPTION:Our College & Career group is for young adults ages 18 to 20 something and we seek to apply God’s word to everyday life\, encouraging fellowship and growth in Christ as we attend college\, work\, develop careers\, and build families. \nJoin us on the 2nd and 4th Sunday of each month at 7pm at LHCC
URL:https://lhcc.info/event/college-career-meeting-6/2026-09-13/
LOCATION:Living Hope Christian Church\, 730 South County Trail\, North Kingstown\, RI\, 02852\, United States
CATEGORIES:College and Career
ATTACH;FMTTYPE=image/png:https://lhcc.info/wp-content/uploads/2025/09/College-Career.png
GEO:41.5556183;-71.5189401
X-APPLE-STRUCTURED-LOCATION;VALUE=URI;X-ADDRESS=Living Hope Christian Church 730 South County Trail North Kingstown RI 02852 United States;X-APPLE-RADIUS=500;X-TITLE=730 South County Trail:geo:-71.5189401,41.5556183
END:VEVENT
BEGIN:VEVENT
DTSTART;TZID=America/New_York:20260927T190000
DTEND;TZID=America/New_York:20260927T203000
DTSTAMP:20260423T174625
CREATED:20250923T204422Z
LAST-MODIFIED:20250923T204422Z
UID:10011387-1790535600-1790541000@lhcc.info
SUMMARY:College & Career Meeting
DESCRIPTION:Our College & Career group is for young adults ages 18 to 20 something and we seek to apply God’s word to everyday life\, encouraging fellowship and growth in Christ as we attend college\, work\, develop careers\, and build families. \nJoin us on the 2nd and 4th Sunday of each month at 7pm at LHCC
URL:https://lhcc.info/event/college-career-meeting-5/2026-09-27/
LOCATION:Living Hope Christian Church\, 730 South County Trail\, North Kingstown\, RI\, 02852\, United States
CATEGORIES:College and Career
ATTACH;FMTTYPE=image/png:https://lhcc.info/wp-content/uploads/2025/09/College-Career.png
GEO:41.5556183;-71.5189401
X-APPLE-STRUCTURED-LOCATION;VALUE=URI;X-ADDRESS=Living Hope Christian Church 730 South County Trail North Kingstown RI 02852 United States;X-APPLE-RADIUS=500;X-TITLE=730 South County Trail:geo:-71.5189401,41.5556183
END:VEVENT
BEGIN:VEVENT
DTSTART;TZID=America/New_York:20261011T190000
DTEND;TZID=America/New_York:20261011T203000
DTSTAMP:20260423T174625
CREATED:20250923T204550Z
LAST-MODIFIED:20250923T204550Z
UID:10011403-1791745200-1791750600@lhcc.info
SUMMARY:College & Career Meeting
DESCRIPTION:Our College & Career group is for young adults ages 18 to 20 something and we seek to apply God’s word to everyday life\, encouraging fellowship and growth in Christ as we attend college\, work\, develop careers\, and build families. \nJoin us on the 2nd and 4th Sunday of each month at 7pm at LHCC
URL:https://lhcc.info/event/college-career-meeting-6/2026-10-11/
LOCATION:Living Hope Christian Church\, 730 South County Trail\, North Kingstown\, RI\, 02852\, United States
CATEGORIES:College and Career
ATTACH;FMTTYPE=image/png:https://lhcc.info/wp-content/uploads/2025/09/College-Career.png
GEO:41.5556183;-71.5189401
X-APPLE-STRUCTURED-LOCATION;VALUE=URI;X-ADDRESS=Living Hope Christian Church 730 South County Trail North Kingstown RI 02852 United States;X-APPLE-RADIUS=500;X-TITLE=730 South County Trail:geo:-71.5189401,41.5556183
END:VEVENT
BEGIN:VEVENT
DTSTART;TZID=America/New_York:20261025T190000
DTEND;TZID=America/New_York:20261025T203000
DTSTAMP:20260423T174625
CREATED:20250923T204422Z
LAST-MODIFIED:20250923T204422Z
UID:10011388-1792954800-1792960200@lhcc.info
SUMMARY:College & Career Meeting
DESCRIPTION:Our College & Career group is for young adults ages 18 to 20 something and we seek to apply God’s word to everyday life\, encouraging fellowship and growth in Christ as we attend college\, work\, develop careers\, and build families. \nJoin us on the 2nd and 4th Sunday of each month at 7pm at LHCC
URL:https://lhcc.info/event/college-career-meeting-5/2026-10-25/
LOCATION:Living Hope Christian Church\, 730 South County Trail\, North Kingstown\, RI\, 02852\, United States
CATEGORIES:College and Career
ATTACH;FMTTYPE=image/png:https://lhcc.info/wp-content/uploads/2025/09/College-Career.png
GEO:41.5556183;-71.5189401
X-APPLE-STRUCTURED-LOCATION;VALUE=URI;X-ADDRESS=Living Hope Christian Church 730 South County Trail North Kingstown RI 02852 United States;X-APPLE-RADIUS=500;X-TITLE=730 South County Trail:geo:-71.5189401,41.5556183
END:VEVENT
BEGIN:VEVENT
DTSTART;TZID=America/New_York:20261108T190000
DTEND;TZID=America/New_York:20261108T203000
DTSTAMP:20260423T174625
CREATED:20250923T204550Z
LAST-MODIFIED:20250923T204550Z
UID:10011404-1794164400-1794169800@lhcc.info
SUMMARY:College & Career Meeting
DESCRIPTION:Our College & Career group is for young adults ages 18 to 20 something and we seek to apply God’s word to everyday life\, encouraging fellowship and growth in Christ as we attend college\, work\, develop careers\, and build families. \nJoin us on the 2nd and 4th Sunday of each month at 7pm at LHCC
URL:https://lhcc.info/event/college-career-meeting-6/2026-11-08/
LOCATION:Living Hope Christian Church\, 730 South County Trail\, North Kingstown\, RI\, 02852\, United States
CATEGORIES:College and Career
ATTACH;FMTTYPE=image/png:https://lhcc.info/wp-content/uploads/2025/09/College-Career.png
GEO:41.5556183;-71.5189401
X-APPLE-STRUCTURED-LOCATION;VALUE=URI;X-ADDRESS=Living Hope Christian Church 730 South County Trail North Kingstown RI 02852 United States;X-APPLE-RADIUS=500;X-TITLE=730 South County Trail:geo:-71.5189401,41.5556183
END:VEVENT
BEGIN:VEVENT
DTSTART;TZID=America/New_York:20261122T190000
DTEND;TZID=America/New_York:20261122T203000
DTSTAMP:20260423T174625
CREATED:20250923T204422Z
LAST-MODIFIED:20250923T204422Z
UID:10011389-1795374000-1795379400@lhcc.info
SUMMARY:College & Career Meeting
DESCRIPTION:Our College & Career group is for young adults ages 18 to 20 something and we seek to apply God’s word to everyday life\, encouraging fellowship and growth in Christ as we attend college\, work\, develop careers\, and build families. \nJoin us on the 2nd and 4th Sunday of each month at 7pm at LHCC
URL:https://lhcc.info/event/college-career-meeting-5/2026-11-22/
LOCATION:Living Hope Christian Church\, 730 South County Trail\, North Kingstown\, RI\, 02852\, United States
CATEGORIES:College and Career
ATTACH;FMTTYPE=image/png:https://lhcc.info/wp-content/uploads/2025/09/College-Career.png
GEO:41.5556183;-71.5189401
X-APPLE-STRUCTURED-LOCATION;VALUE=URI;X-ADDRESS=Living Hope Christian Church 730 South County Trail North Kingstown RI 02852 United States;X-APPLE-RADIUS=500;X-TITLE=730 South County Trail:geo:-71.5189401,41.5556183
END:VEVENT
BEGIN:VEVENT
DTSTART;TZID=America/New_York:20261213T190000
DTEND;TZID=America/New_York:20261213T203000
DTSTAMP:20260423T174625
CREATED:20250923T204550Z
LAST-MODIFIED:20250923T204550Z
UID:10011405-1797188400-1797193800@lhcc.info
SUMMARY:College & Career Meeting
DESCRIPTION:Our College & Career group is for young adults ages 18 to 20 something and we seek to apply God’s word to everyday life\, encouraging fellowship and growth in Christ as we attend college\, work\, develop careers\, and build families. \nJoin us on the 2nd and 4th Sunday of each month at 7pm at LHCC
URL:https://lhcc.info/event/college-career-meeting-6/2026-12-13/
LOCATION:Living Hope Christian Church\, 730 South County Trail\, North Kingstown\, RI\, 02852\, United States
CATEGORIES:College and Career
ATTACH;FMTTYPE=image/png:https://lhcc.info/wp-content/uploads/2025/09/College-Career.png
GEO:41.5556183;-71.5189401
X-APPLE-STRUCTURED-LOCATION;VALUE=URI;X-ADDRESS=Living Hope Christian Church 730 South County Trail North Kingstown RI 02852 United States;X-APPLE-RADIUS=500;X-TITLE=730 South County Trail:geo:-71.5189401,41.5556183
END:VEVENT
BEGIN:VEVENT
DTSTART;TZID=America/New_York:20261227T190000
DTEND;TZID=America/New_York:20261227T203000
DTSTAMP:20260423T174625
CREATED:20250923T204422Z
LAST-MODIFIED:20250923T204422Z
UID:10011390-1798398000-1798403400@lhcc.info
SUMMARY:College & Career Meeting
DESCRIPTION:Our College & Career group is for young adults ages 18 to 20 something and we seek to apply God’s word to everyday life\, encouraging fellowship and growth in Christ as we attend college\, work\, develop careers\, and build families. \nJoin us on the 2nd and 4th Sunday of each month at 7pm at LHCC
URL:https://lhcc.info/event/college-career-meeting-5/2026-12-27/
LOCATION:Living Hope Christian Church\, 730 South County Trail\, North Kingstown\, RI\, 02852\, United States
CATEGORIES:College and Career
ATTACH;FMTTYPE=image/png:https://lhcc.info/wp-content/uploads/2025/09/College-Career.png
GEO:41.5556183;-71.5189401
X-APPLE-STRUCTURED-LOCATION;VALUE=URI;X-ADDRESS=Living Hope Christian Church 730 South County Trail North Kingstown RI 02852 United States;X-APPLE-RADIUS=500;X-TITLE=730 South County Trail:geo:-71.5189401,41.5556183
END:VEVENT
END:VCALENDAR