BEGIN:VCALENDAR
VERSION:2.0
PRODID:-//Living Hope Christian Church - ECPv6.15.17.1//NONSGML v1.0//EN
CALSCALE:GREGORIAN
METHOD:PUBLISH
X-WR-CALNAME:Living Hope Christian Church
X-ORIGINAL-URL:https://lhcc.info
X-WR-CALDESC:Events for Living Hope Christian Church
REFRESH-INTERVAL;VALUE=DURATION:PT1H
X-Robots-Tag:noindex
X-PUBLISHED-TTL:PT1H
BEGIN:VTIMEZONE
TZID:America/New_York
BEGIN:DAYLIGHT
TZOFFSETFROM:-0500
TZOFFSETTO:-0400
TZNAME:EDT
DTSTART:20170312T070000
END:DAYLIGHT
BEGIN:STANDARD
TZOFFSETFROM:-0400
TZOFFSETTO:-0500
TZNAME:EST
DTSTART:20171105T060000
END:STANDARD
BEGIN:DAYLIGHT
TZOFFSETFROM:-0500
TZOFFSETTO:-0400
TZNAME:EDT
DTSTART:20180311T070000
END:DAYLIGHT
BEGIN:STANDARD
TZOFFSETFROM:-0400
TZOFFSETTO:-0500
TZNAME:EST
DTSTART:20181104T060000
END:STANDARD
BEGIN:DAYLIGHT
TZOFFSETFROM:-0500
TZOFFSETTO:-0400
TZNAME:EDT
DTSTART:20190310T070000
END:DAYLIGHT
BEGIN:STANDARD
TZOFFSETFROM:-0400
TZOFFSETTO:-0500
TZNAME:EST
DTSTART:20191103T060000
END:STANDARD
BEGIN:DAYLIGHT
TZOFFSETFROM:-0500
TZOFFSETTO:-0400
TZNAME:EDT
DTSTART:20200308T070000
END:DAYLIGHT
BEGIN:STANDARD
TZOFFSETFROM:-0400
TZOFFSETTO:-0500
TZNAME:EST
DTSTART:20201101T060000
END:STANDARD
BEGIN:DAYLIGHT
TZOFFSETFROM:-0500
TZOFFSETTO:-0400
TZNAME:EDT
DTSTART:20210314T070000
END:DAYLIGHT
BEGIN:STANDARD
TZOFFSETFROM:-0400
TZOFFSETTO:-0500
TZNAME:EST
DTSTART:20211107T060000
END:STANDARD
BEGIN:DAYLIGHT
TZOFFSETFROM:-0500
TZOFFSETTO:-0400
TZNAME:EDT
DTSTART:20220313T070000
END:DAYLIGHT
BEGIN:STANDARD
TZOFFSETFROM:-0400
TZOFFSETTO:-0500
TZNAME:EST
DTSTART:20221106T060000
END:STANDARD
BEGIN:DAYLIGHT
TZOFFSETFROM:-0500
TZOFFSETTO:-0400
TZNAME:EDT
DTSTART:20230312T070000
END:DAYLIGHT
BEGIN:STANDARD
TZOFFSETFROM:-0400
TZOFFSETTO:-0500
TZNAME:EST
DTSTART:20231105T060000
END:STANDARD
BEGIN:DAYLIGHT
TZOFFSETFROM:-0500
TZOFFSETTO:-0400
TZNAME:EDT
DTSTART:20240310T070000
END:DAYLIGHT
BEGIN:STANDARD
TZOFFSETFROM:-0400
TZOFFSETTO:-0500
TZNAME:EST
DTSTART:20241103T060000
END:STANDARD
BEGIN:DAYLIGHT
TZOFFSETFROM:-0500
TZOFFSETTO:-0400
TZNAME:EDT
DTSTART:20250309T070000
END:DAYLIGHT
BEGIN:STANDARD
TZOFFSETFROM:-0400
TZOFFSETTO:-0500
TZNAME:EST
DTSTART:20251102T060000
END:STANDARD
BEGIN:DAYLIGHT
TZOFFSETFROM:-0500
TZOFFSETTO:-0400
TZNAME:EDT
DTSTART:20260308T070000
END:DAYLIGHT
BEGIN:STANDARD
TZOFFSETFROM:-0400
TZOFFSETTO:-0500
TZNAME:EST
DTSTART:20261101T060000
END:STANDARD
END:VTIMEZONE
BEGIN:VEVENT
DTSTART;TZID=America/New_York:20251123T190000
DTEND;TZID=America/New_York:20251123T203000
DTSTAMP:20260423T191424
CREATED:20250923T204422Z
LAST-MODIFIED:20250923T204422Z
UID:10011377-1763924400-1763929800@lhcc.info
SUMMARY:College & Career Meeting
DESCRIPTION:Our College & Career group is for young adults ages 18 to 20 something and we seek to apply God’s word to everyday life\, encouraging fellowship and growth in Christ as we attend college\, work\, develop careers\, and build families. \nJoin us on the 2nd and 4th Sunday of each month at 7pm at LHCC
URL:https://lhcc.info/event/college-career-meeting-5/2025-11-23/
LOCATION:Living Hope Christian Church\, 730 South County Trail\, North Kingstown\, RI\, 02852\, United States
CATEGORIES:College and Career
ATTACH;FMTTYPE=image/png:https://lhcc.info/wp-content/uploads/2025/09/College-Career.png
GEO:41.5556183;-71.5189401
X-APPLE-STRUCTURED-LOCATION;VALUE=URI;X-ADDRESS=Living Hope Christian Church 730 South County Trail North Kingstown RI 02852 United States;X-APPLE-RADIUS=500;X-TITLE=730 South County Trail:geo:-71.5189401,41.5556183
END:VEVENT
BEGIN:VEVENT
DTSTART;TZID=America/New_York:20251109T190000
DTEND;TZID=America/New_York:20251109T203000
DTSTAMP:20260423T191424
CREATED:20250923T204550Z
LAST-MODIFIED:20250923T204550Z
UID:10011392-1762714800-1762720200@lhcc.info
SUMMARY:College & Career Meeting
DESCRIPTION:Our College & Career group is for young adults ages 18 to 20 something and we seek to apply God’s word to everyday life\, encouraging fellowship and growth in Christ as we attend college\, work\, develop careers\, and build families. \nJoin us on the 2nd and 4th Sunday of each month at 7pm at LHCC
URL:https://lhcc.info/event/college-career-meeting-6/2025-11-09/
LOCATION:Living Hope Christian Church\, 730 South County Trail\, North Kingstown\, RI\, 02852\, United States
CATEGORIES:College and Career
ATTACH;FMTTYPE=image/png:https://lhcc.info/wp-content/uploads/2025/09/College-Career.png
GEO:41.5556183;-71.5189401
X-APPLE-STRUCTURED-LOCATION;VALUE=URI;X-ADDRESS=Living Hope Christian Church 730 South County Trail North Kingstown RI 02852 United States;X-APPLE-RADIUS=500;X-TITLE=730 South County Trail:geo:-71.5189401,41.5556183
END:VEVENT
BEGIN:VEVENT
DTSTART;TZID=America/New_York:20251026T190000
DTEND;TZID=America/New_York:20251026T203000
DTSTAMP:20260423T191424
CREATED:20250923T204422Z
LAST-MODIFIED:20250923T204422Z
UID:10011376-1761505200-1761510600@lhcc.info
SUMMARY:College & Career Meeting
DESCRIPTION:Our College & Career group is for young adults ages 18 to 20 something and we seek to apply God’s word to everyday life\, encouraging fellowship and growth in Christ as we attend college\, work\, develop careers\, and build families. \nJoin us on the 2nd and 4th Sunday of each month at 7pm at LHCC
URL:https://lhcc.info/event/college-career-meeting-5/2025-10-26/
LOCATION:Living Hope Christian Church\, 730 South County Trail\, North Kingstown\, RI\, 02852\, United States
CATEGORIES:College and Career
ATTACH;FMTTYPE=image/png:https://lhcc.info/wp-content/uploads/2025/09/College-Career.png
GEO:41.5556183;-71.5189401
X-APPLE-STRUCTURED-LOCATION;VALUE=URI;X-ADDRESS=Living Hope Christian Church 730 South County Trail North Kingstown RI 02852 United States;X-APPLE-RADIUS=500;X-TITLE=730 South County Trail:geo:-71.5189401,41.5556183
END:VEVENT
BEGIN:VEVENT
DTSTART;TZID=America/New_York:20251012T190000
DTEND;TZID=America/New_York:20251012T203000
DTSTAMP:20260423T191424
CREATED:20250923T204550Z
LAST-MODIFIED:20250923T204550Z
UID:10011391-1760295600-1760301000@lhcc.info
SUMMARY:College & Career Meeting
DESCRIPTION:Our College & Career group is for young adults ages 18 to 20 something and we seek to apply God’s word to everyday life\, encouraging fellowship and growth in Christ as we attend college\, work\, develop careers\, and build families. \nJoin us on the 2nd and 4th Sunday of each month at 7pm at LHCC
URL:https://lhcc.info/event/college-career-meeting-6/2025-10-12/
LOCATION:Living Hope Christian Church\, 730 South County Trail\, North Kingstown\, RI\, 02852\, United States
CATEGORIES:College and Career
ATTACH;FMTTYPE=image/png:https://lhcc.info/wp-content/uploads/2025/09/College-Career.png
GEO:41.5556183;-71.5189401
X-APPLE-STRUCTURED-LOCATION;VALUE=URI;X-ADDRESS=Living Hope Christian Church 730 South County Trail North Kingstown RI 02852 United States;X-APPLE-RADIUS=500;X-TITLE=730 South County Trail:geo:-71.5189401,41.5556183
END:VEVENT
BEGIN:VEVENT
DTSTART;TZID=America/New_York:20250928T190000
DTEND;TZID=America/New_York:20250928T203000
DTSTAMP:20260423T191424
CREATED:20250923T204422Z
LAST-MODIFIED:20250923T204422Z
UID:10011375-1759086000-1759091400@lhcc.info
SUMMARY:College & Career Meeting
DESCRIPTION:Our College & Career group is for young adults ages 18 to 20 something and we seek to apply God’s word to everyday life\, encouraging fellowship and growth in Christ as we attend college\, work\, develop careers\, and build families. \nJoin us on the 2nd and 4th Sunday of each month at 7pm at LHCC
URL:https://lhcc.info/event/college-career-meeting-5/2025-09-28/
LOCATION:Living Hope Christian Church\, 730 South County Trail\, North Kingstown\, RI\, 02852\, United States
CATEGORIES:College and Career
ATTACH;FMTTYPE=image/png:https://lhcc.info/wp-content/uploads/2025/09/College-Career.png
GEO:41.5556183;-71.5189401
X-APPLE-STRUCTURED-LOCATION;VALUE=URI;X-ADDRESS=Living Hope Christian Church 730 South County Trail North Kingstown RI 02852 United States;X-APPLE-RADIUS=500;X-TITLE=730 South County Trail:geo:-71.5189401,41.5556183
END:VEVENT
BEGIN:VEVENT
DTSTART;TZID=America/New_York:20240303T190000
DTEND;TZID=America/New_York:20240303T203000
DTSTAMP:20260423T191424
CREATED:20240209T165102Z
LAST-MODIFIED:20240209T165102Z
UID:10005832-1709492400-1709497800@lhcc.info
SUMMARY:College & Career
DESCRIPTION:If you are 18 to 20 something years old\, this group is for you! \nJoin us as we fellowship together and spend some time discussion led by Spencer McCombe regarding issues that young adults are facing like relationships\, school\, and work from a Biblical perspective.
URL:https://lhcc.info/event/college-career-11/
LOCATION:Living Hope Christian Church\, 730 South County Trail\, North Kingstown\, RI\, 02852\, United States
CATEGORIES:College and Career
ATTACH;FMTTYPE=image/jpeg:https://lhcc.info/wp-content/uploads/2021/03/youngadults-1464x700.jpg
GEO:41.5556183;-71.5189401
X-APPLE-STRUCTURED-LOCATION;VALUE=URI;X-ADDRESS=Living Hope Christian Church 730 South County Trail North Kingstown RI 02852 United States;X-APPLE-RADIUS=500;X-TITLE=730 South County Trail:geo:-71.5189401,41.5556183
END:VEVENT
BEGIN:VEVENT
DTSTART;TZID=America/New_York:20240204T190000
DTEND;TZID=America/New_York:20240204T203000
DTSTAMP:20260423T191424
CREATED:20240123T145213Z
LAST-MODIFIED:20240123T145213Z
UID:10006859-1707073200-1707078600@lhcc.info
SUMMARY:College & Career
DESCRIPTION:If you are 18 to 20 something years old\, this group is for you! \nJoin us as we fellowship together and spend some time discussion led by Spencer McCombe regarding issues that young adults are facing like relationships\, school\, and work from a Biblical perspective.
URL:https://lhcc.info/event/college-career-10/
LOCATION:Living Hope Christian Church\, 730 South County Trail\, North Kingstown\, RI\, 02852\, United States
CATEGORIES:College and Career
ATTACH;FMTTYPE=image/jpeg:https://lhcc.info/wp-content/uploads/2021/03/youngadults-1464x700.jpg
GEO:41.5556183;-71.5189401
X-APPLE-STRUCTURED-LOCATION;VALUE=URI;X-ADDRESS=Living Hope Christian Church 730 South County Trail North Kingstown RI 02852 United States;X-APPLE-RADIUS=500;X-TITLE=730 South County Trail:geo:-71.5189401,41.5556183
END:VEVENT
BEGIN:VEVENT
DTSTART;TZID=America/New_York:20230910T190000
DTEND;TZID=America/New_York:20230910T203000
DTSTAMP:20260423T191424
CREATED:20230829T184811Z
LAST-MODIFIED:20230829T184811Z
UID:10005806-1694372400-1694377800@lhcc.info
SUMMARY:College & Career
DESCRIPTION:Young Adults ages 18 to 20 something come join us for some fellowship and discussion time together. \nWe take a look at issues you face when beginning your journey into adulthood from a Biblical perspective and would love to see you join!
URL:https://lhcc.info/event/college-career-9/
LOCATION:Living Hope Christian Church\, 730 South County Trail\, North Kingstown\, RI\, 02852\, United States
CATEGORIES:College and Career
ATTACH;FMTTYPE=image/jpeg:https://lhcc.info/wp-content/uploads/2021/03/youngadults-1464x700.jpg
GEO:41.5556183;-71.5189401
X-APPLE-STRUCTURED-LOCATION;VALUE=URI;X-ADDRESS=Living Hope Christian Church 730 South County Trail North Kingstown RI 02852 United States;X-APPLE-RADIUS=500;X-TITLE=730 South County Trail:geo:-71.5189401,41.5556183
END:VEVENT
BEGIN:VEVENT
DTSTART;TZID=America/New_York:20230806T140000
DTEND;TZID=America/New_York:20230806T160000
DTSTAMP:20260423T191424
CREATED:20230713T220222Z
LAST-MODIFIED:20230713T220239Z
UID:10006756-1691330400-1691337600@lhcc.info
SUMMARY:College & Career
DESCRIPTION:Young adults ages 18 to 20 something come enjoy a little outdoor adventure with us on Sunday\, August 6th at 2pm.\nWe will be meeting at the church then heading to Narrow River for some kayaking and paddle boarding.
URL:https://lhcc.info/event/college-career-8/
LOCATION:Narrow River
CATEGORIES:College and Career
ATTACH;FMTTYPE=image/jpeg:https://lhcc.info/wp-content/uploads/2021/03/youngadults-1464x700.jpg
END:VEVENT
BEGIN:VEVENT
DTSTART;TZID=America/New_York:20230723T190000
DTEND;TZID=America/New_York:20230723T203000
DTSTAMP:20260423T191424
CREATED:20230713T215639Z
LAST-MODIFIED:20230713T215639Z
UID:10006755-1690138800-1690144200@lhcc.info
SUMMARY:College & Career
DESCRIPTION:Young adults ages 18 to 2o something!\nWe will be meeting at the church on Sunday\, July 23rd at 7pm for some fun and fellowship together!
URL:https://lhcc.info/event/college-career-7/
LOCATION:Living Hope Christian Church\, 730 South County Trail\, North Kingstown\, RI\, 02852\, United States
CATEGORIES:College and Career
ATTACH;FMTTYPE=image/jpeg:https://lhcc.info/wp-content/uploads/2021/03/youngadults-1464x700.jpg
GEO:41.5556183;-71.5189401
X-APPLE-STRUCTURED-LOCATION;VALUE=URI;X-ADDRESS=Living Hope Christian Church 730 South County Trail North Kingstown RI 02852 United States;X-APPLE-RADIUS=500;X-TITLE=730 South County Trail:geo:-71.5189401,41.5556183
END:VEVENT
BEGIN:VEVENT
DTSTART;TZID=America/New_York:20230709T190000
DTEND;TZID=America/New_York:20230709T210000
DTSTAMP:20260423T191424
CREATED:20230620T171104Z
LAST-MODIFIED:20230620T171120Z
UID:10006748-1688929200-1688936400@lhcc.info
SUMMARY:College & Career Group
DESCRIPTION:Meet at the home of Spencer McCombe (7 Thurston Ave\, Newport\, RI 02840) at 7pm for dinner and fellowship together!
URL:https://lhcc.info/event/college-career-group-2/
LOCATION:7 Thurston Avenue Newport\, RI 02840
CATEGORIES:College and Career
ATTACH;FMTTYPE=image/jpeg:https://lhcc.info/wp-content/uploads/2021/03/youngadults-1464x700.jpg
END:VEVENT
BEGIN:VEVENT
DTSTART;TZID=America/New_York:20230625T180000
DTEND;TZID=America/New_York:20230625T200000
DTSTAMP:20260423T191424
CREATED:20230502T203918Z
LAST-MODIFIED:20230621T173210Z
UID:10006711-1687716000-1687723200@lhcc.info
SUMMARY:Missions Information Night
DESCRIPTION:Sunday June 25th from 6-8pm\nThis will be an experiential\, informational evening about missions geared for our youth and College & Career groups\, however\, ANYONE interested in learning more about missions is invited to join! \n RSVP requested for headcount.\n  \n 
URL:https://lhcc.info/event/missions-information-night/
LOCATION:Living Hope Christian Church\, 730 South County Trail\, North Kingstown\, RI\, 02852\, United States
CATEGORIES:College and Career,Missions Ministry,Teen Ministry
ATTACH;FMTTYPE=image/jpeg:https://lhcc.info/wp-content/uploads/2023/05/LHCC-Slideshow.jpg
GEO:41.5556183;-71.5189401
X-APPLE-STRUCTURED-LOCATION;VALUE=URI;X-ADDRESS=Living Hope Christian Church 730 South County Trail North Kingstown RI 02852 United States;X-APPLE-RADIUS=500;X-TITLE=730 South County Trail:geo:-71.5189401,41.5556183
END:VEVENT
BEGIN:VEVENT
DTSTART;TZID=America/New_York:20230604T190000
DTEND;TZID=America/New_York:20230604T203000
DTSTAMP:20260423T191424
CREATED:20230526T141434Z
LAST-MODIFIED:20230602T143850Z
UID:10006712-1685905200-1685910600@lhcc.info
SUMMARY:College & Career
DESCRIPTION:Join us as we get together on Sunday\, June 4th at 7pm for a game night and some pizza at the church!
URL:https://lhcc.info/event/college-career-6/
LOCATION:RI
CATEGORIES:College and Career
ATTACH;FMTTYPE=image/jpeg:https://lhcc.info/wp-content/uploads/2021/03/youngadults-1464x700.jpg
END:VEVENT
BEGIN:VEVENT
DTSTART;TZID=America/New_York:20230423T190000
DTEND;TZID=America/New_York:20230423T203000
DTSTAMP:20260423T191424
CREATED:20230419T142830Z
LAST-MODIFIED:20230419T142830Z
UID:10006708-1682276400-1682281800@lhcc.info
SUMMARY:College & Career Group Meeting
DESCRIPTION:If you are a young adult age 18 to 20 something this group is for you!\nWe come together for fellowship and discussion on the important life issue young adults are facing from a Biblical point of view.\nHope to see you there!
URL:https://lhcc.info/event/college-career-group-meeting-2/
LOCATION:Living Hope Christian Church\, 730 South County Trail\, North Kingstown\, RI\, 02852\, United States
CATEGORIES:College and Career
ATTACH;FMTTYPE=image/jpeg:https://lhcc.info/wp-content/uploads/2021/03/youngadults-1464x700.jpg
GEO:41.5556183;-71.5189401
X-APPLE-STRUCTURED-LOCATION;VALUE=URI;X-ADDRESS=Living Hope Christian Church 730 South County Trail North Kingstown RI 02852 United States;X-APPLE-RADIUS=500;X-TITLE=730 South County Trail:geo:-71.5189401,41.5556183
END:VEVENT
BEGIN:VEVENT
DTSTART;TZID=America/New_York:20230219T190000
DTEND;TZID=America/New_York:20230219T203000
DTSTAMP:20260423T191424
CREATED:20230217T142710Z
LAST-MODIFIED:20230217T142710Z
UID:10006700-1676833200-1676838600@lhcc.info
SUMMARY:College & Career Meeting
DESCRIPTION:If you are a young adult age 18 to 20 something\, this group led by Spencer McCombe is for you. This is a time to come together and discuss issues you are face as you navigate into adulthood like relationships\, college\, and career paths and all from a Biblical perspective.
URL:https://lhcc.info/event/college-career-meeting-4/
LOCATION:Living Hope Christian Church\, 730 South County Trail\, North Kingstown\, RI\, 02852\, United States
CATEGORIES:College and Career
ATTACH;FMTTYPE=image/jpeg:https://lhcc.info/wp-content/uploads/2021/03/youngadults-1464x700.jpg
GEO:41.5556183;-71.5189401
X-APPLE-STRUCTURED-LOCATION;VALUE=URI;X-ADDRESS=Living Hope Christian Church 730 South County Trail North Kingstown RI 02852 United States;X-APPLE-RADIUS=500;X-TITLE=730 South County Trail:geo:-71.5189401,41.5556183
END:VEVENT
BEGIN:VEVENT
DTSTART;TZID=America/New_York:20220227T180000
DTEND;TZID=America/New_York:20220227T193000
DTSTAMP:20260423T191424
CREATED:20220201T194558Z
LAST-MODIFIED:20220201T194643Z
UID:10005419-1645984800-1645990200@lhcc.info
SUMMARY:College & Career Meeting
DESCRIPTION:Our young adult group for people ages 18 to 20 something will be meeting Sunday\, February 27th @6pm here at the church\nLed by Spencer McCombe\, this group assists young adults with their transition into adulthood by providing Godly principles regarding pertinent issues they are facing like relationships\, college\, and starting their careers and families.
URL:https://lhcc.info/event/college-career-meeting-3/
LOCATION:Living Hope Christian Church\, 730 South County Trail\, North Kingstown\, RI\, 02852\, United States
CATEGORIES:College and Career
ATTACH;FMTTYPE=image/jpeg:https://lhcc.info/wp-content/uploads/2021/03/youngadults-1464x700.jpg
GEO:41.5556183;-71.5189401
X-APPLE-STRUCTURED-LOCATION;VALUE=URI;X-ADDRESS=Living Hope Christian Church 730 South County Trail North Kingstown RI 02852 United States;X-APPLE-RADIUS=500;X-TITLE=730 South County Trail:geo:-71.5189401,41.5556183
END:VEVENT
BEGIN:VEVENT
DTSTART;TZID=America/New_York:20210919T190000
DTEND;TZID=America/New_York:20210919T203000
DTSTAMP:20260423T191424
CREATED:20210903T152702Z
LAST-MODIFIED:20210903T152702Z
UID:10006381-1632078000-1632083400@lhcc.info
SUMMARY:College & Career Meeting
DESCRIPTION:Our young adult group\, ages 18 to 20 something will be on Sunday\, September 19th at 7pm here at the church. \nThis is a great time of fellowship\, encouragement\, and Godly instruction as you enter all the new adventures adulthood brings!
URL:https://lhcc.info/event/college-career-meeting-2/
LOCATION:Living Hope Christian Church\, 730 South County Trail\, North Kingstown\, RI\, 02852\, United States
CATEGORIES:College and Career
ATTACH;FMTTYPE=image/jpeg:https://lhcc.info/wp-content/uploads/2021/03/youngadults-1464x700.jpg
GEO:41.5556183;-71.5189401
X-APPLE-STRUCTURED-LOCATION;VALUE=URI;X-ADDRESS=Living Hope Christian Church 730 South County Trail North Kingstown RI 02852 United States;X-APPLE-RADIUS=500;X-TITLE=730 South County Trail:geo:-71.5189401,41.5556183
END:VEVENT
BEGIN:VEVENT
DTSTART;TZID=America/New_York:20210718T190000
DTEND;TZID=America/New_York:20210718T203000
DTSTAMP:20260423T191424
CREATED:20210702T151608Z
LAST-MODIFIED:20210702T151608Z
UID:10004841-1626634800-1626640200@lhcc.info
SUMMARY:College & Career
DESCRIPTION:The next meeting for our young adult group\, ages 18 to 20 something will be Sunday\, July 18th at 7pm at the church. \nThis is a great group to offer encouragement and Godly principle to help guide your way into adulthood. Hope to see you there!
URL:https://lhcc.info/event/college-career-4/
LOCATION:Living Hope Christian Church\, 730 South County Trail\, North Kingstown\, RI\, 02852\, United States
CATEGORIES:College and Career
ATTACH;FMTTYPE=image/jpeg:https://lhcc.info/wp-content/uploads/2021/03/youngadults-1464x700.jpg
GEO:41.5556183;-71.5189401
X-APPLE-STRUCTURED-LOCATION;VALUE=URI;X-ADDRESS=Living Hope Christian Church 730 South County Trail North Kingstown RI 02852 United States;X-APPLE-RADIUS=500;X-TITLE=730 South County Trail:geo:-71.5189401,41.5556183
END:VEVENT
BEGIN:VEVENT
DTSTART;TZID=America/New_York:20210627T190000
DTEND;TZID=America/New_York:20210627T203000
DTSTAMP:20260423T191424
CREATED:20210623T182848Z
LAST-MODIFIED:20210623T182848Z
UID:10004828-1624820400-1624825800@lhcc.info
SUMMARY:College & Career
DESCRIPTION:Young adults\, ages 18 to 20 something come join us for a night of fellowship and Biblical guidance on your journey into adult life\, relationships\, and careers!
URL:https://lhcc.info/event/college-career-3/
LOCATION:Living Hope Christian Church\, 730 South County Trail\, North Kingstown\, RI\, 02852\, United States
CATEGORIES:College and Career
ATTACH;FMTTYPE=image/jpeg:https://lhcc.info/wp-content/uploads/2021/03/youngadults-1464x700.jpg
GEO:41.5556183;-71.5189401
X-APPLE-STRUCTURED-LOCATION;VALUE=URI;X-ADDRESS=Living Hope Christian Church 730 South County Trail North Kingstown RI 02852 United States;X-APPLE-RADIUS=500;X-TITLE=730 South County Trail:geo:-71.5189401,41.5556183
END:VEVENT
BEGIN:VEVENT
DTSTART;TZID=America/New_York:20210606T190000
DTEND;TZID=America/New_York:20210606T203000
DTSTAMP:20260423T191424
CREATED:20210602T151704Z
LAST-MODIFIED:20210602T151704Z
UID:10006248-1623006000-1623011400@lhcc.info
SUMMARY:College & Career Meeting
DESCRIPTION:If you are 18 to 20 something then come join us at the church for our College & career group meeting at 7pm. A great time of fellowship and direction from God’s word for your journey into adulthood.
URL:https://lhcc.info/event/college-career-meeting/
LOCATION:Living Hope Christian Church\, 730 South County Trail\, North Kingstown\, RI\, 02852\, United States
CATEGORIES:College and Career
ATTACH;FMTTYPE=image/jpeg:https://lhcc.info/wp-content/uploads/2021/03/youngadults-1464x700.jpg
GEO:41.5556183;-71.5189401
X-APPLE-STRUCTURED-LOCATION;VALUE=URI;X-ADDRESS=Living Hope Christian Church 730 South County Trail North Kingstown RI 02852 United States;X-APPLE-RADIUS=500;X-TITLE=730 South County Trail:geo:-71.5189401,41.5556183
END:VEVENT
BEGIN:VEVENT
DTSTART;TZID=America/New_York:20200927T190000
DTEND;TZID=America/New_York:20200927T200000
DTSTAMP:20260423T191424
CREATED:20200909T160755Z
LAST-MODIFIED:20200909T160755Z
UID:10006204-1601233200-1601236800@lhcc.info
SUMMARY:College & Career Group Meeting
DESCRIPTION:If you are 18 to late 20s and looking to be encouraged in your walk with Christ while building relationships with other believers this group is for you. \nLed by Spencer McCombe\, meetings talk about real life issues you are facing as you enter college\, careers\, relationships\, and your journey into adulthood and independence. Also how to keep God at the center of all those issues so you can grow in your relationship with him along the way. \nPlease join us at 7pm and be blessed!
URL:https://lhcc.info/event/college-career-group-meeting/
LOCATION:Living Hope Christian Church\, 730 South County Trail\, North Kingstown\, RI\, 02852\, United States
CATEGORIES:College and Career
GEO:41.5556183;-71.5189401
X-APPLE-STRUCTURED-LOCATION;VALUE=URI;X-ADDRESS=Living Hope Christian Church 730 South County Trail North Kingstown RI 02852 United States;X-APPLE-RADIUS=500;X-TITLE=730 South County Trail:geo:-71.5189401,41.5556183
END:VEVENT
BEGIN:VEVENT
DTSTART;TZID=America/New_York:20190407T190000
DTEND;TZID=America/New_York:20190407T203000
DTSTAMP:20260423T191424
CREATED:20190406T151227Z
LAST-MODIFIED:20190406T151227Z
UID:10006008-1554663600-1554669000@lhcc.info
SUMMARY:College & Career Ministry
DESCRIPTION:College & Career is meeting on Sunday\, April 7th at 7 pm at Living Hope Christian Church! Come out early for the Mini Missions Conference (starts at 5:00 pm) and enjoy a light supper together as we hear from missionaries we support.  \nQuestions about C & C? Contact Spencer McCombe!
URL:https://lhcc.info/event/college-career-ministry-2/
LOCATION:Living Hope Christian Church\, 730 South County Trail\, North Kingstown\, RI\, 02852\, United States
CATEGORIES:College and Career
GEO:41.5556183;-71.5189401
X-APPLE-STRUCTURED-LOCATION;VALUE=URI;X-ADDRESS=Living Hope Christian Church 730 South County Trail North Kingstown RI 02852 United States;X-APPLE-RADIUS=500;X-TITLE=730 South County Trail:geo:-71.5189401,41.5556183
END:VEVENT
BEGIN:VEVENT
DTSTART;TZID=America/New_York:20180408T190000
DTEND;TZID=America/New_York:20180408T210000
DTSTAMP:20260423T191424
CREATED:20180403T220711Z
LAST-MODIFIED:20180403T220711Z
UID:10005674-1523214000-1523221200@lhcc.info
SUMMARY:College and Career Ministry
DESCRIPTION:Our College and Career ministry is led by Spencer McCombe. Ministering to young adults ages 18-28\, we seek to apply God’s word to everyday life\, encouraging fellowship and growth in Christ as we attend college\, work\, develop careers\, and build families. \nThe College and Career Ministry has a “closed” Facebook Group to keep everyone in the loop! To be a part of that Facebook group\, or for more information about the College and Career Ministry\, email Spencer!
URL:https://lhcc.info/event/college-career-ministry/
LOCATION:Living Hope Christian Church\, 730 South County Trail\, North Kingstown\, RI\, 02852\, United States
CATEGORIES:College and Career
GEO:41.5556183;-71.5189401
X-APPLE-STRUCTURED-LOCATION;VALUE=URI;X-ADDRESS=Living Hope Christian Church 730 South County Trail North Kingstown RI 02852 United States;X-APPLE-RADIUS=500;X-TITLE=730 South County Trail:geo:-71.5189401,41.5556183
END:VEVENT
BEGIN:VEVENT
DTSTART;TZID=America/New_York:20180107T190000
DTEND;TZID=America/New_York:20180107T203000
DTSTAMP:20260423T191424
CREATED:20180102T154026Z
LAST-MODIFIED:20180102T154026Z
UID:10004053-1515351600-1515357000@lhcc.info
SUMMARY:LHCC College and Career Group
DESCRIPTION:Our College and Career ministry is led by Spencer McCombe. Ministering to young adults ages 18-28\, we seek to apply God’s word to everyday life\, encouraging fellowship and growth in Christ as we attend college\, work\, develop careers\, and build families. \nWe usually meet every other week\, on Sunday nights at 7pm\, at various locations. \nThe College and Career Ministry has a “closed” Facebook Group to keep everyone in the loop! To be a part of that Facebook group\, or for more information about the College and Career Ministry\, email Spencer!
URL:https://lhcc.info/event/lhcc-college-career-group/
LOCATION:Living Hope Christian Church\, 730 South County Trail\, North Kingstown\, RI\, 02852\, United States
CATEGORIES:College and Career
GEO:41.5556183;-71.5189401
X-APPLE-STRUCTURED-LOCATION;VALUE=URI;X-ADDRESS=Living Hope Christian Church 730 South County Trail North Kingstown RI 02852 United States;X-APPLE-RADIUS=500;X-TITLE=730 South County Trail:geo:-71.5189401,41.5556183
END:VEVENT
END:VCALENDAR