BEGIN:VCALENDAR
VERSION:2.0
PRODID:-//Living Hope Christian Church - ECPv6.15.17.1//NONSGML v1.0//EN
CALSCALE:GREGORIAN
METHOD:PUBLISH
X-WR-CALNAME:Living Hope Christian Church
X-ORIGINAL-URL:https://lhcc.info
X-WR-CALDESC:Events for Living Hope Christian Church
REFRESH-INTERVAL;VALUE=DURATION:PT1H
X-Robots-Tag:noindex
X-PUBLISHED-TTL:PT1H
BEGIN:VTIMEZONE
TZID:America/New_York
BEGIN:DAYLIGHT
TZOFFSETFROM:-0500
TZOFFSETTO:-0400
TZNAME:EDT
DTSTART:20240310T070000
END:DAYLIGHT
BEGIN:STANDARD
TZOFFSETFROM:-0400
TZOFFSETTO:-0500
TZNAME:EST
DTSTART:20241103T060000
END:STANDARD
BEGIN:DAYLIGHT
TZOFFSETFROM:-0500
TZOFFSETTO:-0400
TZNAME:EDT
DTSTART:20250309T070000
END:DAYLIGHT
BEGIN:STANDARD
TZOFFSETFROM:-0400
TZOFFSETTO:-0500
TZNAME:EST
DTSTART:20251102T060000
END:STANDARD
BEGIN:DAYLIGHT
TZOFFSETFROM:-0500
TZOFFSETTO:-0400
TZNAME:EDT
DTSTART:20260308T070000
END:DAYLIGHT
BEGIN:STANDARD
TZOFFSETFROM:-0400
TZOFFSETTO:-0500
TZNAME:EST
DTSTART:20261101T060000
END:STANDARD
END:VTIMEZONE
BEGIN:VEVENT
DTSTART;TZID=America/New_York:20251026T113000
DTEND;TZID=America/New_York:20251026T130000
DTSTAMP:20260424T022100
CREATED:20250826T185040Z
LAST-MODIFIED:20250826T185040Z
UID:10011304-1761478200-1761483600@lhcc.info
SUMMARY:Monthly Fellowship Lunch
DESCRIPTION:The last Sunday of each month immediately following service we have our Monthly Fellowship Lunch!  \nThis is a “pot-blessing” style event so we ask everyone to please bring a dish to share. Don’t miss this great opportunity each month to stay for some fun\, food\, and fellowship with your church family.
URL:https://lhcc.info/event/monthly-fellowship-lunch-16/2025-10-26/
LOCATION:Living Hope Christian Church\, 730 South County Trail\, North Kingstown\, RI\, 02852\, United States
CATEGORIES:Church Events
ATTACH;FMTTYPE=image/png:https://lhcc.info/wp-content/uploads/2024/12/fellowship-lunch.png
GEO:41.5556183;-71.5189401
X-APPLE-STRUCTURED-LOCATION;VALUE=URI;X-ADDRESS=Living Hope Christian Church 730 South County Trail North Kingstown RI 02852 United States;X-APPLE-RADIUS=500;X-TITLE=730 South County Trail:geo:-71.5189401,41.5556183
END:VEVENT
BEGIN:VEVENT
DTSTART;TZID=America/New_York:20251026T123000
DTEND;TZID=America/New_York:20251026T143000
DTSTAMP:20260424T022100
CREATED:20250907T125601Z
LAST-MODIFIED:20250907T125614Z
UID:10011362-1761481800-1761489000@lhcc.info
SUMMARY:Trunk or Treat
DESCRIPTION:This FREE family event is for for all! Wear your costumes and come trick or treat for candy at our family-friendly decorated cars! \nSunday\, October 26th from 12:30pm to 2:30pm \nIf you would like to decorate your car and bring candy to hand out please Sign Up Here!
URL:https://lhcc.info/event/trunk-or-treat-3/
LOCATION:Living Hope Christian Church\, 730 South County Trail\, North Kingstown\, RI\, 02852\, United States
CATEGORIES:Church Events,Community Events
ATTACH;FMTTYPE=image/png:https://lhcc.info/wp-content/uploads/2025/09/LHCC-Trunk-or-Treat-Postcard-1920-x-1080-px.png
GEO:41.5556183;-71.5189401
X-APPLE-STRUCTURED-LOCATION;VALUE=URI;X-ADDRESS=Living Hope Christian Church 730 South County Trail North Kingstown RI 02852 United States;X-APPLE-RADIUS=500;X-TITLE=730 South County Trail:geo:-71.5189401,41.5556183
END:VEVENT
END:VCALENDAR