BEGIN:VCALENDAR
VERSION:2.0
PRODID:-//Living Hope Christian Church - ECPv6.15.17.1//NONSGML v1.0//EN
CALSCALE:GREGORIAN
METHOD:PUBLISH
X-ORIGINAL-URL:https://lhcc.info
X-WR-CALDESC:Events for Living Hope Christian Church
REFRESH-INTERVAL;VALUE=DURATION:PT1H
X-Robots-Tag:noindex
X-PUBLISHED-TTL:PT1H
BEGIN:VTIMEZONE
TZID:America/New_York
BEGIN:DAYLIGHT
TZOFFSETFROM:-0500
TZOFFSETTO:-0400
TZNAME:EDT
DTSTART:20230312T070000
END:DAYLIGHT
BEGIN:STANDARD
TZOFFSETFROM:-0400
TZOFFSETTO:-0500
TZNAME:EST
DTSTART:20231105T060000
END:STANDARD
BEGIN:DAYLIGHT
TZOFFSETFROM:-0500
TZOFFSETTO:-0400
TZNAME:EDT
DTSTART:20240310T070000
END:DAYLIGHT
BEGIN:STANDARD
TZOFFSETFROM:-0400
TZOFFSETTO:-0500
TZNAME:EST
DTSTART:20241103T060000
END:STANDARD
BEGIN:DAYLIGHT
TZOFFSETFROM:-0500
TZOFFSETTO:-0400
TZNAME:EDT
DTSTART:20250309T070000
END:DAYLIGHT
BEGIN:STANDARD
TZOFFSETFROM:-0400
TZOFFSETTO:-0500
TZNAME:EST
DTSTART:20251102T060000
END:STANDARD
END:VTIMEZONE
BEGIN:VEVENT
DTSTART;TZID=America/New_York:20241117T180000
DTEND;TZID=America/New_York:20241117T193000
DTSTAMP:20260425T063335
CREATED:20241029T184702Z
LAST-MODIFIED:20241029T184702Z
UID:10006889-1731866400-1731871800@lhcc.info
SUMMARY:Operation Christmas Child Packing Party
DESCRIPTION:Come help pack the Operation Christmas Child boxes to be sent out all over the world to bring children gifts and the gospel of Christ for Christmas! \nSunday\, November 17th at 6pm – Feel free to bring extra items to be packed as well that evening!
URL:https://lhcc.info/event/operation-christmas-child-packing-party/
LOCATION:Living Hope Christian Church\, 730 South County Trail\, North Kingstown\, RI\, 02852\, United States
CATEGORIES:Church Events
ATTACH;FMTTYPE=image/png:https://lhcc.info/wp-content/uploads/2024/10/Shoebox-Collection-.png
GEO:41.5556183;-71.5189401
X-APPLE-STRUCTURED-LOCATION;VALUE=URI;X-ADDRESS=Living Hope Christian Church 730 South County Trail North Kingstown RI 02852 United States;X-APPLE-RADIUS=500;X-TITLE=730 South County Trail:geo:-71.5189401,41.5556183
END:VEVENT
END:VCALENDAR