BEGIN:VCALENDAR
VERSION:2.0
PRODID:-//Living Hope Christian Church - ECPv6.15.17.1//NONSGML v1.0//EN
CALSCALE:GREGORIAN
METHOD:PUBLISH
X-WR-CALNAME:Living Hope Christian Church
X-ORIGINAL-URL:https://lhcc.info
X-WR-CALDESC:Events for Living Hope Christian Church
REFRESH-INTERVAL;VALUE=DURATION:PT1H
X-Robots-Tag:noindex
X-PUBLISHED-TTL:PT1H
BEGIN:VTIMEZONE
TZID:America/New_York
BEGIN:DAYLIGHT
TZOFFSETFROM:-0500
TZOFFSETTO:-0400
TZNAME:EDT
DTSTART:20230312T070000
END:DAYLIGHT
BEGIN:STANDARD
TZOFFSETFROM:-0400
TZOFFSETTO:-0500
TZNAME:EST
DTSTART:20231105T060000
END:STANDARD
BEGIN:DAYLIGHT
TZOFFSETFROM:-0500
TZOFFSETTO:-0400
TZNAME:EDT
DTSTART:20240310T070000
END:DAYLIGHT
BEGIN:STANDARD
TZOFFSETFROM:-0400
TZOFFSETTO:-0500
TZNAME:EST
DTSTART:20241103T060000
END:STANDARD
BEGIN:DAYLIGHT
TZOFFSETFROM:-0500
TZOFFSETTO:-0400
TZNAME:EDT
DTSTART:20250309T070000
END:DAYLIGHT
BEGIN:STANDARD
TZOFFSETFROM:-0400
TZOFFSETTO:-0500
TZNAME:EST
DTSTART:20251102T060000
END:STANDARD
END:VTIMEZONE
BEGIN:VEVENT
DTSTART;TZID=America/New_York:20240721T100000
DTEND;TZID=America/New_York:20240721T150000
DTSTAMP:20260425T125159
CREATED:20240516T204123Z
LAST-MODIFIED:20240523T115215Z
UID:10005858-1721556000-1721574000@lhcc.info
SUMMARY:LHCC's 25th Anniversary Summer Celebration
DESCRIPTION:LHCC celebrated our 25th Anniversary this year and that makes this year’s Summer Celebration even more special!\nAll are welcome to join and everything is absolutely FREE!\nWe will have our normal church service outside at the bandstand at 10am followed by music\, crafts\, face painting\, games\, a bouncehouse\, and more! Our menu includes delicious homemade clam cakes and chowder as well as hot dogs\, watermelon\, and treats!Enter our Corn Hole Tournament where you can win CASH prizes!Fun for everyone in the family…don’t miss it! \nWant to volunteer to help…just click here and sign up!
URL:https://lhcc.info/event/lhccs-25th-anniversary-summer-celebration/
LOCATION:North Kingstown Town Beach\, 10 Beach Street\, North Kingstown\, RI\, 02852\, United States
CATEGORIES:Church Events
ATTACH;FMTTYPE=image/png:https://lhcc.info/wp-content/uploads/2024/05/Copy-of-Summer-Celebration-Invite-3.png
GEO:41.565885;-71.443897
X-APPLE-STRUCTURED-LOCATION;VALUE=URI;X-ADDRESS=North Kingstown Town Beach 10 Beach Street North Kingstown RI 02852 United States;X-APPLE-RADIUS=500;X-TITLE=10 Beach Street:geo:-71.443897,41.565885
END:VEVENT
END:VCALENDAR