BEGIN:VCALENDAR
VERSION:2.0
PRODID:-//Living Hope Christian Church - ECPv6.15.17.1//NONSGML v1.0//EN
CALSCALE:GREGORIAN
METHOD:PUBLISH
X-ORIGINAL-URL:https://lhcc.info
X-WR-CALDESC:Events for Living Hope Christian Church
REFRESH-INTERVAL;VALUE=DURATION:PT1H
X-Robots-Tag:noindex
X-PUBLISHED-TTL:PT1H
BEGIN:VTIMEZONE
TZID:America/New_York
BEGIN:DAYLIGHT
TZOFFSETFROM:-0500
TZOFFSETTO:-0400
TZNAME:EDT
DTSTART:20240310T070000
END:DAYLIGHT
BEGIN:STANDARD
TZOFFSETFROM:-0400
TZOFFSETTO:-0500
TZNAME:EST
DTSTART:20241103T060000
END:STANDARD
BEGIN:DAYLIGHT
TZOFFSETFROM:-0500
TZOFFSETTO:-0400
TZNAME:EDT
DTSTART:20250309T070000
END:DAYLIGHT
BEGIN:STANDARD
TZOFFSETFROM:-0400
TZOFFSETTO:-0500
TZNAME:EST
DTSTART:20251102T060000
END:STANDARD
BEGIN:DAYLIGHT
TZOFFSETFROM:-0500
TZOFFSETTO:-0400
TZNAME:EDT
DTSTART:20260308T070000
END:DAYLIGHT
BEGIN:STANDARD
TZOFFSETFROM:-0400
TZOFFSETTO:-0500
TZNAME:EST
DTSTART:20261101T060000
END:STANDARD
END:VTIMEZONE
BEGIN:VEVENT
DTSTART;TZID=America/New_York:20250901T190000
DTEND;TZID=America/New_York:20250901T203000
DTSTAMP:20260424T063010
CREATED:20230620T145125Z
LAST-MODIFIED:20250124T010743Z
UID:10006741-1756753200-1756758600@lhcc.info
SUMMARY:Creating Hope Paint Night
DESCRIPTION:Join us for a FREE night of creativity and fellowship as Tony Mattera guides us through the process of painting another new masterpiece. \nYou must be at least 13 years old to join and we ask you to Sign Up Online so we can ensure materials and seating. \nJoin us for this fun night out together!
URL:https://lhcc.info/event/creating-hope-paint-night-4-2023-09-04-2023-12-04/2025-09-01/
LOCATION:RI
CATEGORIES:Church Events
ATTACH;FMTTYPE=image/jpeg:https://lhcc.info/wp-content/uploads/2023/02/creating-hope-insta.jpg
END:VEVENT
BEGIN:VEVENT
DTSTART;TZID=America/New_York:20250924T190000
DTEND;TZID=America/New_York:20250924T203000
DTSTAMP:20260424T063010
CREATED:20250916T145540Z
LAST-MODIFIED:20250916T163404Z
UID:10011363-1758740400-1758745800@lhcc.info
SUMMARY:10 Days of Prayer Gathering
DESCRIPTION:10 Days of Prayer is a worldwide prayer meeting\, dedicating 10 days\, from Rosh Hashanah to Yom Kippur\, to pray and worship Jesus with other believers in your community. \nWe are hosting a 10 Days Prayer Gathering on  Wednesday\, September 24th at 7pm \nJoin us as we stand together in unity with the global church to take a tangible step of obedience toward the answer to Jesus’ prayer in John 17:21: “Let them be one as We [the Father and the Son] are one.” 
URL:https://lhcc.info/event/10-days-of-prayer-gathering/
LOCATION:Living Hope Christian Church\, 730 South County Trail\, North Kingstown\, RI\, 02852\, United States
CATEGORIES:Church Events,Community Events,Prayer
ATTACH;FMTTYPE=image/png:https://lhcc.info/wp-content/uploads/2025/09/September-22-October-2-2025.png
GEO:41.5556183;-71.5189401
X-APPLE-STRUCTURED-LOCATION;VALUE=URI;X-ADDRESS=Living Hope Christian Church 730 South County Trail North Kingstown RI 02852 United States;X-APPLE-RADIUS=500;X-TITLE=730 South County Trail:geo:-71.5189401,41.5556183
END:VEVENT
BEGIN:VEVENT
DTSTART;TZID=America/New_York:20250928T113000
DTEND;TZID=America/New_York:20250928T130000
DTSTAMP:20260424T063010
CREATED:20250826T185040Z
LAST-MODIFIED:20250826T185040Z
UID:10011303-1759059000-1759064400@lhcc.info
SUMMARY:Monthly Fellowship Lunch
DESCRIPTION:The last Sunday of each month immediately following service we have our Monthly Fellowship Lunch!  \nThis is a “pot-blessing” style event so we ask everyone to please bring a dish to share. Don’t miss this great opportunity each month to stay for some fun\, food\, and fellowship with your church family.
URL:https://lhcc.info/event/monthly-fellowship-lunch-16/2025-09-28/
LOCATION:Living Hope Christian Church\, 730 South County Trail\, North Kingstown\, RI\, 02852\, United States
CATEGORIES:Church Events
ATTACH;FMTTYPE=image/png:https://lhcc.info/wp-content/uploads/2024/12/fellowship-lunch.png
GEO:41.5556183;-71.5189401
X-APPLE-STRUCTURED-LOCATION;VALUE=URI;X-ADDRESS=Living Hope Christian Church 730 South County Trail North Kingstown RI 02852 United States;X-APPLE-RADIUS=500;X-TITLE=730 South County Trail:geo:-71.5189401,41.5556183
END:VEVENT
END:VCALENDAR