BEGIN:VCALENDAR
VERSION:2.0
PRODID:-//Living Hope Christian Church - ECPv6.15.17.1//NONSGML v1.0//EN
CALSCALE:GREGORIAN
METHOD:PUBLISH
X-ORIGINAL-URL:https://lhcc.info
X-WR-CALDESC:Events for Living Hope Christian Church
REFRESH-INTERVAL;VALUE=DURATION:PT1H
X-Robots-Tag:noindex
X-PUBLISHED-TTL:PT1H
BEGIN:VTIMEZONE
TZID:America/New_York
BEGIN:DAYLIGHT
TZOFFSETFROM:-0500
TZOFFSETTO:-0400
TZNAME:EDT
DTSTART:20240310T070000
END:DAYLIGHT
BEGIN:STANDARD
TZOFFSETFROM:-0400
TZOFFSETTO:-0500
TZNAME:EST
DTSTART:20241103T060000
END:STANDARD
BEGIN:DAYLIGHT
TZOFFSETFROM:-0500
TZOFFSETTO:-0400
TZNAME:EDT
DTSTART:20250309T070000
END:DAYLIGHT
BEGIN:STANDARD
TZOFFSETFROM:-0400
TZOFFSETTO:-0500
TZNAME:EST
DTSTART:20251102T060000
END:STANDARD
BEGIN:DAYLIGHT
TZOFFSETFROM:-0500
TZOFFSETTO:-0400
TZNAME:EDT
DTSTART:20260308T070000
END:DAYLIGHT
BEGIN:STANDARD
TZOFFSETFROM:-0400
TZOFFSETTO:-0500
TZNAME:EST
DTSTART:20261101T060000
END:STANDARD
END:VTIMEZONE
BEGIN:VEVENT
DTSTART;TZID=America/New_York:20250804T190000
DTEND;TZID=America/New_York:20250804T203000
DTSTAMP:20260424T062917
CREATED:20230620T145125Z
LAST-MODIFIED:20250124T010743Z
UID:10006740-1754334000-1754339400@lhcc.info
SUMMARY:Creating Hope Paint Night
DESCRIPTION:Join us for a FREE night of creativity and fellowship as Tony Mattera guides us through the process of painting another new masterpiece. \nYou must be at least 13 years old to join and we ask you to Sign Up Online so we can ensure materials and seating. \nJoin us for this fun night out together!
URL:https://lhcc.info/event/creating-hope-paint-night-4-2023-09-04-2023-12-04/2025-08-04/
LOCATION:RI
CATEGORIES:Church Events
ATTACH;FMTTYPE=image/jpeg:https://lhcc.info/wp-content/uploads/2023/02/creating-hope-insta.jpg
END:VEVENT
BEGIN:VEVENT
DTSTART;TZID=America/New_York:20250831T113000
DTEND;TZID=America/New_York:20250831T130000
DTSTAMP:20260424T062917
CREATED:20250826T184409Z
LAST-MODIFIED:20250826T184409Z
UID:10011302-1756639800-1756645200@lhcc.info
SUMMARY:Monthly Fellowship Luau Lunch
DESCRIPTION:Aloha! On Sunday\, August 31st immediately after service will be our monthly fellowship lunch.  \nThis month we will have a special twist and it will be Luau theme! So breakout the Hawaiian shirts and maybe you even try a Hawaiian inspired dish as your food item to share at this “pot-blessing” style lunch and come have some fun with your church ohana!
URL:https://lhcc.info/event/monthly-fellowship-luau-lunch/
LOCATION:Living Hope Christian Church\, 730 South County Trail\, North Kingstown\, RI\, 02852\, United States
CATEGORIES:Church Events
ATTACH;FMTTYPE=image/png:https://lhcc.info/wp-content/uploads/2025/08/fellowship-lunch.png
GEO:41.5556183;-71.5189401
X-APPLE-STRUCTURED-LOCATION;VALUE=URI;X-ADDRESS=Living Hope Christian Church 730 South County Trail North Kingstown RI 02852 United States;X-APPLE-RADIUS=500;X-TITLE=730 South County Trail:geo:-71.5189401,41.5556183
END:VEVENT
END:VCALENDAR