BEGIN:VCALENDAR
VERSION:2.0
PRODID:-//Living Hope Christian Church - ECPv6.15.17.1//NONSGML v1.0//EN
CALSCALE:GREGORIAN
METHOD:PUBLISH
X-ORIGINAL-URL:https://lhcc.info
X-WR-CALDESC:Events for Living Hope Christian Church
REFRESH-INTERVAL;VALUE=DURATION:PT1H
X-Robots-Tag:noindex
X-PUBLISHED-TTL:PT1H
BEGIN:VTIMEZONE
TZID:America/New_York
BEGIN:DAYLIGHT
TZOFFSETFROM:-0500
TZOFFSETTO:-0400
TZNAME:EDT
DTSTART:20240310T070000
END:DAYLIGHT
BEGIN:STANDARD
TZOFFSETFROM:-0400
TZOFFSETTO:-0500
TZNAME:EST
DTSTART:20241103T060000
END:STANDARD
BEGIN:DAYLIGHT
TZOFFSETFROM:-0500
TZOFFSETTO:-0400
TZNAME:EDT
DTSTART:20250309T070000
END:DAYLIGHT
BEGIN:STANDARD
TZOFFSETFROM:-0400
TZOFFSETTO:-0500
TZNAME:EST
DTSTART:20251102T060000
END:STANDARD
BEGIN:DAYLIGHT
TZOFFSETFROM:-0500
TZOFFSETTO:-0400
TZNAME:EDT
DTSTART:20260308T070000
END:DAYLIGHT
BEGIN:STANDARD
TZOFFSETFROM:-0400
TZOFFSETTO:-0500
TZNAME:EST
DTSTART:20261101T060000
END:STANDARD
END:VTIMEZONE
BEGIN:VEVENT
DTSTART;TZID=America/New_York:20250407T190000
DTEND;TZID=America/New_York:20250407T203000
DTSTAMP:20260424T120746
CREATED:20230620T145125Z
LAST-MODIFIED:20250124T010743Z
UID:10006736-1744052400-1744057800@lhcc.info
SUMMARY:Creating Hope Paint Night
DESCRIPTION:Join us for a FREE night of creativity and fellowship as Tony Mattera guides us through the process of painting another new masterpiece. \nYou must be at least 13 years old to join and we ask you to Sign Up Online so we can ensure materials and seating. \nJoin us for this fun night out together!
URL:https://lhcc.info/event/creating-hope-paint-night-4-2023-09-04-2023-12-04/2025-04-07/
LOCATION:RI
CATEGORIES:Church Events
ATTACH;FMTTYPE=image/jpeg:https://lhcc.info/wp-content/uploads/2023/02/creating-hope-insta.jpg
END:VEVENT
BEGIN:VEVENT
DTSTART;TZID=America/New_York:20250417T180000
DTEND;TZID=America/New_York:20250417T200000
DTSTAMP:20260424T120746
CREATED:20250311T150053Z
LAST-MODIFIED:20250415T175720Z
UID:10005984-1744912800-1744920000@lhcc.info
SUMMARY:Traditional Seder Dinner
DESCRIPTION:Join us for a traditional Passover meal that the whole family can enjoy. \nOur time together will include readings\, drinking 4 cups\, eating special foods\, singing\, and other Passover traditions. \nRSVP required to ensure food and seating. Contact the church if you would like to attend.
URL:https://lhcc.info/event/traditional-seder-dinner/
LOCATION:Living Hope Christian Church\, 730 South County Trail\, North Kingstown\, RI\, 02852\, United States
CATEGORIES:Church Events
ATTACH;FMTTYPE=image/png:https://lhcc.info/wp-content/uploads/2025/03/Seder-Dinner.png
GEO:41.5556183;-71.5189401
X-APPLE-STRUCTURED-LOCATION;VALUE=URI;X-ADDRESS=Living Hope Christian Church 730 South County Trail North Kingstown RI 02852 United States;X-APPLE-RADIUS=500;X-TITLE=730 South County Trail:geo:-71.5189401,41.5556183
END:VEVENT
BEGIN:VEVENT
DTSTART;TZID=America/New_York:20250418T190000
DTEND;TZID=America/New_York:20250418T200000
DTSTAMP:20260424T120746
CREATED:20250318T200111Z
LAST-MODIFIED:20250318T200111Z
UID:10005986-1745002800-1745006400@lhcc.info
SUMMARY:EMF Good Friday Service
DESCRIPTION:Join the EMF Churches as we gather together to reflect on the ultimate sacrifice Christ made to save us from our sins during our Good Friday service. Friday\, April 18th @7pm. This year Stony Lane Church in Nortrh Kingstown will be our host church.
URL:https://lhcc.info/event/emf-good-friday-service-4/
LOCATION:Stony Lane Church\, 921 Old Baptist Road\, North Kingstown\, RI\, 02852\, United States
CATEGORIES:Church Events
ATTACH;FMTTYPE=image/png:https://lhcc.info/wp-content/uploads/2025/03/Good-Friday.png
GEO:41.5922923;-71.4916038
X-APPLE-STRUCTURED-LOCATION;VALUE=URI;X-ADDRESS=Stony Lane Church 921 Old Baptist Road North Kingstown RI 02852 United States;X-APPLE-RADIUS=500;X-TITLE=921 Old Baptist Road:geo:-71.4916038,41.5922923
END:VEVENT
BEGIN:VEVENT
DTSTART;TZID=America/New_York:20250419T090000
DTEND;TZID=America/New_York:20250419T100000
DTSTAMP:20260424T120746
CREATED:20200211T173822Z
LAST-MODIFIED:20200818T192715Z
UID:10006109-1745053200-1745056800@lhcc.info
SUMMARY:Monthly Prayer Breakfast
DESCRIPTION:Pray and Fellowship with us at our monthly Prayer Breakfast!\nIf you are not able to be here in person just grab your coffee and  join us from your couch through this Zoom link! \nJoin Zoom Meeting\nhttps://us02web.zoom.us/j/82939855986?pwd=eHJ4NWxDY2FNTW9STXJLdFVnNEpYUT09 \nMeeting ID: 829 3985 5986\nPasscode: 301955\nOne tap mobile\n+13017158592\,\,82939855986#\,\,\,\,\,\,0#\,\,301955# US (Germantown)\n+13126266799\,\,82939855986#\,\,\,\,\,\,0#\,\,301955# US (Chicago) \nDial by your location\n+1 301 715 8592 US (Germantown)\n+1 312 626 6799 US (Chicago)\n+1 929 205 6099 US (New York)\n+1 253 215 8782 US (Tacoma)\n+1 346 248 7799 US (Houston)\n+1 669 900 6833 US (San Jose)\nMeeting ID: 829 3985 5986\nPasscode: 301955\nFind your local number: https://us02web.zoom.us/u/khiwSaPmj
URL:https://lhcc.info/event/prayer-breakfast-3/2025-04-19/
LOCATION:Living Hope Christian Church\, 730 South County Trail\, North Kingstown\, RI\, 02852\, United States
CATEGORIES:Church Events,Prayer
ATTACH;FMTTYPE=image/jpeg:https://lhcc.info/wp-content/uploads/2020/02/Prayer-Breakfast.jpg
GEO:41.5556183;-71.5189401
X-APPLE-STRUCTURED-LOCATION;VALUE=URI;X-ADDRESS=Living Hope Christian Church 730 South County Trail North Kingstown RI 02852 United States;X-APPLE-RADIUS=500;X-TITLE=730 South County Trail:geo:-71.5189401,41.5556183
END:VEVENT
BEGIN:VEVENT
DTSTART;TZID=America/New_York:20250427T113000
DTEND;TZID=America/New_York:20250427T130000
DTSTAMP:20260424T120746
CREATED:20241227T152323Z
LAST-MODIFIED:20241227T152331Z
UID:10007073-1745753400-1745758800@lhcc.info
SUMMARY:Monthly Fellowship Lunch
DESCRIPTION:The last Sunday of every month immediately after our 10am service we share a “pot-blessing” style lunch together\, so please bring a dish or dessert to share and stay to fellowship with your church family!
URL:https://lhcc.info/event/monthly-fellowship-lunch-15/2025-04-27/
LOCATION:Living Hope Christian Church\, 730 South County Trail\, North Kingstown\, RI\, 02852\, United States
CATEGORIES:Church Events
ATTACH;FMTTYPE=image/png:https://lhcc.info/wp-content/uploads/2024/12/fellowship-lunch.png
GEO:41.5556183;-71.5189401
X-APPLE-STRUCTURED-LOCATION;VALUE=URI;X-ADDRESS=Living Hope Christian Church 730 South County Trail North Kingstown RI 02852 United States;X-APPLE-RADIUS=500;X-TITLE=730 South County Trail:geo:-71.5189401,41.5556183
END:VEVENT
END:VCALENDAR